BEGIN:VCALENDAR
VERSION:2.0
PRODID:-//Bellaire Public Library - ECPv6.15.20//NONSGML v1.0//EN
CALSCALE:GREGORIAN
METHOD:PUBLISH
X-ORIGINAL-URL:https://bellairepubliclibrary.org
X-WR-CALDESC:Events for Bellaire Public Library
REFRESH-INTERVAL;VALUE=DURATION:PT1H
X-Robots-Tag:noindex
X-PUBLISHED-TTL:PT1H
BEGIN:VTIMEZONE
TZID:America/New_York
BEGIN:DAYLIGHT
TZOFFSETFROM:-0500
TZOFFSETTO:-0400
TZNAME:EDT
DTSTART:20240310T070000
END:DAYLIGHT
BEGIN:STANDARD
TZOFFSETFROM:-0400
TZOFFSETTO:-0500
TZNAME:EST
DTSTART:20241103T060000
END:STANDARD
BEGIN:DAYLIGHT
TZOFFSETFROM:-0500
TZOFFSETTO:-0400
TZNAME:EDT
DTSTART:20250309T070000
END:DAYLIGHT
BEGIN:STANDARD
TZOFFSETFROM:-0400
TZOFFSETTO:-0500
TZNAME:EST
DTSTART:20251102T060000
END:STANDARD
BEGIN:DAYLIGHT
TZOFFSETFROM:-0500
TZOFFSETTO:-0400
TZNAME:EDT
DTSTART:20260308T070000
END:DAYLIGHT
BEGIN:STANDARD
TZOFFSETFROM:-0400
TZOFFSETTO:-0500
TZNAME:EST
DTSTART:20261101T060000
END:STANDARD
END:VTIMEZONE
BEGIN:VEVENT
DTSTART;TZID=America/New_York:20251003T103000
DTEND;TZID=America/New_York:20251003T110000
DTSTAMP:20260423T082735
CREATED:20250731T165927Z
LAST-MODIFIED:20250731T165927Z
UID:10001897-1759487400-1759489200@bellairepubliclibrary.org
SUMMARY:Fall Lil' Bookworms Story Time and Craft
DESCRIPTION:Story Time returns in 2025 for our fall schedule on Sept. 18 & 19! BPL’s Lil’ Bookworm Story Times and Craft are designed for children ages 3 through pre-K\, though all ages are welcome. These programs typically run about half an hour. Join Miss Bri for a story\, a craft\, and lots of fun this winter on Thursday evenings at 5:00 pm and Friday mornings at 10:30 am. \n➤ Download a brochure for our September and October Story Times!\n➤ Download a brochure for our November and December Story Times! \nFALL 2025 SCHEDULE:
URL:https://bellairepubliclibrary.org/event/fall-lil-bookworms-story-time-and-craft-2/2025-10-03/
LOCATION:Bellaire Public Library\, 330 32nd Street\, Bellaire\, OH\, 43906\, United States
CATEGORIES:Children's Program
ATTACH;FMTTYPE=image/png:https://bellairepubliclibrary.org/wp-content/uploads/2025/07/LBW_Fall.png
END:VEVENT
BEGIN:VEVENT
DTSTART;TZID=America/New_York:20251003T190000
DTEND;TZID=America/New_York:20251003T210000
DTSTAMP:20260423T082735
CREATED:20250905T151403Z
LAST-MODIFIED:20250926T184024Z
UID:10002011-1759518000-1759525200@bellairepubliclibrary.org
SUMMARY:BHS Thespians: An Evening of Comedy One-Acts
DESCRIPTION:The Bellaire High School Thespians will present an evening of comedy one-act plays in the Bellaire Public Library’s Activity Room two nights this fall. Public performances will be held on Thursday\, October 3\, and Friday\, October 3. Both performances will start at 7 pm. \nA $10 admission fee will be charged to help raise funds for the BHS Thespians. \nBHS Thespians Present: An Evening of Comedy – One Acts: \n\nAudience\nHard Candy\nSchubert’s Last Serenade\nDate With Death\nThe Legend of Sagenfeld\n\n\n*NOTE: This program is put on by the BHS Thespians and is not a library-sponsored event.
URL:https://bellairepubliclibrary.org/event/bhs-thespians-an-evening-of-comedy-one-acts/2025-10-03/
LOCATION:Bellaire Public Library\, 330 32nd Street\, Bellaire\, OH\, 43906\, United States
CATEGORIES:Non-Library Event
ATTACH;FMTTYPE=image/png:https://bellairepubliclibrary.org/wp-content/uploads/2023/09/BPL-Events_BHSThespians.png
END:VEVENT
END:VCALENDAR