BEGIN:VCALENDAR
VERSION:2.0
PRODID:-//Bellaire Public Library - ECPv6.15.20//NONSGML v1.0//EN
CALSCALE:GREGORIAN
METHOD:PUBLISH
X-WR-CALNAME:Bellaire Public Library
X-ORIGINAL-URL:https://bellairepubliclibrary.org
X-WR-CALDESC:Events for Bellaire Public Library
REFRESH-INTERVAL;VALUE=DURATION:PT1H
X-Robots-Tag:noindex
X-PUBLISHED-TTL:PT1H
BEGIN:VTIMEZONE
TZID:America/New_York
BEGIN:DAYLIGHT
TZOFFSETFROM:-0500
TZOFFSETTO:-0400
TZNAME:EDT
DTSTART:20240310T070000
END:DAYLIGHT
BEGIN:STANDARD
TZOFFSETFROM:-0400
TZOFFSETTO:-0500
TZNAME:EST
DTSTART:20241103T060000
END:STANDARD
BEGIN:DAYLIGHT
TZOFFSETFROM:-0500
TZOFFSETTO:-0400
TZNAME:EDT
DTSTART:20250309T070000
END:DAYLIGHT
BEGIN:STANDARD
TZOFFSETFROM:-0400
TZOFFSETTO:-0500
TZNAME:EST
DTSTART:20251102T060000
END:STANDARD
BEGIN:DAYLIGHT
TZOFFSETFROM:-0500
TZOFFSETTO:-0400
TZNAME:EDT
DTSTART:20260308T070000
END:DAYLIGHT
BEGIN:STANDARD
TZOFFSETFROM:-0400
TZOFFSETTO:-0500
TZNAME:EST
DTSTART:20261101T060000
END:STANDARD
END:VTIMEZONE
BEGIN:VEVENT
DTSTART;TZID=America/New_York:20251010T100000
DTEND;TZID=America/New_York:20251010T110000
DTSTAMP:20260423T082602
CREATED:20251008T235603Z
LAST-MODIFIED:20251008T235603Z
UID:10002018-1760090400-1760094000@bellairepubliclibrary.org
SUMMARY:Special Board Meeting
DESCRIPTION:The Bellaire Public Library Board of Trustees will hold a special meeting on Friday\, October 10\, 2025\, at 6:00 pm in the Table Room on the lower level of the Library.
URL:https://bellairepubliclibrary.org/event/special-board-meeting-4/
LOCATION:OH
CATEGORIES:Meetings
ATTACH;FMTTYPE=image/jpeg:https://bellairepubliclibrary.org/wp-content/uploads/2023/07/BPL-Events_BoardMtg2.jpg
END:VEVENT
BEGIN:VEVENT
DTSTART;TZID=America/New_York:20251010T103000
DTEND;TZID=America/New_York:20251010T110000
DTSTAMP:20260423T082602
CREATED:20250731T165927Z
LAST-MODIFIED:20250731T165927Z
UID:10001898-1760092200-1760094000@bellairepubliclibrary.org
SUMMARY:Fall Lil' Bookworms Story Time and Craft
DESCRIPTION:Story Time returns in 2025 for our fall schedule on Sept. 18 & 19! BPL’s Lil’ Bookworm Story Times and Craft are designed for children ages 3 through pre-K\, though all ages are welcome. These programs typically run about half an hour. Join Miss Bri for a story\, a craft\, and lots of fun this winter on Thursday evenings at 5:00 pm and Friday mornings at 10:30 am. \n➤ Download a brochure for our September and October Story Times!\n➤ Download a brochure for our November and December Story Times! \nFALL 2025 SCHEDULE:
URL:https://bellairepubliclibrary.org/event/fall-lil-bookworms-story-time-and-craft-2/2025-10-10/
LOCATION:Bellaire Public Library\, 330 32nd Street\, Bellaire\, OH\, 43906\, United States
CATEGORIES:Children's Program
ATTACH;FMTTYPE=image/png:https://bellairepubliclibrary.org/wp-content/uploads/2025/07/LBW_Fall.png
END:VEVENT
BEGIN:VEVENT
DTSTART;TZID=America/New_York:20251010T130000
DTEND;TZID=America/New_York:20251010T160000
DTSTAMP:20260423T082602
CREATED:20250915T153846Z
LAST-MODIFIED:20251014T205257Z
UID:10002014-1760101200-1760112000@bellairepubliclibrary.org
SUMMARY:Local History Center & Bellaire Archives Grand Opening
DESCRIPTION:The public is cordially invited to the grand opening of the Bellaire Public Library Local History Center and Bellaire Room Archives! \nPlease join us on Friday\, October 10\, 2025\, from 1:00-4:00 p.m. for an open house. \nA dedication and ribbon-cutting ceremony will be held at 1:30 p.m. Following the dedication\, we will be giving tours of the new room and its contents. Historic exhibits will also be on display around the Library. Light snacks and refreshments will be provided\, and our community partners are invited to display a table in our Activity Room. \nThose in attendance will receive a ticket for a door prize raffle of a Bellaire history basket. \n \n \n–Image from the Nancy Robinson Frizzi Postcard collection of the Bellaire Public Library
URL:https://bellairepubliclibrary.org/event/local-history-center-bellaire-archives-grand-opening/
LOCATION:Bellaire Public Library\, 330 32nd Street\, Bellaire\, OH\, 43906\, United States
CATEGORIES:Adult Program
ATTACH;FMTTYPE=image/png:https://bellairepubliclibrary.org/wp-content/uploads/2025/09/Grand-Opening-Event-FI.png
END:VEVENT
END:VCALENDAR