BEGIN:VCALENDAR
VERSION:2.0
PRODID:-//Bellaire Public Library - ECPv6.15.20//NONSGML v1.0//EN
CALSCALE:GREGORIAN
METHOD:PUBLISH
X-WR-CALNAME:Bellaire Public Library
X-ORIGINAL-URL:https://bellairepubliclibrary.org
X-WR-CALDESC:Events for Bellaire Public Library
REFRESH-INTERVAL;VALUE=DURATION:PT1H
X-Robots-Tag:noindex
X-PUBLISHED-TTL:PT1H
BEGIN:VTIMEZONE
TZID:America/New_York
BEGIN:DAYLIGHT
TZOFFSETFROM:-0500
TZOFFSETTO:-0400
TZNAME:EDT
DTSTART:20250309T070000
END:DAYLIGHT
BEGIN:STANDARD
TZOFFSETFROM:-0400
TZOFFSETTO:-0500
TZNAME:EST
DTSTART:20251102T060000
END:STANDARD
BEGIN:DAYLIGHT
TZOFFSETFROM:-0500
TZOFFSETTO:-0400
TZNAME:EDT
DTSTART:20260308T070000
END:DAYLIGHT
BEGIN:STANDARD
TZOFFSETFROM:-0400
TZOFFSETTO:-0500
TZNAME:EST
DTSTART:20261101T060000
END:STANDARD
BEGIN:DAYLIGHT
TZOFFSETFROM:-0500
TZOFFSETTO:-0400
TZNAME:EDT
DTSTART:20270314T070000
END:DAYLIGHT
BEGIN:STANDARD
TZOFFSETFROM:-0400
TZOFFSETTO:-0500
TZNAME:EST
DTSTART:20271107T060000
END:STANDARD
END:VTIMEZONE
BEGIN:VEVENT
DTSTART;TZID=America/New_York:20260112T150000
DTEND;TZID=America/New_York:20260112T160000
DTSTAMP:20260423T031113
CREATED:20251231T180831Z
LAST-MODIFIED:20260105T202107Z
UID:10002132-1768230000-1768233600@bellairepubliclibrary.org
SUMMARY:Afterschool Teen Programs
DESCRIPTION:Our Afterschool Teen Library Program offers a fun\, safe\, and welcoming space where teens in grades 6–12 can explore new interests\, build skills\, and connect with friends. Together with OSU Extension & 4‑H\, we’ve created a lineup of hands‑on\, curiosity‑sparked activities that empower teens to learn\, create\, and discover—all while having a great time.\n\nWhether they’re creating art\, raising chicks\, engineering indoor gardens\, or launching rockets\, teens can expect an exciting mix of learning and fun. We invite all teens to join us after school for engaging programs\, new friendships\, and a place to feel inspired!\n\n\n\n\nEach month features a different themed program: \n\nJanuary 12th at 3:00 pm: ❄️ Snow Art – A creative winter workshop where teens experiment with artistic techniques to make unique snow‑inspired creations.\nFebruary 10th & 24th at 3:00 pm: 🐣 ChickQuest – A deep dive into biology and agriculture as teens explore the full lifecycle of chickens and learn the science behind avian development.\nMarch 9th & 23rd at 3:00 pm: 🌿 Indoor Garden Creators – A blend of creativity\, sustainability\, and plant science as teens build and care for their own indoor gardens.\nApril 7th & 21st at 3:00 pm: 💧 Hydroponics for Teens – An introduction to soil‑less gardening that teaches sustainable agriculture and hands‑on growing techniques.\nMay 11th at 3:00 pm: 🦋 Butterfly Conservation – Teens learn about butterflies\, their ecosystems\, and how to support local conservation efforts.\n☀️ 🚀 Summer Day Camps – Two exciting day-long summer experiences:\n\nSolar Energy Day Camp (June 24)\nRocketry Day Camp (July 21)\nEach camp offers interactive workshops that ignite a passion for science and technology.
URL:https://bellairepubliclibrary.org/event/afterschool-teen-programs/2026-01-12/
LOCATION:Bellaire Public Library\, 330 32nd Street\, Bellaire\, OH\, 43906\, United States
CATEGORIES:Teen Program
ATTACH;FMTTYPE=image/png:https://bellairepubliclibrary.org/wp-content/uploads/2025/12/Afterschool-Teen-Program-logo.png
END:VEVENT
BEGIN:VEVENT
DTSTART;TZID=America/New_York:20260112T180000
DTEND;TZID=America/New_York:20260112T190000
DTSTAMP:20260423T031113
CREATED:20250731T182454Z
LAST-MODIFIED:20260202T162158Z
UID:10002028-1768240800-1768244400@bellairepubliclibrary.org
SUMMARY:Cardio Drumming
DESCRIPTION:Cardio drumming is a high-energy workout that combines rhythmic drumming with full-body movements to upbeat music. Using a stability ball\, drumsticks\, and a bucket\, participants drum\, dance\, and sweat their way through a heart-pumping routine that’s as fun as it is effective. It’s a great way to burn calories\, boost coordination\, and relieve stress—all while feeling like a rockstar! No experience needed and great for all fitness levels!  \nCardio Drumming classes will be led by Nicole Smolenak on MONDAY nights at 6 pm. Starting in December\, the cardio drumming classes will be on Monday nights. \nNote: The Library has six cardio drumming kits available for people new to cardio drumming to test out\, but regular participants are encouraged to bring their own gear. \nWhat do you need to get started cardio drumming?\n\nA large inflated exercise ball\nA large bucket or basket to hold the ball (the opening should be just slightly smaller than the circumference of the ball so that the ball is suspended in the basket/bucket).\nDrumsticks\nEnthusiasm!\n\nThat’s it! Cardio drumming takes minimal supplies and a kit can usually be assembled for around $25-30. \nWhat it’s look like?\nHow much fun is this? You know you want to try it!
URL:https://bellairepubliclibrary.org/event/cardio-drumming-teens-adults-3-3/2026-01-12/
LOCATION:Bellaire Public Library\, 330 32nd Street\, Bellaire\, OH\, 43906\, United States
CATEGORIES:Adult Program
ATTACH;FMTTYPE=image/png:https://bellairepubliclibrary.org/wp-content/uploads/2025/07/Cardio-Drumming-Web.png
END:VEVENT
END:VCALENDAR