BEGIN:VCALENDAR
VERSION:2.0
PRODID:-//Bellaire Public Library - ECPv6.15.20//NONSGML v1.0//EN
CALSCALE:GREGORIAN
METHOD:PUBLISH
X-WR-CALNAME:Bellaire Public Library
X-ORIGINAL-URL:https://bellairepubliclibrary.org
X-WR-CALDESC:Events for Bellaire Public Library
REFRESH-INTERVAL;VALUE=DURATION:PT1H
X-Robots-Tag:noindex
X-PUBLISHED-TTL:PT1H
BEGIN:VTIMEZONE
TZID:America/New_York
BEGIN:DAYLIGHT
TZOFFSETFROM:-0500
TZOFFSETTO:-0400
TZNAME:EDT
DTSTART:20250309T070000
END:DAYLIGHT
BEGIN:STANDARD
TZOFFSETFROM:-0400
TZOFFSETTO:-0500
TZNAME:EST
DTSTART:20251102T060000
END:STANDARD
BEGIN:DAYLIGHT
TZOFFSETFROM:-0500
TZOFFSETTO:-0400
TZNAME:EDT
DTSTART:20260308T070000
END:DAYLIGHT
BEGIN:STANDARD
TZOFFSETFROM:-0400
TZOFFSETTO:-0500
TZNAME:EST
DTSTART:20261101T060000
END:STANDARD
BEGIN:DAYLIGHT
TZOFFSETFROM:-0500
TZOFFSETTO:-0400
TZNAME:EDT
DTSTART:20270314T070000
END:DAYLIGHT
BEGIN:STANDARD
TZOFFSETFROM:-0400
TZOFFSETTO:-0500
TZNAME:EST
DTSTART:20271107T060000
END:STANDARD
END:VTIMEZONE
BEGIN:VEVENT
DTSTART;TZID=America/New_York:20260127T160000
DTEND;TZID=America/New_York:20260127T170000
DTSTAMP:20260423T031113
CREATED:20250905T175514Z
LAST-MODIFIED:20260105T200747Z
UID:10001996-1769529600-1769533200@bellairepubliclibrary.org
SUMMARY:Bright Minds Book Club
DESCRIPTION:The Bright Minds Book Club is a little different than your standard book club. Instead of picking a single book that everyone reads together\, we will announce a theme\, and students in grades 1-8 can select a book related to that theme to read. On the last Tuesday of each month\, we will meet for a discussion about that topic and how the books everyone chose relate to it. Each month\, we will also engage in a craft or activity at the book club that reflects the theme. Miss Bri will lead the monthly discussion for the younger kids and Mr. Chad will lead the conversation with the older students. \nBright Minds Book Club Winter Schedule:\nJanuary 2026:\n\nTheme: Winter\nBook Club Date: Tuesday\, January 27 at 4:00 pm\nBook Club Activity: Blizzard in a jar\n\nFebruary 2026:\n\nTheme: Red\nBook Club Date: Tuesday\, February 24 at 4:00 pm\nBook Club Activity: Candy Hearts\n\nMarch 2026:\n\nTheme: Green\nBook Club Date: Tuesday\, March 31 at 4:00 pm\nBook Club Activity: Grow a Rainbow\n\nApril 2026:\n\nTheme: Spring\nBook Club Date: Tuesday\, April 28 at 4:00 pm\nBook Club Activity: Save Fred the Worm
URL:https://bellairepubliclibrary.org/event/bright-minds-book-club-2/2026-01-27/
LOCATION:Bellaire Public Library\, 330 32nd Street\, Bellaire\, OH\, 43906\, United States
CATEGORIES:Children's Program
ATTACH;FMTTYPE=image/png:https://bellairepubliclibrary.org/wp-content/uploads/2025/09/BrightMindsBookClub_web-FI.png
END:VEVENT
BEGIN:VEVENT
DTSTART;TZID=America/New_York:20260127T164500
DTEND;TZID=America/New_York:20260127T210000
DTSTAMP:20260423T031113
CREATED:20260127T195040Z
LAST-MODIFIED:20260129T194409Z
UID:10000162-1769532300-1769547600@bellairepubliclibrary.org
SUMMARY:Ohio Valley Promenaders on Jan 27 Due to Cold
DESCRIPTION:TONIGHT’S JAN. 27 EVENT CANCELLED DUE TO COLD WEATHER! \nThe Ohio Valley Promenaders offer line dance and square dance lessons on Tuesdays in the Community Room on the lower level of the Bellaire Public Library. The lessons are open to all ages. While many of the Promenaders are seasoned pros\, the group is always accepting new members and the first lesson is free! Newcomers can jump in quickly\, as square dancing is based on walking to eight counts\, and the caller leads dancers on what to do in a “learn as you go” fashion. \nPromenaders Schedule: \n\nLine Dance: Improvers — Tuesdays from 4:45 to 6:00 pm\nLine Dance: Beginners — Tuesdays from 6:00 to 7:00 pm\nSquare Dancers — Tuesdays from 7:00 to 9:00 pm\n\nThe cost per program is $5 to help cover expenses. \nThe OV Promenaders have been dancing since 1970! \n➤ For questions about square dancing\, call Nancy Campbell at 740-676-2136.\n➤ For questions about line dancing\, call Jenny Roupe at 304-280-5211. \n*NOTE: This is not a library-affiliated program. The Ohio Valley Promenaders group solely arranges the line dancing and square dancing lessons.
URL:https://bellairepubliclibrary.org/event/ohio-valley-promenaders-6-6-2/
LOCATION:Bellaire Public Library\, 330 32nd Street\, Bellaire\, OH\, 43906\, United States
CATEGORIES:Non-Library Event
ATTACH;FMTTYPE=image/png:https://bellairepubliclibrary.org/wp-content/uploads/2023/07/BPL-Events_OVP-Cancel.png
END:VEVENT
END:VCALENDAR