BEGIN:VCALENDAR
VERSION:2.0
PRODID:-//Bellaire Public Library - ECPv6.15.20//NONSGML v1.0//EN
CALSCALE:GREGORIAN
METHOD:PUBLISH
X-ORIGINAL-URL:https://bellairepubliclibrary.org
X-WR-CALDESC:Events for Bellaire Public Library
REFRESH-INTERVAL;VALUE=DURATION:PT1H
X-Robots-Tag:noindex
X-PUBLISHED-TTL:PT1H
BEGIN:VTIMEZONE
TZID:America/New_York
BEGIN:DAYLIGHT
TZOFFSETFROM:-0500
TZOFFSETTO:-0400
TZNAME:EDT
DTSTART:20240310T070000
END:DAYLIGHT
BEGIN:STANDARD
TZOFFSETFROM:-0400
TZOFFSETTO:-0500
TZNAME:EST
DTSTART:20241103T060000
END:STANDARD
BEGIN:DAYLIGHT
TZOFFSETFROM:-0500
TZOFFSETTO:-0400
TZNAME:EDT
DTSTART:20250309T070000
END:DAYLIGHT
BEGIN:STANDARD
TZOFFSETFROM:-0400
TZOFFSETTO:-0500
TZNAME:EST
DTSTART:20251102T060000
END:STANDARD
BEGIN:DAYLIGHT
TZOFFSETFROM:-0500
TZOFFSETTO:-0400
TZNAME:EDT
DTSTART:20260308T070000
END:DAYLIGHT
BEGIN:STANDARD
TZOFFSETFROM:-0400
TZOFFSETTO:-0500
TZNAME:EST
DTSTART:20261101T060000
END:STANDARD
END:VTIMEZONE
BEGIN:VEVENT
DTSTART;TZID=America/New_York:20251001T180000
DTEND;TZID=America/New_York:20251001T190000
DTSTAMP:20260423T063745
CREATED:20250930T205825Z
LAST-MODIFIED:20251015T183907Z
UID:10001916-1759341600-1759345200@bellairepubliclibrary.org
SUMMARY:Cardio Drumming - Oct. 1 Class Cancelled
DESCRIPTION:Sorry\, everyone—due to unforeseen circumstances\, the October 1st Cardio Drumming program is cancelled. Classes will resume the following Wednesday\, on October 8th. \n\nCardio drumming is a high-energy \nCardio Drumming classes will be led by Nicole Smolenak on Wednesday nights at 6 pm. \nNote: The Library has six cardio drumming kits available for people new to cardio drumming to test out\, but regular participants are encouraged to bring their own gear. \nWhat do you need to get started cardio drumming?\n\nA large inflated exercise ball\nA large bucket or basket to hold the ball (the opening should be just slightly smaller than the circumference of the ball so that the ball is suspended in the basket/bucket).\nDrumsticks\nEnthusiasm!\n\nThat’s it! Cardio drumming takes minimal supplies and a kit can usually be assembled for around $25-30. \nWhat it’s look like?\nHow much fun is this? You know you want to try it!
URL:https://bellairepubliclibrary.org/event/cardio-drumming-teens-adults-3-2/
LOCATION:Bellaire Public Library\, 330 32nd Street\, Bellaire\, OH\, 43906\, United States
CATEGORIES:Adult Program
ATTACH;FMTTYPE=image/webp:https://bellairepubliclibrary.org/wp-content/uploads/2025/09/Cardio-Drumming-Canceled_20251001.webp
END:VEVENT
BEGIN:VEVENT
DTSTART;TZID=America/New_York:20251008T180000
DTEND;TZID=America/New_York:20251008T190000
DTSTAMP:20260423T063745
CREATED:20250731T180715Z
LAST-MODIFIED:20250903T164920Z
UID:10001917-1759946400-1759950000@bellairepubliclibrary.org
SUMMARY:Cardio Drumming
DESCRIPTION:Cardio drumming is a high-energy workout that combines rhythmic drumming with full-body movements to upbeat music. Using a stability ball\, drumsticks\, and a bucket\, participants drum\, dance\, and sweat their way through a heart-pumping routine that’s as fun as it is effective. It’s a great way to burn calories\, boost coordination\, and relieve stress—all while feeling like a rockstar! No experience needed and great for all fitness levels!  \nCardio Drumming classes will be led by Nicole Smolenak on Wednesday nights at 6 pm. \nNote: The Library has six cardio drumming kits available for people new to cardio drumming to test out\, but regular participants are encouraged to bring their own gear. \nWhat do you need to get started cardio drumming?\n\nA large inflated exercise ball\nA large bucket or basket to hold the ball (the opening should be just slightly smaller than the circumference of the ball so that the ball is suspended in the basket/bucket).\nDrumsticks\nEnthusiasm!\n\nThat’s it! Cardio drumming takes minimal supplies and a kit can usually be assembled for around $25-30. \nWhat it’s look like?\nHow much fun is this? You know you want to try it!
URL:https://bellairepubliclibrary.org/event/cardio-drumming-teens-adults-3/2025-10-08/
LOCATION:Bellaire Public Library\, 330 32nd Street\, Bellaire\, OH\, 43906\, United States
CATEGORIES:Adult Program
ATTACH;FMTTYPE=image/png:https://bellairepubliclibrary.org/wp-content/uploads/2025/07/Cardio-Drumming-Web.png
END:VEVENT
BEGIN:VEVENT
DTSTART;TZID=America/New_York:20251010T130000
DTEND;TZID=America/New_York:20251010T160000
DTSTAMP:20260423T063745
CREATED:20250915T153846Z
LAST-MODIFIED:20251014T205257Z
UID:10002014-1760101200-1760112000@bellairepubliclibrary.org
SUMMARY:Local History Center & Bellaire Archives Grand Opening
DESCRIPTION:The public is cordially invited to the grand opening of the Bellaire Public Library Local History Center and Bellaire Room Archives! \nPlease join us on Friday\, October 10\, 2025\, from 1:00-4:00 p.m. for an open house. \nA dedication and ribbon-cutting ceremony will be held at 1:30 p.m. Following the dedication\, we will be giving tours of the new room and its contents. Historic exhibits will also be on display around the Library. Light snacks and refreshments will be provided\, and our community partners are invited to display a table in our Activity Room. \nThose in attendance will receive a ticket for a door prize raffle of a Bellaire history basket. \n \n \n–Image from the Nancy Robinson Frizzi Postcard collection of the Bellaire Public Library
URL:https://bellairepubliclibrary.org/event/local-history-center-bellaire-archives-grand-opening/
LOCATION:Bellaire Public Library\, 330 32nd Street\, Bellaire\, OH\, 43906\, United States
CATEGORIES:Adult Program
ATTACH;FMTTYPE=image/png:https://bellairepubliclibrary.org/wp-content/uploads/2025/09/Grand-Opening-Event-FI.png
END:VEVENT
BEGIN:VEVENT
DTSTART;TZID=America/New_York:20251015T180000
DTEND;TZID=America/New_York:20251015T190000
DTSTAMP:20260423T063745
CREATED:20250731T180715Z
LAST-MODIFIED:20250903T164920Z
UID:10001918-1760551200-1760554800@bellairepubliclibrary.org
SUMMARY:Cardio Drumming
DESCRIPTION:Cardio drumming is a high-energy workout that combines rhythmic drumming with full-body movements to upbeat music. Using a stability ball\, drumsticks\, and a bucket\, participants drum\, dance\, and sweat their way through a heart-pumping routine that’s as fun as it is effective. It’s a great way to burn calories\, boost coordination\, and relieve stress—all while feeling like a rockstar! No experience needed and great for all fitness levels!  \nCardio Drumming classes will be led by Nicole Smolenak on Wednesday nights at 6 pm. \nNote: The Library has six cardio drumming kits available for people new to cardio drumming to test out\, but regular participants are encouraged to bring their own gear. \nWhat do you need to get started cardio drumming?\n\nA large inflated exercise ball\nA large bucket or basket to hold the ball (the opening should be just slightly smaller than the circumference of the ball so that the ball is suspended in the basket/bucket).\nDrumsticks\nEnthusiasm!\n\nThat’s it! Cardio drumming takes minimal supplies and a kit can usually be assembled for around $25-30. \nWhat it’s look like?\nHow much fun is this? You know you want to try it!
URL:https://bellairepubliclibrary.org/event/cardio-drumming-teens-adults-3/2025-10-15/
LOCATION:Bellaire Public Library\, 330 32nd Street\, Bellaire\, OH\, 43906\, United States
CATEGORIES:Adult Program
ATTACH;FMTTYPE=image/png:https://bellairepubliclibrary.org/wp-content/uploads/2025/07/Cardio-Drumming-Web.png
END:VEVENT
BEGIN:VEVENT
DTSTART;TZID=America/New_York:20251022T180000
DTEND;TZID=America/New_York:20251022T190000
DTSTAMP:20260423T063745
CREATED:20250731T180715Z
LAST-MODIFIED:20250903T164920Z
UID:10001919-1761156000-1761159600@bellairepubliclibrary.org
SUMMARY:Cardio Drumming
DESCRIPTION:Cardio drumming is a high-energy workout that combines rhythmic drumming with full-body movements to upbeat music. Using a stability ball\, drumsticks\, and a bucket\, participants drum\, dance\, and sweat their way through a heart-pumping routine that’s as fun as it is effective. It’s a great way to burn calories\, boost coordination\, and relieve stress—all while feeling like a rockstar! No experience needed and great for all fitness levels!  \nCardio Drumming classes will be led by Nicole Smolenak on Wednesday nights at 6 pm. \nNote: The Library has six cardio drumming kits available for people new to cardio drumming to test out\, but regular participants are encouraged to bring their own gear. \nWhat do you need to get started cardio drumming?\n\nA large inflated exercise ball\nA large bucket or basket to hold the ball (the opening should be just slightly smaller than the circumference of the ball so that the ball is suspended in the basket/bucket).\nDrumsticks\nEnthusiasm!\n\nThat’s it! Cardio drumming takes minimal supplies and a kit can usually be assembled for around $25-30. \nWhat it’s look like?\nHow much fun is this? You know you want to try it!
URL:https://bellairepubliclibrary.org/event/cardio-drumming-teens-adults-3/2025-10-22/
LOCATION:Bellaire Public Library\, 330 32nd Street\, Bellaire\, OH\, 43906\, United States
CATEGORIES:Adult Program
ATTACH;FMTTYPE=image/png:https://bellairepubliclibrary.org/wp-content/uploads/2025/07/Cardio-Drumming-Web.png
END:VEVENT
BEGIN:VEVENT
DTSTART;TZID=America/New_York:20251029T180000
DTEND;TZID=America/New_York:20251029T190000
DTSTAMP:20260423T063745
CREATED:20250731T180715Z
LAST-MODIFIED:20250903T164920Z
UID:10001920-1761760800-1761764400@bellairepubliclibrary.org
SUMMARY:Cardio Drumming
DESCRIPTION:Cardio drumming is a high-energy workout that combines rhythmic drumming with full-body movements to upbeat music. Using a stability ball\, drumsticks\, and a bucket\, participants drum\, dance\, and sweat their way through a heart-pumping routine that’s as fun as it is effective. It’s a great way to burn calories\, boost coordination\, and relieve stress—all while feeling like a rockstar! No experience needed and great for all fitness levels!  \nCardio Drumming classes will be led by Nicole Smolenak on Wednesday nights at 6 pm. \nNote: The Library has six cardio drumming kits available for people new to cardio drumming to test out\, but regular participants are encouraged to bring their own gear. \nWhat do you need to get started cardio drumming?\n\nA large inflated exercise ball\nA large bucket or basket to hold the ball (the opening should be just slightly smaller than the circumference of the ball so that the ball is suspended in the basket/bucket).\nDrumsticks\nEnthusiasm!\n\nThat’s it! Cardio drumming takes minimal supplies and a kit can usually be assembled for around $25-30. \nWhat it’s look like?\nHow much fun is this? You know you want to try it!
URL:https://bellairepubliclibrary.org/event/cardio-drumming-teens-adults-3/2025-10-29/
LOCATION:Bellaire Public Library\, 330 32nd Street\, Bellaire\, OH\, 43906\, United States
CATEGORIES:Adult Program
ATTACH;FMTTYPE=image/png:https://bellairepubliclibrary.org/wp-content/uploads/2025/07/Cardio-Drumming-Web.png
END:VEVENT
END:VCALENDAR