BEGIN:VCALENDAR
VERSION:2.0
PRODID:-//Bellaire Public Library - ECPv6.15.20//NONSGML v1.0//EN
CALSCALE:GREGORIAN
METHOD:PUBLISH
X-WR-CALNAME:Bellaire Public Library
X-ORIGINAL-URL:https://bellairepubliclibrary.org
X-WR-CALDESC:Events for Bellaire Public Library
REFRESH-INTERVAL;VALUE=DURATION:PT1H
X-Robots-Tag:noindex
X-PUBLISHED-TTL:PT1H
BEGIN:VTIMEZONE
TZID:America/New_York
BEGIN:DAYLIGHT
TZOFFSETFROM:-0500
TZOFFSETTO:-0400
TZNAME:EDT
DTSTART:20250309T070000
END:DAYLIGHT
BEGIN:STANDARD
TZOFFSETFROM:-0400
TZOFFSETTO:-0500
TZNAME:EST
DTSTART:20251102T060000
END:STANDARD
BEGIN:DAYLIGHT
TZOFFSETFROM:-0500
TZOFFSETTO:-0400
TZNAME:EDT
DTSTART:20260308T070000
END:DAYLIGHT
BEGIN:STANDARD
TZOFFSETFROM:-0400
TZOFFSETTO:-0500
TZNAME:EST
DTSTART:20261101T060000
END:STANDARD
BEGIN:DAYLIGHT
TZOFFSETFROM:-0500
TZOFFSETTO:-0400
TZNAME:EDT
DTSTART:20270314T070000
END:DAYLIGHT
BEGIN:STANDARD
TZOFFSETFROM:-0400
TZOFFSETTO:-0500
TZNAME:EST
DTSTART:20271107T060000
END:STANDARD
END:VTIMEZONE
BEGIN:VEVENT
DTSTART;TZID=America/New_York:20260302T180000
DTEND;TZID=America/New_York:20260302T190000
DTSTAMP:20260422T220253
CREATED:20250731T182454Z
LAST-MODIFIED:20260202T162158Z
UID:10002035-1772474400-1772478000@bellairepubliclibrary.org
SUMMARY:Cardio Drumming
DESCRIPTION:Cardio drumming is a high-energy workout that combines rhythmic drumming with full-body movements to upbeat music. Using a stability ball\, drumsticks\, and a bucket\, participants drum\, dance\, and sweat their way through a heart-pumping routine that’s as fun as it is effective. It’s a great way to burn calories\, boost coordination\, and relieve stress—all while feeling like a rockstar! No experience needed and great for all fitness levels!  \nCardio Drumming classes will be led by Nicole Smolenak on MONDAY nights at 6 pm. Starting in December\, the cardio drumming classes will be on Monday nights. \nNote: The Library has six cardio drumming kits available for people new to cardio drumming to test out\, but regular participants are encouraged to bring their own gear. \nWhat do you need to get started cardio drumming?\n\nA large inflated exercise ball\nA large bucket or basket to hold the ball (the opening should be just slightly smaller than the circumference of the ball so that the ball is suspended in the basket/bucket).\nDrumsticks\nEnthusiasm!\n\nThat’s it! Cardio drumming takes minimal supplies and a kit can usually be assembled for around $25-30. \nWhat it’s look like?\nHow much fun is this? You know you want to try it!
URL:https://bellairepubliclibrary.org/event/cardio-drumming-teens-adults-3-3/2026-03-02/
LOCATION:Bellaire Public Library\, 330 32nd Street\, Bellaire\, OH\, 43906\, United States
CATEGORIES:Adult Program
ATTACH;FMTTYPE=image/png:https://bellairepubliclibrary.org/wp-content/uploads/2025/07/Cardio-Drumming-Web.png
END:VEVENT
BEGIN:VEVENT
DTSTART;TZID=America/New_York:20260304T180000
DTEND;TZID=America/New_York:20260304T190000
DTSTAMP:20260422T220253
CREATED:20260106T161736Z
LAST-MODIFIED:20260204T175115Z
UID:10002154-1772647200-1772650800@bellairepubliclibrary.org
SUMMARY:Winter Lecture Series
DESCRIPTION:Discover\, Learn\, and Be Inspired This Winter! \n\nJoin us for the Bellaire Public Library’s Winter Lecture Series\, where history\, culture\, and fascinating stories come to life. Each lecture offers an engaging presentation by experts and authors who share insights that will spark your curiosity and deepen your understanding of the Valley and world around you. \nAs you enjoy these thought-provoking talks\, take in the stunning view of the Great Stone Viaduct\, a historic landmark that stands as a testament to our region’s rich heritage. It’s the perfect backdrop for an evening of learning and connection. Come for the knowledge\, stay for the connection—because history is best experienced together! \n\nJoin us on Wednesday evenings at 6:00 PM in the Library’s Community Room throughout February and March for engaging presentations on fascinating topics that celebrate our region’s rich past and vibrant culture. Best of all\, these programs are free and open to the public.\n2026 Schedule\n\nPresenters to be announced soon.\n\nWednesday\, February 4 at 6:00 pm\nWednesday\, February 11 at 6:00 pm\nWednesday\, February 18 at 6:00 pm\nWednesday\, February 25 at 6:00 pm\nWednesday\, March 4 at 6:00 pm\nWednesday\, March 11 at 6:00 pm\nWednesday\, March 18 at 6:00 pm\nWednesday\, March 25 at 6:00 pm
URL:https://bellairepubliclibrary.org/event/winter-lecture-series/2026-03-04/
LOCATION:Bellaire Public Library\, 330 32nd Street\, Bellaire\, OH\, 43906\, United States
CATEGORIES:Adult Program
ATTACH;FMTTYPE=image/png:https://bellairepubliclibrary.org/wp-content/uploads/2025/01/BPL-Events_GSVWLS.png
END:VEVENT
BEGIN:VEVENT
DTSTART;TZID=America/New_York:20260309T180000
DTEND;TZID=America/New_York:20260309T190000
DTSTAMP:20260422T220253
CREATED:20250731T182454Z
LAST-MODIFIED:20260202T162158Z
UID:10002036-1773079200-1773082800@bellairepubliclibrary.org
SUMMARY:Cardio Drumming
DESCRIPTION:Cardio drumming is a high-energy workout that combines rhythmic drumming with full-body movements to upbeat music. Using a stability ball\, drumsticks\, and a bucket\, participants drum\, dance\, and sweat their way through a heart-pumping routine that’s as fun as it is effective. It’s a great way to burn calories\, boost coordination\, and relieve stress—all while feeling like a rockstar! No experience needed and great for all fitness levels!  \nCardio Drumming classes will be led by Nicole Smolenak on MONDAY nights at 6 pm. Starting in December\, the cardio drumming classes will be on Monday nights. \nNote: The Library has six cardio drumming kits available for people new to cardio drumming to test out\, but regular participants are encouraged to bring their own gear. \nWhat do you need to get started cardio drumming?\n\nA large inflated exercise ball\nA large bucket or basket to hold the ball (the opening should be just slightly smaller than the circumference of the ball so that the ball is suspended in the basket/bucket).\nDrumsticks\nEnthusiasm!\n\nThat’s it! Cardio drumming takes minimal supplies and a kit can usually be assembled for around $25-30. \nWhat it’s look like?\nHow much fun is this? You know you want to try it!
URL:https://bellairepubliclibrary.org/event/cardio-drumming-teens-adults-3-3/2026-03-09/
LOCATION:Bellaire Public Library\, 330 32nd Street\, Bellaire\, OH\, 43906\, United States
CATEGORIES:Adult Program
ATTACH;FMTTYPE=image/png:https://bellairepubliclibrary.org/wp-content/uploads/2025/07/Cardio-Drumming-Web.png
END:VEVENT
BEGIN:VEVENT
DTSTART;TZID=America/New_York:20260311T180000
DTEND;TZID=America/New_York:20260311T190000
DTSTAMP:20260422T220253
CREATED:20260106T161736Z
LAST-MODIFIED:20260204T175115Z
UID:10002155-1773252000-1773255600@bellairepubliclibrary.org
SUMMARY:Winter Lecture Series
DESCRIPTION:Discover\, Learn\, and Be Inspired This Winter! \n\nJoin us for the Bellaire Public Library’s Winter Lecture Series\, where history\, culture\, and fascinating stories come to life. Each lecture offers an engaging presentation by experts and authors who share insights that will spark your curiosity and deepen your understanding of the Valley and world around you. \nAs you enjoy these thought-provoking talks\, take in the stunning view of the Great Stone Viaduct\, a historic landmark that stands as a testament to our region’s rich heritage. It’s the perfect backdrop for an evening of learning and connection. Come for the knowledge\, stay for the connection—because history is best experienced together! \n\nJoin us on Wednesday evenings at 6:00 PM in the Library’s Community Room throughout February and March for engaging presentations on fascinating topics that celebrate our region’s rich past and vibrant culture. Best of all\, these programs are free and open to the public.\n2026 Schedule\n\nPresenters to be announced soon.\n\nWednesday\, February 4 at 6:00 pm\nWednesday\, February 11 at 6:00 pm\nWednesday\, February 18 at 6:00 pm\nWednesday\, February 25 at 6:00 pm\nWednesday\, March 4 at 6:00 pm\nWednesday\, March 11 at 6:00 pm\nWednesday\, March 18 at 6:00 pm\nWednesday\, March 25 at 6:00 pm
URL:https://bellairepubliclibrary.org/event/winter-lecture-series/2026-03-11/
LOCATION:Bellaire Public Library\, 330 32nd Street\, Bellaire\, OH\, 43906\, United States
CATEGORIES:Adult Program
ATTACH;FMTTYPE=image/png:https://bellairepubliclibrary.org/wp-content/uploads/2025/01/BPL-Events_GSVWLS.png
END:VEVENT
BEGIN:VEVENT
DTSTART;TZID=America/New_York:20260316T180000
DTEND;TZID=America/New_York:20260316T190000
DTSTAMP:20260422T220253
CREATED:20250731T182454Z
LAST-MODIFIED:20260202T162158Z
UID:10002037-1773684000-1773687600@bellairepubliclibrary.org
SUMMARY:Cardio Drumming
DESCRIPTION:Cardio drumming is a high-energy workout that combines rhythmic drumming with full-body movements to upbeat music. Using a stability ball\, drumsticks\, and a bucket\, participants drum\, dance\, and sweat their way through a heart-pumping routine that’s as fun as it is effective. It’s a great way to burn calories\, boost coordination\, and relieve stress—all while feeling like a rockstar! No experience needed and great for all fitness levels!  \nCardio Drumming classes will be led by Nicole Smolenak on MONDAY nights at 6 pm. Starting in December\, the cardio drumming classes will be on Monday nights. \nNote: The Library has six cardio drumming kits available for people new to cardio drumming to test out\, but regular participants are encouraged to bring their own gear. \nWhat do you need to get started cardio drumming?\n\nA large inflated exercise ball\nA large bucket or basket to hold the ball (the opening should be just slightly smaller than the circumference of the ball so that the ball is suspended in the basket/bucket).\nDrumsticks\nEnthusiasm!\n\nThat’s it! Cardio drumming takes minimal supplies and a kit can usually be assembled for around $25-30. \nWhat it’s look like?\nHow much fun is this? You know you want to try it!
URL:https://bellairepubliclibrary.org/event/cardio-drumming-teens-adults-3-3/2026-03-16/
LOCATION:Bellaire Public Library\, 330 32nd Street\, Bellaire\, OH\, 43906\, United States
CATEGORIES:Adult Program
ATTACH;FMTTYPE=image/png:https://bellairepubliclibrary.org/wp-content/uploads/2025/07/Cardio-Drumming-Web.png
END:VEVENT
BEGIN:VEVENT
DTSTART;TZID=America/New_York:20260318T180000
DTEND;TZID=America/New_York:20260318T190000
DTSTAMP:20260422T220253
CREATED:20260106T161736Z
LAST-MODIFIED:20260204T175115Z
UID:10002156-1773856800-1773860400@bellairepubliclibrary.org
SUMMARY:Winter Lecture Series
DESCRIPTION:Discover\, Learn\, and Be Inspired This Winter! \n\nJoin us for the Bellaire Public Library’s Winter Lecture Series\, where history\, culture\, and fascinating stories come to life. Each lecture offers an engaging presentation by experts and authors who share insights that will spark your curiosity and deepen your understanding of the Valley and world around you. \nAs you enjoy these thought-provoking talks\, take in the stunning view of the Great Stone Viaduct\, a historic landmark that stands as a testament to our region’s rich heritage. It’s the perfect backdrop for an evening of learning and connection. Come for the knowledge\, stay for the connection—because history is best experienced together! \n\nJoin us on Wednesday evenings at 6:00 PM in the Library’s Community Room throughout February and March for engaging presentations on fascinating topics that celebrate our region’s rich past and vibrant culture. Best of all\, these programs are free and open to the public.\n2026 Schedule\n\nPresenters to be announced soon.\n\nWednesday\, February 4 at 6:00 pm\nWednesday\, February 11 at 6:00 pm\nWednesday\, February 18 at 6:00 pm\nWednesday\, February 25 at 6:00 pm\nWednesday\, March 4 at 6:00 pm\nWednesday\, March 11 at 6:00 pm\nWednesday\, March 18 at 6:00 pm\nWednesday\, March 25 at 6:00 pm
URL:https://bellairepubliclibrary.org/event/winter-lecture-series/2026-03-18/
LOCATION:Bellaire Public Library\, 330 32nd Street\, Bellaire\, OH\, 43906\, United States
CATEGORIES:Adult Program
ATTACH;FMTTYPE=image/png:https://bellairepubliclibrary.org/wp-content/uploads/2025/01/BPL-Events_GSVWLS.png
END:VEVENT
BEGIN:VEVENT
DTSTART;TZID=America/New_York:20260323T180000
DTEND;TZID=America/New_York:20260323T190000
DTSTAMP:20260422T220253
CREATED:20250731T182454Z
LAST-MODIFIED:20260202T162158Z
UID:10002038-1774288800-1774292400@bellairepubliclibrary.org
SUMMARY:Cardio Drumming
DESCRIPTION:Cardio drumming is a high-energy workout that combines rhythmic drumming with full-body movements to upbeat music. Using a stability ball\, drumsticks\, and a bucket\, participants drum\, dance\, and sweat their way through a heart-pumping routine that’s as fun as it is effective. It’s a great way to burn calories\, boost coordination\, and relieve stress—all while feeling like a rockstar! No experience needed and great for all fitness levels!  \nCardio Drumming classes will be led by Nicole Smolenak on MONDAY nights at 6 pm. Starting in December\, the cardio drumming classes will be on Monday nights. \nNote: The Library has six cardio drumming kits available for people new to cardio drumming to test out\, but regular participants are encouraged to bring their own gear. \nWhat do you need to get started cardio drumming?\n\nA large inflated exercise ball\nA large bucket or basket to hold the ball (the opening should be just slightly smaller than the circumference of the ball so that the ball is suspended in the basket/bucket).\nDrumsticks\nEnthusiasm!\n\nThat’s it! Cardio drumming takes minimal supplies and a kit can usually be assembled for around $25-30. \nWhat it’s look like?\nHow much fun is this? You know you want to try it!
URL:https://bellairepubliclibrary.org/event/cardio-drumming-teens-adults-3-3/2026-03-23/
LOCATION:Bellaire Public Library\, 330 32nd Street\, Bellaire\, OH\, 43906\, United States
CATEGORIES:Adult Program
ATTACH;FMTTYPE=image/png:https://bellairepubliclibrary.org/wp-content/uploads/2025/07/Cardio-Drumming-Web.png
END:VEVENT
BEGIN:VEVENT
DTSTART;TZID=America/New_York:20260325T180000
DTEND;TZID=America/New_York:20260325T190000
DTSTAMP:20260422T220253
CREATED:20260204T175156Z
LAST-MODIFIED:20260414T161734Z
UID:10002157-1774461600-1774465200@bellairepubliclibrary.org
SUMMARY:Winter Lecture Series
DESCRIPTION:Discover\, Learn\, and Be Inspired This Winter! \n\nJoin us for the Bellaire Public Library’s Winter Lecture Series\, where history\, culture\, and fascinating stories come to life. Each lecture offers an engaging presentation by experts and authors who share insights that will spark your curiosity and deepen your understanding of the Valley and world around you. \nAs you enjoy these thought-provoking talks\, take in the stunning view of the Great Stone Viaduct\, a historic landmark that stands as a testament to our region’s rich heritage. It’s the perfect backdrop for an evening of learning and connection. Come for the knowledge\, stay for the connection—because history is best experienced together! \n\nJoin us on Wednesday evenings at 6:00 PM in the Library’s Community Room throughout February and March for engaging presentations on fascinating topics that celebrate our region’s rich past and vibrant culture. Best of all\, these programs are free and open to the public.\n2026 Schedule\n\nPresenters to be announced soon.\n\nWednesday\, February 4 at 6:00 pm\nWednesday\, February 11 at 6:00 pm\nWednesday\, February 18 at 6:00 pm\nWednesday\, February 25 at 6:00 pm\nWednesday\, March 4 at 6:00 pm\nWednesday\, March 11 at 6:00 pm\nWednesday\, March 18 at 6:00 pm\nWednesday\, March 25 at 6:00 pm
URL:https://bellairepubliclibrary.org/event/winter-lecture-series-2/
LOCATION:Bellaire Public Library\, 330 32nd Street\, Bellaire\, OH\, 43906\, United States
CATEGORIES:Adult Program
ATTACH;FMTTYPE=image/png:https://bellairepubliclibrary.org/wp-content/uploads/2025/01/BPL-Events_GSVWLS.png
END:VEVENT
BEGIN:VEVENT
DTSTART;TZID=America/New_York:20260330T180000
DTEND;TZID=America/New_York:20260330T190000
DTSTAMP:20260422T220253
CREATED:20250731T182454Z
LAST-MODIFIED:20260202T162158Z
UID:10002039-1774893600-1774897200@bellairepubliclibrary.org
SUMMARY:Cardio Drumming
DESCRIPTION:Cardio drumming is a high-energy workout that combines rhythmic drumming with full-body movements to upbeat music. Using a stability ball\, drumsticks\, and a bucket\, participants drum\, dance\, and sweat their way through a heart-pumping routine that’s as fun as it is effective. It’s a great way to burn calories\, boost coordination\, and relieve stress—all while feeling like a rockstar! No experience needed and great for all fitness levels!  \nCardio Drumming classes will be led by Nicole Smolenak on MONDAY nights at 6 pm. Starting in December\, the cardio drumming classes will be on Monday nights. \nNote: The Library has six cardio drumming kits available for people new to cardio drumming to test out\, but regular participants are encouraged to bring their own gear. \nWhat do you need to get started cardio drumming?\n\nA large inflated exercise ball\nA large bucket or basket to hold the ball (the opening should be just slightly smaller than the circumference of the ball so that the ball is suspended in the basket/bucket).\nDrumsticks\nEnthusiasm!\n\nThat’s it! Cardio drumming takes minimal supplies and a kit can usually be assembled for around $25-30. \nWhat it’s look like?\nHow much fun is this? You know you want to try it!
URL:https://bellairepubliclibrary.org/event/cardio-drumming-teens-adults-3-3/2026-03-30/
LOCATION:Bellaire Public Library\, 330 32nd Street\, Bellaire\, OH\, 43906\, United States
CATEGORIES:Adult Program
ATTACH;FMTTYPE=image/png:https://bellairepubliclibrary.org/wp-content/uploads/2025/07/Cardio-Drumming-Web.png
END:VEVENT
END:VCALENDAR