BEGIN:VCALENDAR
VERSION:2.0
PRODID:-//Bellaire Public Library - ECPv6.15.20//NONSGML v1.0//EN
CALSCALE:GREGORIAN
METHOD:PUBLISH
X-ORIGINAL-URL:https://bellairepubliclibrary.org
X-WR-CALDESC:Events for Bellaire Public Library
REFRESH-INTERVAL;VALUE=DURATION:PT1H
X-Robots-Tag:noindex
X-PUBLISHED-TTL:PT1H
BEGIN:VTIMEZONE
TZID:America/New_York
BEGIN:DAYLIGHT
TZOFFSETFROM:-0500
TZOFFSETTO:-0400
TZNAME:EDT
DTSTART:20220313T070000
END:DAYLIGHT
BEGIN:STANDARD
TZOFFSETFROM:-0400
TZOFFSETTO:-0500
TZNAME:EST
DTSTART:20221106T060000
END:STANDARD
BEGIN:DAYLIGHT
TZOFFSETFROM:-0500
TZOFFSETTO:-0400
TZNAME:EDT
DTSTART:20230312T070000
END:DAYLIGHT
BEGIN:STANDARD
TZOFFSETFROM:-0400
TZOFFSETTO:-0500
TZNAME:EST
DTSTART:20231105T060000
END:STANDARD
BEGIN:DAYLIGHT
TZOFFSETFROM:-0500
TZOFFSETTO:-0400
TZNAME:EDT
DTSTART:20240310T070000
END:DAYLIGHT
BEGIN:STANDARD
TZOFFSETFROM:-0400
TZOFFSETTO:-0500
TZNAME:EST
DTSTART:20241103T060000
END:STANDARD
BEGIN:DAYLIGHT
TZOFFSETFROM:-0500
TZOFFSETTO:-0400
TZNAME:EDT
DTSTART:20250309T070000
END:DAYLIGHT
BEGIN:STANDARD
TZOFFSETFROM:-0400
TZOFFSETTO:-0500
TZNAME:EST
DTSTART:20251102T060000
END:STANDARD
END:VTIMEZONE
BEGIN:VEVENT
DTSTART;TZID=America/New_York:20240327T180000
DTEND;TZID=America/New_York:20240327T190000
DTSTAMP:20260423T073734
CREATED:20240122T152957Z
LAST-MODIFIED:20240215T160830Z
UID:10000701-1711562400-1711566000@bellairepubliclibrary.org
SUMMARY:Great Stone Viaduct Winter Lecture Series
DESCRIPTION:WEDNESDAY NIGHTS AT 6 PM – FEB. & MAR. \nAll of the programs in this year’s series will be livestreamed on Facebook and YouTube. Following the live broadcast\, recordings of the programs will be available to watch at anytime on the Library’s website\, Facebook page\, and YouTube Channel. \n \nSince 2012\, the library has partnered with the Great Stone Viaduct Historical Education Society on a Winter Lecture Series. These programs\, featuring presentations of local historical and community topics\, are held on Wednesday nights at 6 pm in the Community Room on the lower level of the Library throughout the months of February and March. All Winter Lecture Series programs are free for the public to attend.
URL:https://bellairepubliclibrary.org/event/great-stone-viaduct-winter-lecture-series/2024-03-27/
LOCATION:Bellaire Public Library\, 330 32nd Street\, Bellaire\, OH\, 43906\, United States
CATEGORIES:Adult Program
ATTACH;FMTTYPE=image/jpeg:https://bellairepubliclibrary.org/wp-content/uploads/2024/01/BPLEvent_FI-2024.jpg
END:VEVENT
BEGIN:VEVENT
DTSTART;TZID=America/New_York:20240320T180000
DTEND;TZID=America/New_York:20240320T190000
DTSTAMP:20260423T073734
CREATED:20240122T152957Z
LAST-MODIFIED:20240215T160830Z
UID:10000700-1710957600-1710961200@bellairepubliclibrary.org
SUMMARY:Great Stone Viaduct Winter Lecture Series
DESCRIPTION:WEDNESDAY NIGHTS AT 6 PM – FEB. & MAR. \nAll of the programs in this year’s series will be livestreamed on Facebook and YouTube. Following the live broadcast\, recordings of the programs will be available to watch at anytime on the Library’s website\, Facebook page\, and YouTube Channel. \n \nSince 2012\, the library has partnered with the Great Stone Viaduct Historical Education Society on a Winter Lecture Series. These programs\, featuring presentations of local historical and community topics\, are held on Wednesday nights at 6 pm in the Community Room on the lower level of the Library throughout the months of February and March. All Winter Lecture Series programs are free for the public to attend.
URL:https://bellairepubliclibrary.org/event/great-stone-viaduct-winter-lecture-series/2024-03-20/
LOCATION:Bellaire Public Library\, 330 32nd Street\, Bellaire\, OH\, 43906\, United States
CATEGORIES:Adult Program
ATTACH;FMTTYPE=image/jpeg:https://bellairepubliclibrary.org/wp-content/uploads/2024/01/BPLEvent_FI-2024.jpg
END:VEVENT
BEGIN:VEVENT
DTSTART;TZID=America/New_York:20240313T180000
DTEND;TZID=America/New_York:20240313T190000
DTSTAMP:20260423T073734
CREATED:20240122T152957Z
LAST-MODIFIED:20240215T160830Z
UID:10000699-1710352800-1710356400@bellairepubliclibrary.org
SUMMARY:Great Stone Viaduct Winter Lecture Series
DESCRIPTION:WEDNESDAY NIGHTS AT 6 PM – FEB. & MAR. \nAll of the programs in this year’s series will be livestreamed on Facebook and YouTube. Following the live broadcast\, recordings of the programs will be available to watch at anytime on the Library’s website\, Facebook page\, and YouTube Channel. \n \nSince 2012\, the library has partnered with the Great Stone Viaduct Historical Education Society on a Winter Lecture Series. These programs\, featuring presentations of local historical and community topics\, are held on Wednesday nights at 6 pm in the Community Room on the lower level of the Library throughout the months of February and March. All Winter Lecture Series programs are free for the public to attend.
URL:https://bellairepubliclibrary.org/event/great-stone-viaduct-winter-lecture-series/2024-03-13/
LOCATION:Bellaire Public Library\, 330 32nd Street\, Bellaire\, OH\, 43906\, United States
CATEGORIES:Adult Program
ATTACH;FMTTYPE=image/jpeg:https://bellairepubliclibrary.org/wp-content/uploads/2024/01/BPLEvent_FI-2024.jpg
END:VEVENT
BEGIN:VEVENT
DTSTART;TZID=America/New_York:20240306T180000
DTEND;TZID=America/New_York:20240306T190000
DTSTAMP:20260423T073734
CREATED:20240122T152957Z
LAST-MODIFIED:20240215T160830Z
UID:10000698-1709748000-1709751600@bellairepubliclibrary.org
SUMMARY:Great Stone Viaduct Winter Lecture Series
DESCRIPTION:WEDNESDAY NIGHTS AT 6 PM – FEB. & MAR. \nAll of the programs in this year’s series will be livestreamed on Facebook and YouTube. Following the live broadcast\, recordings of the programs will be available to watch at anytime on the Library’s website\, Facebook page\, and YouTube Channel. \n \nSince 2012\, the library has partnered with the Great Stone Viaduct Historical Education Society on a Winter Lecture Series. These programs\, featuring presentations of local historical and community topics\, are held on Wednesday nights at 6 pm in the Community Room on the lower level of the Library throughout the months of February and March. All Winter Lecture Series programs are free for the public to attend.
URL:https://bellairepubliclibrary.org/event/great-stone-viaduct-winter-lecture-series/2024-03-06/
LOCATION:Bellaire Public Library\, 330 32nd Street\, Bellaire\, OH\, 43906\, United States
CATEGORIES:Adult Program
ATTACH;FMTTYPE=image/jpeg:https://bellairepubliclibrary.org/wp-content/uploads/2024/01/BPLEvent_FI-2024.jpg
END:VEVENT
BEGIN:VEVENT
DTSTART;TZID=America/New_York:20240228T180000
DTEND;TZID=America/New_York:20240228T190000
DTSTAMP:20260423T073734
CREATED:20240122T152957Z
LAST-MODIFIED:20240215T160830Z
UID:10000697-1709143200-1709146800@bellairepubliclibrary.org
SUMMARY:Great Stone Viaduct Winter Lecture Series
DESCRIPTION:WEDNESDAY NIGHTS AT 6 PM – FEB. & MAR. \nAll of the programs in this year’s series will be livestreamed on Facebook and YouTube. Following the live broadcast\, recordings of the programs will be available to watch at anytime on the Library’s website\, Facebook page\, and YouTube Channel. \n \nSince 2012\, the library has partnered with the Great Stone Viaduct Historical Education Society on a Winter Lecture Series. These programs\, featuring presentations of local historical and community topics\, are held on Wednesday nights at 6 pm in the Community Room on the lower level of the Library throughout the months of February and March. All Winter Lecture Series programs are free for the public to attend.
URL:https://bellairepubliclibrary.org/event/great-stone-viaduct-winter-lecture-series/2024-02-28/
LOCATION:Bellaire Public Library\, 330 32nd Street\, Bellaire\, OH\, 43906\, United States
CATEGORIES:Adult Program
ATTACH;FMTTYPE=image/jpeg:https://bellairepubliclibrary.org/wp-content/uploads/2024/01/BPLEvent_FI-2024.jpg
END:VEVENT
BEGIN:VEVENT
DTSTART;TZID=America/New_York:20240221T180000
DTEND;TZID=America/New_York:20240221T190000
DTSTAMP:20260423T073734
CREATED:20240122T152957Z
LAST-MODIFIED:20240215T160830Z
UID:10000696-1708538400-1708542000@bellairepubliclibrary.org
SUMMARY:Great Stone Viaduct Winter Lecture Series
DESCRIPTION:WEDNESDAY NIGHTS AT 6 PM – FEB. & MAR. \nAll of the programs in this year’s series will be livestreamed on Facebook and YouTube. Following the live broadcast\, recordings of the programs will be available to watch at anytime on the Library’s website\, Facebook page\, and YouTube Channel. \n \nSince 2012\, the library has partnered with the Great Stone Viaduct Historical Education Society on a Winter Lecture Series. These programs\, featuring presentations of local historical and community topics\, are held on Wednesday nights at 6 pm in the Community Room on the lower level of the Library throughout the months of February and March. All Winter Lecture Series programs are free for the public to attend.
URL:https://bellairepubliclibrary.org/event/great-stone-viaduct-winter-lecture-series/2024-02-21/
LOCATION:Bellaire Public Library\, 330 32nd Street\, Bellaire\, OH\, 43906\, United States
CATEGORIES:Adult Program
ATTACH;FMTTYPE=image/jpeg:https://bellairepubliclibrary.org/wp-content/uploads/2024/01/BPLEvent_FI-2024.jpg
END:VEVENT
BEGIN:VEVENT
DTSTART;TZID=America/New_York:20240214T180000
DTEND;TZID=America/New_York:20240214T190000
DTSTAMP:20260423T073734
CREATED:20240122T152957Z
LAST-MODIFIED:20240215T160830Z
UID:10000695-1707933600-1707937200@bellairepubliclibrary.org
SUMMARY:Great Stone Viaduct Winter Lecture Series
DESCRIPTION:WEDNESDAY NIGHTS AT 6 PM – FEB. & MAR. \nAll of the programs in this year’s series will be livestreamed on Facebook and YouTube. Following the live broadcast\, recordings of the programs will be available to watch at anytime on the Library’s website\, Facebook page\, and YouTube Channel. \n \nSince 2012\, the library has partnered with the Great Stone Viaduct Historical Education Society on a Winter Lecture Series. These programs\, featuring presentations of local historical and community topics\, are held on Wednesday nights at 6 pm in the Community Room on the lower level of the Library throughout the months of February and March. All Winter Lecture Series programs are free for the public to attend.
URL:https://bellairepubliclibrary.org/event/great-stone-viaduct-winter-lecture-series/2024-02-14/
LOCATION:Bellaire Public Library\, 330 32nd Street\, Bellaire\, OH\, 43906\, United States
CATEGORIES:Adult Program
ATTACH;FMTTYPE=image/jpeg:https://bellairepubliclibrary.org/wp-content/uploads/2024/01/BPLEvent_FI-2024.jpg
END:VEVENT
BEGIN:VEVENT
DTSTART;TZID=America/New_York:20240207T180000
DTEND;TZID=America/New_York:20240207T190000
DTSTAMP:20260423T073734
CREATED:20240122T152957Z
LAST-MODIFIED:20240215T160830Z
UID:10000686-1707328800-1707332400@bellairepubliclibrary.org
SUMMARY:Great Stone Viaduct Winter Lecture Series
DESCRIPTION:WEDNESDAY NIGHTS AT 6 PM – FEB. & MAR. \nAll of the programs in this year’s series will be livestreamed on Facebook and YouTube. Following the live broadcast\, recordings of the programs will be available to watch at anytime on the Library’s website\, Facebook page\, and YouTube Channel. \n \nSince 2012\, the library has partnered with the Great Stone Viaduct Historical Education Society on a Winter Lecture Series. These programs\, featuring presentations of local historical and community topics\, are held on Wednesday nights at 6 pm in the Community Room on the lower level of the Library throughout the months of February and March. All Winter Lecture Series programs are free for the public to attend.
URL:https://bellairepubliclibrary.org/event/great-stone-viaduct-winter-lecture-series/2024-02-07/
LOCATION:Bellaire Public Library\, 330 32nd Street\, Bellaire\, OH\, 43906\, United States
CATEGORIES:Adult Program
ATTACH;FMTTYPE=image/jpeg:https://bellairepubliclibrary.org/wp-content/uploads/2024/01/BPLEvent_FI-2024.jpg
END:VEVENT
BEGIN:VEVENT
DTSTART;TZID=America/New_York:20230322T180000
DTEND;TZID=America/New_York:20230322T190000
DTSTAMP:20260423T073734
CREATED:20230216T184954Z
LAST-MODIFIED:20230406T201129Z
UID:10000023-1679508000-1679511600@bellairepubliclibrary.org
SUMMARY:2023 Great Stone Viaduct Winter Lecture Series
DESCRIPTION:Join us this year for the 11th annual GSV Winter Lecture Series in 2023! \n➤ Download a printable 2023 brochure schedule\n➤ View recorded versions of the 2023 GSV Winter Lecture Series*\n(*available only after date of presentation) \n\nFeb 1: “Thanks for the Memories – Bob Hope in Bellaire” presented by Attorney Daniel L. Frizzi\, Jr.\nFeb. 8: “The Moonlight Mill Murders of Steubenville\, OH” presented by Susan Guy\nFeb. 15: “Belmont County\, A Bedrock of Historic Preservation\,” presented by Building Preservation Trades educators Jon Smith\, Sarel Venter\, and Jeffrey Forster\nFeb. 22: “The Inception of the New Industrial Training Center” presented by Training Director Jason Dean and Architect Wendy Scatterday\nMar. 1: “Belmont County’s Dangerfield Newbie: his involvement in John Brown’s Raid\, and how his family continued his fight for freedom following his death” presented by Jon-Erik Gilot\nMar. 8: “The Steamboat Scioto” presented by Taylor Abbott\nMar. 15: “It All Started in a Janitor’s Closet – A history of the Bellaire High School Archives” presented by Tom Raticzak\nMar. 22: “Wheeling Secessionists – Recollections of two local women from the Civil War” presented by Judi Hendrickson and Jeanne Finstein\n\nSince 2012\, the library has partnered with the Great Stone Viaduct Historical Education Society on a Winter Lecture Series. These programs\, featuring presentations of local historical and community topics\, are held on Wednesday nights at 6 pm in the Community Room on the lower level of the Library throughout the months of February and March. All Winter Lecture Series programs are free for the public to attend.
URL:https://bellairepubliclibrary.org/event/2023-great-stone-viaduct-winter-lecture-series-2/2023-03-22/
LOCATION:OH
CATEGORIES:Adult Program
ATTACH;FMTTYPE=image/jpeg:https://bellairepubliclibrary.org/wp-content/uploads/2023/02/GSV-Lecture-Series_event-im.jpg
END:VEVENT
BEGIN:VEVENT
DTSTART;TZID=America/New_York:20230315T180000
DTEND;TZID=America/New_York:20230315T190000
DTSTAMP:20260423T073734
CREATED:20230216T184954Z
LAST-MODIFIED:20230406T201129Z
UID:10000022-1678903200-1678906800@bellairepubliclibrary.org
SUMMARY:2023 Great Stone Viaduct Winter Lecture Series
DESCRIPTION:Join us this year for the 11th annual GSV Winter Lecture Series in 2023! \n➤ Download a printable 2023 brochure schedule\n➤ View recorded versions of the 2023 GSV Winter Lecture Series*\n(*available only after date of presentation) \n\nFeb 1: “Thanks for the Memories – Bob Hope in Bellaire” presented by Attorney Daniel L. Frizzi\, Jr.\nFeb. 8: “The Moonlight Mill Murders of Steubenville\, OH” presented by Susan Guy\nFeb. 15: “Belmont County\, A Bedrock of Historic Preservation\,” presented by Building Preservation Trades educators Jon Smith\, Sarel Venter\, and Jeffrey Forster\nFeb. 22: “The Inception of the New Industrial Training Center” presented by Training Director Jason Dean and Architect Wendy Scatterday\nMar. 1: “Belmont County’s Dangerfield Newbie: his involvement in John Brown’s Raid\, and how his family continued his fight for freedom following his death” presented by Jon-Erik Gilot\nMar. 8: “The Steamboat Scioto” presented by Taylor Abbott\nMar. 15: “It All Started in a Janitor’s Closet – A history of the Bellaire High School Archives” presented by Tom Raticzak\nMar. 22: “Wheeling Secessionists – Recollections of two local women from the Civil War” presented by Judi Hendrickson and Jeanne Finstein\n\nSince 2012\, the library has partnered with the Great Stone Viaduct Historical Education Society on a Winter Lecture Series. These programs\, featuring presentations of local historical and community topics\, are held on Wednesday nights at 6 pm in the Community Room on the lower level of the Library throughout the months of February and March. All Winter Lecture Series programs are free for the public to attend.
URL:https://bellairepubliclibrary.org/event/2023-great-stone-viaduct-winter-lecture-series-2/2023-03-15/
LOCATION:OH
CATEGORIES:Adult Program
ATTACH;FMTTYPE=image/jpeg:https://bellairepubliclibrary.org/wp-content/uploads/2023/02/GSV-Lecture-Series_event-im.jpg
END:VEVENT
BEGIN:VEVENT
DTSTART;TZID=America/New_York:20230308T180000
DTEND;TZID=America/New_York:20230308T190000
DTSTAMP:20260423T073734
CREATED:20230216T184954Z
LAST-MODIFIED:20230406T201129Z
UID:10000021-1678298400-1678302000@bellairepubliclibrary.org
SUMMARY:2023 Great Stone Viaduct Winter Lecture Series
DESCRIPTION:Join us this year for the 11th annual GSV Winter Lecture Series in 2023! \n➤ Download a printable 2023 brochure schedule\n➤ View recorded versions of the 2023 GSV Winter Lecture Series*\n(*available only after date of presentation) \n\nFeb 1: “Thanks for the Memories – Bob Hope in Bellaire” presented by Attorney Daniel L. Frizzi\, Jr.\nFeb. 8: “The Moonlight Mill Murders of Steubenville\, OH” presented by Susan Guy\nFeb. 15: “Belmont County\, A Bedrock of Historic Preservation\,” presented by Building Preservation Trades educators Jon Smith\, Sarel Venter\, and Jeffrey Forster\nFeb. 22: “The Inception of the New Industrial Training Center” presented by Training Director Jason Dean and Architect Wendy Scatterday\nMar. 1: “Belmont County’s Dangerfield Newbie: his involvement in John Brown’s Raid\, and how his family continued his fight for freedom following his death” presented by Jon-Erik Gilot\nMar. 8: “The Steamboat Scioto” presented by Taylor Abbott\nMar. 15: “It All Started in a Janitor’s Closet – A history of the Bellaire High School Archives” presented by Tom Raticzak\nMar. 22: “Wheeling Secessionists – Recollections of two local women from the Civil War” presented by Judi Hendrickson and Jeanne Finstein\n\nSince 2012\, the library has partnered with the Great Stone Viaduct Historical Education Society on a Winter Lecture Series. These programs\, featuring presentations of local historical and community topics\, are held on Wednesday nights at 6 pm in the Community Room on the lower level of the Library throughout the months of February and March. All Winter Lecture Series programs are free for the public to attend.
URL:https://bellairepubliclibrary.org/event/2023-great-stone-viaduct-winter-lecture-series-2/2023-03-08/
LOCATION:OH
CATEGORIES:Adult Program
ATTACH;FMTTYPE=image/jpeg:https://bellairepubliclibrary.org/wp-content/uploads/2023/02/GSV-Lecture-Series_event-im.jpg
END:VEVENT
BEGIN:VEVENT
DTSTART;TZID=America/New_York:20230301T180000
DTEND;TZID=America/New_York:20230301T190000
DTSTAMP:20260423T073734
CREATED:20230216T184954Z
LAST-MODIFIED:20230406T201129Z
UID:10000020-1677693600-1677697200@bellairepubliclibrary.org
SUMMARY:2023 Great Stone Viaduct Winter Lecture Series
DESCRIPTION:Join us this year for the 11th annual GSV Winter Lecture Series in 2023! \n➤ Download a printable 2023 brochure schedule\n➤ View recorded versions of the 2023 GSV Winter Lecture Series*\n(*available only after date of presentation) \n\nFeb 1: “Thanks for the Memories – Bob Hope in Bellaire” presented by Attorney Daniel L. Frizzi\, Jr.\nFeb. 8: “The Moonlight Mill Murders of Steubenville\, OH” presented by Susan Guy\nFeb. 15: “Belmont County\, A Bedrock of Historic Preservation\,” presented by Building Preservation Trades educators Jon Smith\, Sarel Venter\, and Jeffrey Forster\nFeb. 22: “The Inception of the New Industrial Training Center” presented by Training Director Jason Dean and Architect Wendy Scatterday\nMar. 1: “Belmont County’s Dangerfield Newbie: his involvement in John Brown’s Raid\, and how his family continued his fight for freedom following his death” presented by Jon-Erik Gilot\nMar. 8: “The Steamboat Scioto” presented by Taylor Abbott\nMar. 15: “It All Started in a Janitor’s Closet – A history of the Bellaire High School Archives” presented by Tom Raticzak\nMar. 22: “Wheeling Secessionists – Recollections of two local women from the Civil War” presented by Judi Hendrickson and Jeanne Finstein\n\nSince 2012\, the library has partnered with the Great Stone Viaduct Historical Education Society on a Winter Lecture Series. These programs\, featuring presentations of local historical and community topics\, are held on Wednesday nights at 6 pm in the Community Room on the lower level of the Library throughout the months of February and March. All Winter Lecture Series programs are free for the public to attend.
URL:https://bellairepubliclibrary.org/event/2023-great-stone-viaduct-winter-lecture-series-2/2023-03-01/
LOCATION:OH
CATEGORIES:Adult Program
ATTACH;FMTTYPE=image/jpeg:https://bellairepubliclibrary.org/wp-content/uploads/2023/02/GSV-Lecture-Series_event-im.jpg
END:VEVENT
BEGIN:VEVENT
DTSTART;TZID=America/New_York:20230222T180000
DTEND;TZID=America/New_York:20230222T190000
DTSTAMP:20260423T073734
CREATED:20230216T184954Z
LAST-MODIFIED:20230406T201129Z
UID:10000019-1677088800-1677092400@bellairepubliclibrary.org
SUMMARY:2023 Great Stone Viaduct Winter Lecture Series
DESCRIPTION:Join us this year for the 11th annual GSV Winter Lecture Series in 2023! \n➤ Download a printable 2023 brochure schedule\n➤ View recorded versions of the 2023 GSV Winter Lecture Series*\n(*available only after date of presentation) \n\nFeb 1: “Thanks for the Memories – Bob Hope in Bellaire” presented by Attorney Daniel L. Frizzi\, Jr.\nFeb. 8: “The Moonlight Mill Murders of Steubenville\, OH” presented by Susan Guy\nFeb. 15: “Belmont County\, A Bedrock of Historic Preservation\,” presented by Building Preservation Trades educators Jon Smith\, Sarel Venter\, and Jeffrey Forster\nFeb. 22: “The Inception of the New Industrial Training Center” presented by Training Director Jason Dean and Architect Wendy Scatterday\nMar. 1: “Belmont County’s Dangerfield Newbie: his involvement in John Brown’s Raid\, and how his family continued his fight for freedom following his death” presented by Jon-Erik Gilot\nMar. 8: “The Steamboat Scioto” presented by Taylor Abbott\nMar. 15: “It All Started in a Janitor’s Closet – A history of the Bellaire High School Archives” presented by Tom Raticzak\nMar. 22: “Wheeling Secessionists – Recollections of two local women from the Civil War” presented by Judi Hendrickson and Jeanne Finstein\n\nSince 2012\, the library has partnered with the Great Stone Viaduct Historical Education Society on a Winter Lecture Series. These programs\, featuring presentations of local historical and community topics\, are held on Wednesday nights at 6 pm in the Community Room on the lower level of the Library throughout the months of February and March. All Winter Lecture Series programs are free for the public to attend.
URL:https://bellairepubliclibrary.org/event/2023-great-stone-viaduct-winter-lecture-series-2/2023-02-22/
LOCATION:OH
CATEGORIES:Adult Program
ATTACH;FMTTYPE=image/jpeg:https://bellairepubliclibrary.org/wp-content/uploads/2023/02/GSV-Lecture-Series_event-im.jpg
END:VEVENT
BEGIN:VEVENT
DTSTART;TZID=America/New_York:20230215T180000
DTEND;TZID=America/New_York:20230215T190000
DTSTAMP:20260423T073734
CREATED:20230216T183912Z
LAST-MODIFIED:20230216T190414Z
UID:10000018-1676484000-1676487600@bellairepubliclibrary.org
SUMMARY:2023 Great Stone Viaduct Winter Lecture Series
DESCRIPTION:Join us this year for the 11th annual GSV Winter Lecture Series in 2023! \n➤ Download a printable 2023 brochure schedule\n➤ View recorded versions of the 2023 GSV Winter Lecture Series*\n(*available only after date of presentation) \n\nFeb 1: “Thanks for the Memories – Bob Hope in Bellaire” presented by Attorney Daniel L. Frizzi\, Jr.\nFeb. 8: “The Moonlight Mill Murders of Steubenville\, OH” presented by Susan Guy\nFeb. 15: “Belmont County\, A Bedrock of Historic Preservation\,” presented by Building Preservation Trades educators Jon Smith\, Sarel Venter\, and Jeffrey Forster\nFeb. 22: “The Inception of the New Industrial Training Center” presented by Training Director Jason Dean and Architect Wendy Scatterday\nMar. 1: “Belmont County’s Dangerfield Newbie: his involvement in John Brown’s Raid\, and how his family continued his fight for freedom following his death” presented by Jon-Erik Gilot\nMar. 8: “The Steamboat Scioto” presented by Taylor Abbott\nMar. 15: “It All Started in a Janitor’s Closet – A history of the Bellaire High School Archives” presented by Tom Raticzak\nMar. 22: “Wheeling Secessionists – Recollections of two local women from the Civil War” presented by Judi Hendrickson and Jeanne Finstein\n\nSince 2012\, the library has partnered with the Great Stone Viaduct Historical Education Society on a Winter Lecture Series. These programs\, featuring presentations of local historical and community topics\, are held on Wednesday nights at 6 pm in the Community Room on the lower level of the Library throughout the months of February and March. All Winter Lecture Series programs are free for the public to attend.
URL:https://bellairepubliclibrary.org/event/2023-great-stone-viaduct-winter-lecture-series/
LOCATION:Bellaire Public Library\, 330 32nd Street\, Bellaire\, OH\, 43906\, United States
CATEGORIES:Adult Program
END:VEVENT
END:VCALENDAR