BEGIN:VCALENDAR
VERSION:2.0
PRODID:-//Bellaire Public Library - ECPv6.15.20//NONSGML v1.0//EN
CALSCALE:GREGORIAN
METHOD:PUBLISH
X-ORIGINAL-URL:https://bellairepubliclibrary.org
X-WR-CALDESC:Events for Bellaire Public Library
REFRESH-INTERVAL;VALUE=DURATION:PT1H
X-Robots-Tag:noindex
X-PUBLISHED-TTL:PT1H
BEGIN:VTIMEZONE
TZID:America/New_York
BEGIN:DAYLIGHT
TZOFFSETFROM:-0500
TZOFFSETTO:-0400
TZNAME:EDT
DTSTART:20250309T070000
END:DAYLIGHT
BEGIN:STANDARD
TZOFFSETFROM:-0400
TZOFFSETTO:-0500
TZNAME:EST
DTSTART:20251102T060000
END:STANDARD
BEGIN:DAYLIGHT
TZOFFSETFROM:-0500
TZOFFSETTO:-0400
TZNAME:EDT
DTSTART:20260308T070000
END:DAYLIGHT
BEGIN:STANDARD
TZOFFSETFROM:-0400
TZOFFSETTO:-0500
TZNAME:EST
DTSTART:20261101T060000
END:STANDARD
BEGIN:DAYLIGHT
TZOFFSETFROM:-0500
TZOFFSETTO:-0400
TZNAME:EDT
DTSTART:20270314T070000
END:DAYLIGHT
BEGIN:STANDARD
TZOFFSETFROM:-0400
TZOFFSETTO:-0500
TZNAME:EST
DTSTART:20271107T060000
END:STANDARD
END:VTIMEZONE
BEGIN:VEVENT
DTSTART;TZID=America/New_York:20260604T170000
DTEND;TZID=America/New_York:20260604T200000
DTSTAMP:20260424T184824
CREATED:20260424T175009Z
LAST-MODIFIED:20260424T175329Z
UID:10002173-1780592400-1780603200@bellairepubliclibrary.org
SUMMARY:Summer Fair Night Market - Summer Reading Kick-Off
DESCRIPTION:🌞 Summer Fair & Summer Reading Kickoff 🌞 \n\nJoin the Bellaire Public Library for our Summer Fair\, a free\, family‑friendly celebration to kick off our Summer Reading Program! Stop by for an evening full of fun\, food\, music\, and community. \n🎈 Activities & Entertainment include:\n• Inflatable bounce houses\n• Balloon artist\n• Music by Mr. K DJ\n• Kirke’s Ice Cream Truck\n• The Gringo Taco Truck\n• Night Farmers Market featuring a dozen or more local vendors\, offering handmade items\, goodies\, and more—perfect for browsing while you enjoy the fair atmosphere. \n📚 Learn about our Summer Reading Program\, sign up for challenges\, and celebrate the start of summer with friends\, family\, and neighbors. \n📅 Date: Thursday\, June 4\, 2026\n⏰ Time: 5:00–8:00 p.m.\n📍 Location: Bellaire Public Library\, 330 32nd Street\, Bellaire\, OH \n✨ Everyone is welcome! \nThank you to our sponsor:\nThe Summer Fair is sponsored in part by the Sinclair Foundation.
URL:https://bellairepubliclibrary.org/event/summer-fair-night-market-summer-reading-kick-off/
LOCATION:Bellaire Public Library\, 330 32nd Street\, Bellaire\, OH\, 43906\, United States
CATEGORIES:All Ages,Featured
ATTACH;FMTTYPE=image/jpeg:https://bellairepubliclibrary.org/wp-content/uploads/2026/04/Summer-Fair.jpg
END:VEVENT
END:VCALENDAR