BEGIN:VCALENDAR
VERSION:2.0
PRODID:-//Bellaire Public Library - ECPv6.15.20//NONSGML v1.0//EN
CALSCALE:GREGORIAN
METHOD:PUBLISH
X-WR-CALNAME:Bellaire Public Library
X-ORIGINAL-URL:https://bellairepubliclibrary.org
X-WR-CALDESC:Events for Bellaire Public Library
REFRESH-INTERVAL;VALUE=DURATION:PT1H
X-Robots-Tag:noindex
X-PUBLISHED-TTL:PT1H
BEGIN:VTIMEZONE
TZID:America/New_York
BEGIN:DAYLIGHT
TZOFFSETFROM:-0500
TZOFFSETTO:-0400
TZNAME:EDT
DTSTART:20240310T070000
END:DAYLIGHT
BEGIN:STANDARD
TZOFFSETFROM:-0400
TZOFFSETTO:-0500
TZNAME:EST
DTSTART:20241103T060000
END:STANDARD
BEGIN:DAYLIGHT
TZOFFSETFROM:-0500
TZOFFSETTO:-0400
TZNAME:EDT
DTSTART:20250309T070000
END:DAYLIGHT
BEGIN:STANDARD
TZOFFSETFROM:-0400
TZOFFSETTO:-0500
TZNAME:EST
DTSTART:20251102T060000
END:STANDARD
BEGIN:DAYLIGHT
TZOFFSETFROM:-0500
TZOFFSETTO:-0400
TZNAME:EDT
DTSTART:20260308T070000
END:DAYLIGHT
BEGIN:STANDARD
TZOFFSETFROM:-0400
TZOFFSETTO:-0500
TZNAME:EST
DTSTART:20261101T060000
END:STANDARD
END:VTIMEZONE
BEGIN:VEVENT
DTSTART;TZID=America/New_York:20250702T130000
DTEND;TZID=America/New_York:20250702T140000
DTSTAMP:20260425T194557
CREATED:20250528T203912Z
LAST-MODIFIED:20250730T150208Z
UID:10001392-1751461200-1751464800@bellairepubliclibrary.org
SUMMARY:Summer Reading Club: Grades 1-6
DESCRIPTION:Join us for Summer Reading Club\, Wednesdays at 1 pm throughout June and July\, as we Color Our World! Our Summer Reading Club programs are for kids in grades 1-6. \nSummer Reading Club Schedule:\nJune 4: Kick-Off Party!\nSign up for this year’s Summer Reading Program and visit our fun activity stations to earn a yummy donut from The Holy Rollers Food Truck! \nJune 11: Rainbow Shadows\nMake your own rainbow using science with our friends from the S.M.A.R.T. Center. \nJune 18: Color Your Backyard\nLearn about the beautiful colors of our world with local photographer\, Daniel Caron. \nJune 25: Music & Movement\nGet ready to tell stories through music and movement with local music teacher\, Ashley Krieger. \nJuly 2: Wild Mask Making & Kirke’s Ice Cream\nCreate your own wild beast papier mache mask with local art teacher\, Sara Cunnigham. Then\, cool off with some delicious ice cream from the Kirke’s Ice Cream Truck. \nJuly 9: Mask Decorating\nInspired by the popular children’s book “Where the Wild Things Are\,” you will have the chance to paint your own “wild beast” papier mache mask (craft continued from July 2nd\, but kids missing the July 9 program will still have the chance to decorate a mask). \nJuly 16: Our Colorful World\nJoin Samantha Hearn from Belmont County Soil and Water Conservation to discover our world’s natural resources. \nJuly 23: Green Cleaning\nLearn how to keep our Earth clean with Natalie Lysle from the JB Green Team. \nJuly 30: Program to be announced \n \n 
URL:https://bellairepubliclibrary.org/event/summer-reading-club-ages-6-12/2025-07-02/
LOCATION:OH
CATEGORIES:Children's Program
ATTACH;FMTTYPE=image/png:https://bellairepubliclibrary.org/wp-content/uploads/2025/05/2025-SRP-SRC_web-FI.png
END:VEVENT
BEGIN:VEVENT
DTSTART;TZID=America/New_York:20250709T130000
DTEND;TZID=America/New_York:20250709T140000
DTSTAMP:20260425T194557
CREATED:20250528T203912Z
LAST-MODIFIED:20250730T150208Z
UID:10001393-1752066000-1752069600@bellairepubliclibrary.org
SUMMARY:Summer Reading Club: Grades 1-6
DESCRIPTION:Join us for Summer Reading Club\, Wednesdays at 1 pm throughout June and July\, as we Color Our World! Our Summer Reading Club programs are for kids in grades 1-6. \nSummer Reading Club Schedule:\nJune 4: Kick-Off Party!\nSign up for this year’s Summer Reading Program and visit our fun activity stations to earn a yummy donut from The Holy Rollers Food Truck! \nJune 11: Rainbow Shadows\nMake your own rainbow using science with our friends from the S.M.A.R.T. Center. \nJune 18: Color Your Backyard\nLearn about the beautiful colors of our world with local photographer\, Daniel Caron. \nJune 25: Music & Movement\nGet ready to tell stories through music and movement with local music teacher\, Ashley Krieger. \nJuly 2: Wild Mask Making & Kirke’s Ice Cream\nCreate your own wild beast papier mache mask with local art teacher\, Sara Cunnigham. Then\, cool off with some delicious ice cream from the Kirke’s Ice Cream Truck. \nJuly 9: Mask Decorating\nInspired by the popular children’s book “Where the Wild Things Are\,” you will have the chance to paint your own “wild beast” papier mache mask (craft continued from July 2nd\, but kids missing the July 9 program will still have the chance to decorate a mask). \nJuly 16: Our Colorful World\nJoin Samantha Hearn from Belmont County Soil and Water Conservation to discover our world’s natural resources. \nJuly 23: Green Cleaning\nLearn how to keep our Earth clean with Natalie Lysle from the JB Green Team. \nJuly 30: Program to be announced \n \n 
URL:https://bellairepubliclibrary.org/event/summer-reading-club-ages-6-12/2025-07-09/
LOCATION:OH
CATEGORIES:Children's Program
ATTACH;FMTTYPE=image/png:https://bellairepubliclibrary.org/wp-content/uploads/2025/05/2025-SRP-SRC_web-FI.png
END:VEVENT
BEGIN:VEVENT
DTSTART;TZID=America/New_York:20250711T103000
DTEND;TZID=America/New_York:20250711T110000
DTSTAMP:20260425T194557
CREATED:20250528T211158Z
LAST-MODIFIED:20250530T165028Z
UID:10001453-1752229800-1752231600@bellairepubliclibrary.org
SUMMARY:Summer Story Time & Craft: Ages 3-K
DESCRIPTION:Lil’ Bookworms\, get ready to Color Our World! Our Summer Reading Story Time & Craft programs for kids ages 3-K will be held on Friday mornings at 10:30 am. \nSummer Story Time Schedule:\nJune 6: We will read “Doughnut Dreams” by Michelle Meitler. Sweet dreams are filled with yummy doughnuts in this colorful story. After the story\, we will make a doughnut painting. \nJune 13: We will read “Rainbow Bear” by Bill Martin Jr. Follow Little Bear on his colorful adventures\, filling his belly with berries! Then we will make our own rainbow craft. \nJune 20: We will read “Sky Color” by Peter Reynolds. Marisol is so excited to paint a mural for her school library! But how will she paint the sky without blue paint? Find out how Marisol’s creativity saves the day and then create your own sunset craft. \nJune 27: We will read “Barnyard Boogie” by Tim McCanna. All the barnyard animals are excited to play their musical instruments\, but will the cow play? Join us as we learn about music and create our own tambourines. \nJuly 4: NO STORY TIME — The Library will be closed for Independence Day. \nJuly 11: Superheroes to the rescue! This week\, we will learn all about superheroes from the book “These Are the Avengers” by Alexandra West. Then\, we will make our own superhero mask. In  honor of National Ice Cream Month\, enjoy a patriotic popsicle with Miss Bri. \nJuly 18: We will read “Bumblebee\, Bumblebee\, Do You Know Me?” by Anne Rockwell. This beautifully illustrated book will teach us all about different flowers and insects. After the story\, we will make our own flower craft. \nJuly 25: We will read “The Earth Book” by Todd Parr. We will learn how we can do little things to make a big difference in keeping our Earth clean. Then\, we will create an Earth Buddy craft.
URL:https://bellairepubliclibrary.org/event/summer-story-time-craft/2025-07-11/
LOCATION:Bellaire Public Library\, 330 32nd Street\, Bellaire\, OH\, 43906\, United States
CATEGORIES:Children's Program
ATTACH;FMTTYPE=image/png:https://bellairepubliclibrary.org/wp-content/uploads/2025/05/2025-SRP-STandC_web-FI-1.png
END:VEVENT
BEGIN:VEVENT
DTSTART;TZID=America/New_York:20250716T130000
DTEND;TZID=America/New_York:20250716T140000
DTSTAMP:20260425T194557
CREATED:20250528T203912Z
LAST-MODIFIED:20250730T150208Z
UID:10001394-1752670800-1752674400@bellairepubliclibrary.org
SUMMARY:Summer Reading Club: Grades 1-6
DESCRIPTION:Join us for Summer Reading Club\, Wednesdays at 1 pm throughout June and July\, as we Color Our World! Our Summer Reading Club programs are for kids in grades 1-6. \nSummer Reading Club Schedule:\nJune 4: Kick-Off Party!\nSign up for this year’s Summer Reading Program and visit our fun activity stations to earn a yummy donut from The Holy Rollers Food Truck! \nJune 11: Rainbow Shadows\nMake your own rainbow using science with our friends from the S.M.A.R.T. Center. \nJune 18: Color Your Backyard\nLearn about the beautiful colors of our world with local photographer\, Daniel Caron. \nJune 25: Music & Movement\nGet ready to tell stories through music and movement with local music teacher\, Ashley Krieger. \nJuly 2: Wild Mask Making & Kirke’s Ice Cream\nCreate your own wild beast papier mache mask with local art teacher\, Sara Cunnigham. Then\, cool off with some delicious ice cream from the Kirke’s Ice Cream Truck. \nJuly 9: Mask Decorating\nInspired by the popular children’s book “Where the Wild Things Are\,” you will have the chance to paint your own “wild beast” papier mache mask (craft continued from July 2nd\, but kids missing the July 9 program will still have the chance to decorate a mask). \nJuly 16: Our Colorful World\nJoin Samantha Hearn from Belmont County Soil and Water Conservation to discover our world’s natural resources. \nJuly 23: Green Cleaning\nLearn how to keep our Earth clean with Natalie Lysle from the JB Green Team. \nJuly 30: Program to be announced \n \n 
URL:https://bellairepubliclibrary.org/event/summer-reading-club-ages-6-12/2025-07-16/
LOCATION:OH
CATEGORIES:Children's Program
ATTACH;FMTTYPE=image/png:https://bellairepubliclibrary.org/wp-content/uploads/2025/05/2025-SRP-SRC_web-FI.png
END:VEVENT
BEGIN:VEVENT
DTSTART;TZID=America/New_York:20250718T103000
DTEND;TZID=America/New_York:20250718T110000
DTSTAMP:20260425T194557
CREATED:20250528T211158Z
LAST-MODIFIED:20250530T165028Z
UID:10001454-1752834600-1752836400@bellairepubliclibrary.org
SUMMARY:Summer Story Time & Craft: Ages 3-K
DESCRIPTION:Lil’ Bookworms\, get ready to Color Our World! Our Summer Reading Story Time & Craft programs for kids ages 3-K will be held on Friday mornings at 10:30 am. \nSummer Story Time Schedule:\nJune 6: We will read “Doughnut Dreams” by Michelle Meitler. Sweet dreams are filled with yummy doughnuts in this colorful story. After the story\, we will make a doughnut painting. \nJune 13: We will read “Rainbow Bear” by Bill Martin Jr. Follow Little Bear on his colorful adventures\, filling his belly with berries! Then we will make our own rainbow craft. \nJune 20: We will read “Sky Color” by Peter Reynolds. Marisol is so excited to paint a mural for her school library! But how will she paint the sky without blue paint? Find out how Marisol’s creativity saves the day and then create your own sunset craft. \nJune 27: We will read “Barnyard Boogie” by Tim McCanna. All the barnyard animals are excited to play their musical instruments\, but will the cow play? Join us as we learn about music and create our own tambourines. \nJuly 4: NO STORY TIME — The Library will be closed for Independence Day. \nJuly 11: Superheroes to the rescue! This week\, we will learn all about superheroes from the book “These Are the Avengers” by Alexandra West. Then\, we will make our own superhero mask. In  honor of National Ice Cream Month\, enjoy a patriotic popsicle with Miss Bri. \nJuly 18: We will read “Bumblebee\, Bumblebee\, Do You Know Me?” by Anne Rockwell. This beautifully illustrated book will teach us all about different flowers and insects. After the story\, we will make our own flower craft. \nJuly 25: We will read “The Earth Book” by Todd Parr. We will learn how we can do little things to make a big difference in keeping our Earth clean. Then\, we will create an Earth Buddy craft.
URL:https://bellairepubliclibrary.org/event/summer-story-time-craft/2025-07-18/
LOCATION:Bellaire Public Library\, 330 32nd Street\, Bellaire\, OH\, 43906\, United States
CATEGORIES:Children's Program
ATTACH;FMTTYPE=image/png:https://bellairepubliclibrary.org/wp-content/uploads/2025/05/2025-SRP-STandC_web-FI-1.png
END:VEVENT
BEGIN:VEVENT
DTSTART;TZID=America/New_York:20250723T130000
DTEND;TZID=America/New_York:20250723T140000
DTSTAMP:20260425T194557
CREATED:20250528T203912Z
LAST-MODIFIED:20250730T150208Z
UID:10001395-1753275600-1753279200@bellairepubliclibrary.org
SUMMARY:Summer Reading Club: Grades 1-6
DESCRIPTION:Join us for Summer Reading Club\, Wednesdays at 1 pm throughout June and July\, as we Color Our World! Our Summer Reading Club programs are for kids in grades 1-6. \nSummer Reading Club Schedule:\nJune 4: Kick-Off Party!\nSign up for this year’s Summer Reading Program and visit our fun activity stations to earn a yummy donut from The Holy Rollers Food Truck! \nJune 11: Rainbow Shadows\nMake your own rainbow using science with our friends from the S.M.A.R.T. Center. \nJune 18: Color Your Backyard\nLearn about the beautiful colors of our world with local photographer\, Daniel Caron. \nJune 25: Music & Movement\nGet ready to tell stories through music and movement with local music teacher\, Ashley Krieger. \nJuly 2: Wild Mask Making & Kirke’s Ice Cream\nCreate your own wild beast papier mache mask with local art teacher\, Sara Cunnigham. Then\, cool off with some delicious ice cream from the Kirke’s Ice Cream Truck. \nJuly 9: Mask Decorating\nInspired by the popular children’s book “Where the Wild Things Are\,” you will have the chance to paint your own “wild beast” papier mache mask (craft continued from July 2nd\, but kids missing the July 9 program will still have the chance to decorate a mask). \nJuly 16: Our Colorful World\nJoin Samantha Hearn from Belmont County Soil and Water Conservation to discover our world’s natural resources. \nJuly 23: Green Cleaning\nLearn how to keep our Earth clean with Natalie Lysle from the JB Green Team. \nJuly 30: Program to be announced \n \n 
URL:https://bellairepubliclibrary.org/event/summer-reading-club-ages-6-12/2025-07-23/
LOCATION:OH
CATEGORIES:Children's Program
ATTACH;FMTTYPE=image/png:https://bellairepubliclibrary.org/wp-content/uploads/2025/05/2025-SRP-SRC_web-FI.png
END:VEVENT
BEGIN:VEVENT
DTSTART;TZID=America/New_York:20250725T103000
DTEND;TZID=America/New_York:20250725T110000
DTSTAMP:20260425T194557
CREATED:20250528T211158Z
LAST-MODIFIED:20250530T165028Z
UID:10001455-1753439400-1753441200@bellairepubliclibrary.org
SUMMARY:Summer Story Time & Craft: Ages 3-K
DESCRIPTION:Lil’ Bookworms\, get ready to Color Our World! Our Summer Reading Story Time & Craft programs for kids ages 3-K will be held on Friday mornings at 10:30 am. \nSummer Story Time Schedule:\nJune 6: We will read “Doughnut Dreams” by Michelle Meitler. Sweet dreams are filled with yummy doughnuts in this colorful story. After the story\, we will make a doughnut painting. \nJune 13: We will read “Rainbow Bear” by Bill Martin Jr. Follow Little Bear on his colorful adventures\, filling his belly with berries! Then we will make our own rainbow craft. \nJune 20: We will read “Sky Color” by Peter Reynolds. Marisol is so excited to paint a mural for her school library! But how will she paint the sky without blue paint? Find out how Marisol’s creativity saves the day and then create your own sunset craft. \nJune 27: We will read “Barnyard Boogie” by Tim McCanna. All the barnyard animals are excited to play their musical instruments\, but will the cow play? Join us as we learn about music and create our own tambourines. \nJuly 4: NO STORY TIME — The Library will be closed for Independence Day. \nJuly 11: Superheroes to the rescue! This week\, we will learn all about superheroes from the book “These Are the Avengers” by Alexandra West. Then\, we will make our own superhero mask. In  honor of National Ice Cream Month\, enjoy a patriotic popsicle with Miss Bri. \nJuly 18: We will read “Bumblebee\, Bumblebee\, Do You Know Me?” by Anne Rockwell. This beautifully illustrated book will teach us all about different flowers and insects. After the story\, we will make our own flower craft. \nJuly 25: We will read “The Earth Book” by Todd Parr. We will learn how we can do little things to make a big difference in keeping our Earth clean. Then\, we will create an Earth Buddy craft.
URL:https://bellairepubliclibrary.org/event/summer-story-time-craft/2025-07-25/
LOCATION:Bellaire Public Library\, 330 32nd Street\, Bellaire\, OH\, 43906\, United States
CATEGORIES:Children's Program
ATTACH;FMTTYPE=image/png:https://bellairepubliclibrary.org/wp-content/uploads/2025/05/2025-SRP-STandC_web-FI-1.png
END:VEVENT
END:VCALENDAR