BEGIN:VCALENDAR
VERSION:2.0
PRODID:-//Bellaire Public Library - ECPv6.15.20//NONSGML v1.0//EN
CALSCALE:GREGORIAN
METHOD:PUBLISH
X-WR-CALNAME:Bellaire Public Library
X-ORIGINAL-URL:https://bellairepubliclibrary.org
X-WR-CALDESC:Events for Bellaire Public Library
REFRESH-INTERVAL;VALUE=DURATION:PT1H
X-Robots-Tag:noindex
X-PUBLISHED-TTL:PT1H
BEGIN:VTIMEZONE
TZID:America/New_York
BEGIN:DAYLIGHT
TZOFFSETFROM:-0500
TZOFFSETTO:-0400
TZNAME:EDT
DTSTART:20250309T070000
END:DAYLIGHT
BEGIN:STANDARD
TZOFFSETFROM:-0400
TZOFFSETTO:-0500
TZNAME:EST
DTSTART:20251102T060000
END:STANDARD
BEGIN:DAYLIGHT
TZOFFSETFROM:-0500
TZOFFSETTO:-0400
TZNAME:EDT
DTSTART:20260308T070000
END:DAYLIGHT
BEGIN:STANDARD
TZOFFSETFROM:-0400
TZOFFSETTO:-0500
TZNAME:EST
DTSTART:20261101T060000
END:STANDARD
BEGIN:DAYLIGHT
TZOFFSETFROM:-0500
TZOFFSETTO:-0400
TZNAME:EDT
DTSTART:20270314T070000
END:DAYLIGHT
BEGIN:STANDARD
TZOFFSETFROM:-0400
TZOFFSETTO:-0500
TZNAME:EST
DTSTART:20271107T060000
END:STANDARD
END:VTIMEZONE
BEGIN:VEVENT
DTSTART;TZID=America/New_York:20260428T160000
DTEND;TZID=America/New_York:20260428T170000
DTSTAMP:20260425T071146
CREATED:20250905T175514Z
LAST-MODIFIED:20260105T200747Z
UID:10002143-1777392000-1777395600@bellairepubliclibrary.org
SUMMARY:Bright Minds Book Club
DESCRIPTION:The Bright Minds Book Club is a little different than your standard book club. Instead of picking a single book that everyone reads together\, we will announce a theme\, and students in grades 1-8 can select a book related to that theme to read. On the last Tuesday of each month\, we will meet for a discussion about that topic and how the books everyone chose relate to it. Each month\, we will also engage in a craft or activity at the book club that reflects the theme. Miss Bri will lead the monthly discussion for the younger kids and Mr. Chad will lead the conversation with the older students. \nBright Minds Book Club Winter Schedule:\nJanuary 2026:\n\nTheme: Winter\nBook Club Date: Tuesday\, January 27 at 4:00 pm\nBook Club Activity: Blizzard in a jar\n\nFebruary 2026:\n\nTheme: Red\nBook Club Date: Tuesday\, February 24 at 4:00 pm\nBook Club Activity: Candy Hearts\n\nMarch 2026:\n\nTheme: Green\nBook Club Date: Tuesday\, March 31 at 4:00 pm\nBook Club Activity: Grow a Rainbow\n\nApril 2026:\n\nTheme: Spring\nBook Club Date: Tuesday\, April 28 at 4:00 pm\nBook Club Activity: Save Fred the Worm
URL:https://bellairepubliclibrary.org/event/bright-minds-book-club-2/2026-04-28/
LOCATION:Bellaire Public Library\, 330 32nd Street\, Bellaire\, OH\, 43906\, United States
CATEGORIES:Children's Program
ATTACH;FMTTYPE=image/png:https://bellairepubliclibrary.org/wp-content/uploads/2025/09/BrightMindsBookClub_web-FI.png
END:VEVENT
BEGIN:VEVENT
DTSTART;TZID=America/New_York:20260605T130000
DTEND;TZID=America/New_York:20260605T140000
DTSTAMP:20260425T071146
CREATED:20260424T183015Z
LAST-MODIFIED:20260424T183308Z
UID:10002174-1780664400-1780668000@bellairepubliclibrary.org
SUMMARY:Dino Academy: A Dinosaur Puppet Discover Show
DESCRIPTION:🦖 Step into the prehistoric world with Dino Academy! 🌋 \n\nLed by the quirky and curious Dr. Sarah Tops 🧑‍🔬\, this action‑packed adventure uncovers fascinating dino facts 📚 that will wow even the biggest dinosaur fans. \nFeaturing life‑like\, colorful dinosaur puppets 🦕🦖 that stomp\, roar\, and charm 🎭 their way into every heart\, this show blends science 🔬\, storytelling 📖\, and imagination ✨ in the style of your favorite nature programs. \nIt’s an unforgettable field trip through time ⏳—without ever leaving your seat! 🎉 \n\n\nFamily friendly. Kids of all ages welcome. \nSummer Reading 2026
URL:https://bellairepubliclibrary.org/event/dino-academy-a-dinosaur-puppet-discover-show/
LOCATION:Bellaire Public Library\, 330 32nd Street\, Bellaire\, OH\, 43906\, United States
CATEGORIES:Children's Program
ATTACH;FMTTYPE=image/jpeg:https://bellairepubliclibrary.org/wp-content/uploads/2026/04/SR_2026-06-05_Dino-Academy.jpg
END:VEVENT
BEGIN:VEVENT
DTSTART;TZID=America/New_York:20260610T130000
DTEND;TZID=America/New_York:20260610T140000
DTSTAMP:20260425T071146
CREATED:20260424T193403Z
LAST-MODIFIED:20260424T193509Z
UID:10002176-1781096400-1781100000@bellairepubliclibrary.org
SUMMARY:Summer Reading Club: Unearth a Story
DESCRIPTION:🦖 Summer Reading Club: Unearth a Story 🦕 \n\nDig into summer fun at the Bellaire Public Library! Our Summer Reading Club programs take place Wednesdays at 1:00 p.m. and are designed for kids in grades 1–6. \nUsing the 2026 CSLP theme “Unearth a Story\,” this exciting series runs from June 10 through July 22 and features a variety of hands‑on programs\, with many focusing on dinosaurs\, fossils\, and prehistoric adventures. Participants can expect stories\, activities\, crafts\, games\, and special programs that spark curiosity and bring ancient worlds to life. \nWhether your child is a dino expert or just loves to explore\, our Summer Reading Club offers a fun and engaging way to learn\, imagine\, and read all summer long! \n📚🦕 All programs are free\, and everyone is welcome. \n\n\nPrograms:\n\nJune 10: Zoo to You\nA zoo educator introduces you to some of our favorite animal ambassadors\, from birds and reptiles to amphibians and small mammals (sorry\, the zebra just won’t fit in the van!)\nJune 17: Dynamic Dinosaurs\nT. Rex and other amazing dinosaurs will be explored in this interactive program with large fossil replicas and actual fossils. Find out how big these creatures were\, what they ate\, and other interesting information.\nJune 24: Archeology\nDig into the past! Kids will excavate\, paint\, and engrave their own plaster “petroglyph” while discovering how archaeologists uncover prehistoric art.\nJuly 8: Toys & Trains\nThe Kruger Street Toy & Train Museum’s Educational Outreach Program offers interactive experiences with toys\, dinosaurs\, and everyday life.\nJuly 15: Dino Zipline\nDino Ziplines is a hands-on STEM program where students design an build a transporter to safely deliver a dinosaur egg to its nest using a zip line system. Participants will test and improve their designs while exploring basic engineering principles and problem-solving concepts.\nJuly 22: Interactive Fossils\nWitness the magic of learning through virtual activities. Students get up close and personal with genuine fossils\, sparking their curiosity and fostering a love for science.\n\n  \n\nSummer Reading 2026
URL:https://bellairepubliclibrary.org/event/summer-reading-club-unearth-a-story/2026-06-10/
LOCATION:Bellaire Public Library\, 330 32nd Street\, Bellaire\, OH\, 43906\, United States
CATEGORIES:Children's Program
ATTACH;FMTTYPE=image/jpeg:https://bellairepubliclibrary.org/wp-content/uploads/2026/04/Summer-Reading-Club.jpg
END:VEVENT
BEGIN:VEVENT
DTSTART;TZID=America/New_York:20260617T130000
DTEND;TZID=America/New_York:20260617T140000
DTSTAMP:20260425T071146
CREATED:20260424T193403Z
LAST-MODIFIED:20260424T193509Z
UID:10002177-1781701200-1781704800@bellairepubliclibrary.org
SUMMARY:Summer Reading Club: Unearth a Story
DESCRIPTION:🦖 Summer Reading Club: Unearth a Story 🦕 \n\nDig into summer fun at the Bellaire Public Library! Our Summer Reading Club programs take place Wednesdays at 1:00 p.m. and are designed for kids in grades 1–6. \nUsing the 2026 CSLP theme “Unearth a Story\,” this exciting series runs from June 10 through July 22 and features a variety of hands‑on programs\, with many focusing on dinosaurs\, fossils\, and prehistoric adventures. Participants can expect stories\, activities\, crafts\, games\, and special programs that spark curiosity and bring ancient worlds to life. \nWhether your child is a dino expert or just loves to explore\, our Summer Reading Club offers a fun and engaging way to learn\, imagine\, and read all summer long! \n📚🦕 All programs are free\, and everyone is welcome. \n\n\nPrograms:\n\nJune 10: Zoo to You\nA zoo educator introduces you to some of our favorite animal ambassadors\, from birds and reptiles to amphibians and small mammals (sorry\, the zebra just won’t fit in the van!)\nJune 17: Dynamic Dinosaurs\nT. Rex and other amazing dinosaurs will be explored in this interactive program with large fossil replicas and actual fossils. Find out how big these creatures were\, what they ate\, and other interesting information.\nJune 24: Archeology\nDig into the past! Kids will excavate\, paint\, and engrave their own plaster “petroglyph” while discovering how archaeologists uncover prehistoric art.\nJuly 8: Toys & Trains\nThe Kruger Street Toy & Train Museum’s Educational Outreach Program offers interactive experiences with toys\, dinosaurs\, and everyday life.\nJuly 15: Dino Zipline\nDino Ziplines is a hands-on STEM program where students design an build a transporter to safely deliver a dinosaur egg to its nest using a zip line system. Participants will test and improve their designs while exploring basic engineering principles and problem-solving concepts.\nJuly 22: Interactive Fossils\nWitness the magic of learning through virtual activities. Students get up close and personal with genuine fossils\, sparking their curiosity and fostering a love for science.\n\n  \n\nSummer Reading 2026
URL:https://bellairepubliclibrary.org/event/summer-reading-club-unearth-a-story/2026-06-17/
LOCATION:Bellaire Public Library\, 330 32nd Street\, Bellaire\, OH\, 43906\, United States
CATEGORIES:Children's Program
ATTACH;FMTTYPE=image/jpeg:https://bellairepubliclibrary.org/wp-content/uploads/2026/04/Summer-Reading-Club.jpg
END:VEVENT
BEGIN:VEVENT
DTSTART;TZID=America/New_York:20260624T130000
DTEND;TZID=America/New_York:20260624T140000
DTSTAMP:20260425T071146
CREATED:20260424T193403Z
LAST-MODIFIED:20260424T193509Z
UID:10002178-1782306000-1782309600@bellairepubliclibrary.org
SUMMARY:Summer Reading Club: Unearth a Story
DESCRIPTION:🦖 Summer Reading Club: Unearth a Story 🦕 \n\nDig into summer fun at the Bellaire Public Library! Our Summer Reading Club programs take place Wednesdays at 1:00 p.m. and are designed for kids in grades 1–6. \nUsing the 2026 CSLP theme “Unearth a Story\,” this exciting series runs from June 10 through July 22 and features a variety of hands‑on programs\, with many focusing on dinosaurs\, fossils\, and prehistoric adventures. Participants can expect stories\, activities\, crafts\, games\, and special programs that spark curiosity and bring ancient worlds to life. \nWhether your child is a dino expert or just loves to explore\, our Summer Reading Club offers a fun and engaging way to learn\, imagine\, and read all summer long! \n📚🦕 All programs are free\, and everyone is welcome. \n\n\nPrograms:\n\nJune 10: Zoo to You\nA zoo educator introduces you to some of our favorite animal ambassadors\, from birds and reptiles to amphibians and small mammals (sorry\, the zebra just won’t fit in the van!)\nJune 17: Dynamic Dinosaurs\nT. Rex and other amazing dinosaurs will be explored in this interactive program with large fossil replicas and actual fossils. Find out how big these creatures were\, what they ate\, and other interesting information.\nJune 24: Archeology\nDig into the past! Kids will excavate\, paint\, and engrave their own plaster “petroglyph” while discovering how archaeologists uncover prehistoric art.\nJuly 8: Toys & Trains\nThe Kruger Street Toy & Train Museum’s Educational Outreach Program offers interactive experiences with toys\, dinosaurs\, and everyday life.\nJuly 15: Dino Zipline\nDino Ziplines is a hands-on STEM program where students design an build a transporter to safely deliver a dinosaur egg to its nest using a zip line system. Participants will test and improve their designs while exploring basic engineering principles and problem-solving concepts.\nJuly 22: Interactive Fossils\nWitness the magic of learning through virtual activities. Students get up close and personal with genuine fossils\, sparking their curiosity and fostering a love for science.\n\n  \n\nSummer Reading 2026
URL:https://bellairepubliclibrary.org/event/summer-reading-club-unearth-a-story/2026-06-24/
LOCATION:Bellaire Public Library\, 330 32nd Street\, Bellaire\, OH\, 43906\, United States
CATEGORIES:Children's Program
ATTACH;FMTTYPE=image/jpeg:https://bellairepubliclibrary.org/wp-content/uploads/2026/04/Summer-Reading-Club.jpg
END:VEVENT
BEGIN:VEVENT
DTSTART;TZID=America/New_York:20260701T130000
DTEND;TZID=America/New_York:20260701T140000
DTSTAMP:20260425T071146
CREATED:20260424T193403Z
LAST-MODIFIED:20260424T193509Z
UID:10002179-1782910800-1782914400@bellairepubliclibrary.org
SUMMARY:Summer Reading Club: Unearth a Story
DESCRIPTION:🦖 Summer Reading Club: Unearth a Story 🦕 \n\nDig into summer fun at the Bellaire Public Library! Our Summer Reading Club programs take place Wednesdays at 1:00 p.m. and are designed for kids in grades 1–6. \nUsing the 2026 CSLP theme “Unearth a Story\,” this exciting series runs from June 10 through July 22 and features a variety of hands‑on programs\, with many focusing on dinosaurs\, fossils\, and prehistoric adventures. Participants can expect stories\, activities\, crafts\, games\, and special programs that spark curiosity and bring ancient worlds to life. \nWhether your child is a dino expert or just loves to explore\, our Summer Reading Club offers a fun and engaging way to learn\, imagine\, and read all summer long! \n📚🦕 All programs are free\, and everyone is welcome. \n\n\nPrograms:\n\nJune 10: Zoo to You\nA zoo educator introduces you to some of our favorite animal ambassadors\, from birds and reptiles to amphibians and small mammals (sorry\, the zebra just won’t fit in the van!)\nJune 17: Dynamic Dinosaurs\nT. Rex and other amazing dinosaurs will be explored in this interactive program with large fossil replicas and actual fossils. Find out how big these creatures were\, what they ate\, and other interesting information.\nJune 24: Archeology\nDig into the past! Kids will excavate\, paint\, and engrave their own plaster “petroglyph” while discovering how archaeologists uncover prehistoric art.\nJuly 8: Toys & Trains\nThe Kruger Street Toy & Train Museum’s Educational Outreach Program offers interactive experiences with toys\, dinosaurs\, and everyday life.\nJuly 15: Dino Zipline\nDino Ziplines is a hands-on STEM program where students design an build a transporter to safely deliver a dinosaur egg to its nest using a zip line system. Participants will test and improve their designs while exploring basic engineering principles and problem-solving concepts.\nJuly 22: Interactive Fossils\nWitness the magic of learning through virtual activities. Students get up close and personal with genuine fossils\, sparking their curiosity and fostering a love for science.\n\n  \n\nSummer Reading 2026
URL:https://bellairepubliclibrary.org/event/summer-reading-club-unearth-a-story/2026-07-01/
LOCATION:Bellaire Public Library\, 330 32nd Street\, Bellaire\, OH\, 43906\, United States
CATEGORIES:Children's Program
ATTACH;FMTTYPE=image/jpeg:https://bellairepubliclibrary.org/wp-content/uploads/2026/04/Summer-Reading-Club.jpg
END:VEVENT
BEGIN:VEVENT
DTSTART;TZID=America/New_York:20260708T130000
DTEND;TZID=America/New_York:20260708T140000
DTSTAMP:20260425T071146
CREATED:20260424T193403Z
LAST-MODIFIED:20260424T193509Z
UID:10002180-1783515600-1783519200@bellairepubliclibrary.org
SUMMARY:Summer Reading Club: Unearth a Story
DESCRIPTION:🦖 Summer Reading Club: Unearth a Story 🦕 \n\nDig into summer fun at the Bellaire Public Library! Our Summer Reading Club programs take place Wednesdays at 1:00 p.m. and are designed for kids in grades 1–6. \nUsing the 2026 CSLP theme “Unearth a Story\,” this exciting series runs from June 10 through July 22 and features a variety of hands‑on programs\, with many focusing on dinosaurs\, fossils\, and prehistoric adventures. Participants can expect stories\, activities\, crafts\, games\, and special programs that spark curiosity and bring ancient worlds to life. \nWhether your child is a dino expert or just loves to explore\, our Summer Reading Club offers a fun and engaging way to learn\, imagine\, and read all summer long! \n📚🦕 All programs are free\, and everyone is welcome. \n\n\nPrograms:\n\nJune 10: Zoo to You\nA zoo educator introduces you to some of our favorite animal ambassadors\, from birds and reptiles to amphibians and small mammals (sorry\, the zebra just won’t fit in the van!)\nJune 17: Dynamic Dinosaurs\nT. Rex and other amazing dinosaurs will be explored in this interactive program with large fossil replicas and actual fossils. Find out how big these creatures were\, what they ate\, and other interesting information.\nJune 24: Archeology\nDig into the past! Kids will excavate\, paint\, and engrave their own plaster “petroglyph” while discovering how archaeologists uncover prehistoric art.\nJuly 8: Toys & Trains\nThe Kruger Street Toy & Train Museum’s Educational Outreach Program offers interactive experiences with toys\, dinosaurs\, and everyday life.\nJuly 15: Dino Zipline\nDino Ziplines is a hands-on STEM program where students design an build a transporter to safely deliver a dinosaur egg to its nest using a zip line system. Participants will test and improve their designs while exploring basic engineering principles and problem-solving concepts.\nJuly 22: Interactive Fossils\nWitness the magic of learning through virtual activities. Students get up close and personal with genuine fossils\, sparking their curiosity and fostering a love for science.\n\n  \n\nSummer Reading 2026
URL:https://bellairepubliclibrary.org/event/summer-reading-club-unearth-a-story/2026-07-08/
LOCATION:Bellaire Public Library\, 330 32nd Street\, Bellaire\, OH\, 43906\, United States
CATEGORIES:Children's Program
ATTACH;FMTTYPE=image/jpeg:https://bellairepubliclibrary.org/wp-content/uploads/2026/04/Summer-Reading-Club.jpg
END:VEVENT
BEGIN:VEVENT
DTSTART;TZID=America/New_York:20260715T130000
DTEND;TZID=America/New_York:20260715T140000
DTSTAMP:20260425T071146
CREATED:20260424T193403Z
LAST-MODIFIED:20260424T193509Z
UID:10002181-1784120400-1784124000@bellairepubliclibrary.org
SUMMARY:Summer Reading Club: Unearth a Story
DESCRIPTION:🦖 Summer Reading Club: Unearth a Story 🦕 \n\nDig into summer fun at the Bellaire Public Library! Our Summer Reading Club programs take place Wednesdays at 1:00 p.m. and are designed for kids in grades 1–6. \nUsing the 2026 CSLP theme “Unearth a Story\,” this exciting series runs from June 10 through July 22 and features a variety of hands‑on programs\, with many focusing on dinosaurs\, fossils\, and prehistoric adventures. Participants can expect stories\, activities\, crafts\, games\, and special programs that spark curiosity and bring ancient worlds to life. \nWhether your child is a dino expert or just loves to explore\, our Summer Reading Club offers a fun and engaging way to learn\, imagine\, and read all summer long! \n📚🦕 All programs are free\, and everyone is welcome. \n\n\nPrograms:\n\nJune 10: Zoo to You\nA zoo educator introduces you to some of our favorite animal ambassadors\, from birds and reptiles to amphibians and small mammals (sorry\, the zebra just won’t fit in the van!)\nJune 17: Dynamic Dinosaurs\nT. Rex and other amazing dinosaurs will be explored in this interactive program with large fossil replicas and actual fossils. Find out how big these creatures were\, what they ate\, and other interesting information.\nJune 24: Archeology\nDig into the past! Kids will excavate\, paint\, and engrave their own plaster “petroglyph” while discovering how archaeologists uncover prehistoric art.\nJuly 8: Toys & Trains\nThe Kruger Street Toy & Train Museum’s Educational Outreach Program offers interactive experiences with toys\, dinosaurs\, and everyday life.\nJuly 15: Dino Zipline\nDino Ziplines is a hands-on STEM program where students design an build a transporter to safely deliver a dinosaur egg to its nest using a zip line system. Participants will test and improve their designs while exploring basic engineering principles and problem-solving concepts.\nJuly 22: Interactive Fossils\nWitness the magic of learning through virtual activities. Students get up close and personal with genuine fossils\, sparking their curiosity and fostering a love for science.\n\n  \n\nSummer Reading 2026
URL:https://bellairepubliclibrary.org/event/summer-reading-club-unearth-a-story/2026-07-15/
LOCATION:Bellaire Public Library\, 330 32nd Street\, Bellaire\, OH\, 43906\, United States
CATEGORIES:Children's Program
ATTACH;FMTTYPE=image/jpeg:https://bellairepubliclibrary.org/wp-content/uploads/2026/04/Summer-Reading-Club.jpg
END:VEVENT
BEGIN:VEVENT
DTSTART;TZID=America/New_York:20260722T130000
DTEND;TZID=America/New_York:20260722T140000
DTSTAMP:20260425T071146
CREATED:20260424T193403Z
LAST-MODIFIED:20260424T193509Z
UID:10002182-1784725200-1784728800@bellairepubliclibrary.org
SUMMARY:Summer Reading Club: Unearth a Story
DESCRIPTION:🦖 Summer Reading Club: Unearth a Story 🦕 \n\nDig into summer fun at the Bellaire Public Library! Our Summer Reading Club programs take place Wednesdays at 1:00 p.m. and are designed for kids in grades 1–6. \nUsing the 2026 CSLP theme “Unearth a Story\,” this exciting series runs from June 10 through July 22 and features a variety of hands‑on programs\, with many focusing on dinosaurs\, fossils\, and prehistoric adventures. Participants can expect stories\, activities\, crafts\, games\, and special programs that spark curiosity and bring ancient worlds to life. \nWhether your child is a dino expert or just loves to explore\, our Summer Reading Club offers a fun and engaging way to learn\, imagine\, and read all summer long! \n📚🦕 All programs are free\, and everyone is welcome. \n\n\nPrograms:\n\nJune 10: Zoo to You\nA zoo educator introduces you to some of our favorite animal ambassadors\, from birds and reptiles to amphibians and small mammals (sorry\, the zebra just won’t fit in the van!)\nJune 17: Dynamic Dinosaurs\nT. Rex and other amazing dinosaurs will be explored in this interactive program with large fossil replicas and actual fossils. Find out how big these creatures were\, what they ate\, and other interesting information.\nJune 24: Archeology\nDig into the past! Kids will excavate\, paint\, and engrave their own plaster “petroglyph” while discovering how archaeologists uncover prehistoric art.\nJuly 8: Toys & Trains\nThe Kruger Street Toy & Train Museum’s Educational Outreach Program offers interactive experiences with toys\, dinosaurs\, and everyday life.\nJuly 15: Dino Zipline\nDino Ziplines is a hands-on STEM program where students design an build a transporter to safely deliver a dinosaur egg to its nest using a zip line system. Participants will test and improve their designs while exploring basic engineering principles and problem-solving concepts.\nJuly 22: Interactive Fossils\nWitness the magic of learning through virtual activities. Students get up close and personal with genuine fossils\, sparking their curiosity and fostering a love for science.\n\n  \n\nSummer Reading 2026
URL:https://bellairepubliclibrary.org/event/summer-reading-club-unearth-a-story/2026-07-22/
LOCATION:Bellaire Public Library\, 330 32nd Street\, Bellaire\, OH\, 43906\, United States
CATEGORIES:Children's Program
ATTACH;FMTTYPE=image/jpeg:https://bellairepubliclibrary.org/wp-content/uploads/2026/04/Summer-Reading-Club.jpg
END:VEVENT
END:VCALENDAR