BEGIN:VCALENDAR
VERSION:2.0
PRODID:-//Bellaire Public Library - ECPv6.15.20//NONSGML v1.0//EN
CALSCALE:GREGORIAN
METHOD:PUBLISH
X-WR-CALNAME:Bellaire Public Library
X-ORIGINAL-URL:https://bellairepubliclibrary.org
X-WR-CALDESC:Events for Bellaire Public Library
REFRESH-INTERVAL;VALUE=DURATION:PT1H
X-Robots-Tag:noindex
X-PUBLISHED-TTL:PT1H
BEGIN:VTIMEZONE
TZID:America/New_York
BEGIN:DAYLIGHT
TZOFFSETFROM:-0500
TZOFFSETTO:-0400
TZNAME:EDT
DTSTART:20240310T070000
END:DAYLIGHT
BEGIN:STANDARD
TZOFFSETFROM:-0400
TZOFFSETTO:-0500
TZNAME:EST
DTSTART:20241103T060000
END:STANDARD
BEGIN:DAYLIGHT
TZOFFSETFROM:-0500
TZOFFSETTO:-0400
TZNAME:EDT
DTSTART:20250309T070000
END:DAYLIGHT
BEGIN:STANDARD
TZOFFSETFROM:-0400
TZOFFSETTO:-0500
TZNAME:EST
DTSTART:20251102T060000
END:STANDARD
BEGIN:DAYLIGHT
TZOFFSETFROM:-0500
TZOFFSETTO:-0400
TZNAME:EDT
DTSTART:20260308T070000
END:DAYLIGHT
BEGIN:STANDARD
TZOFFSETFROM:-0400
TZOFFSETTO:-0500
TZNAME:EST
DTSTART:20261101T060000
END:STANDARD
END:VTIMEZONE
BEGIN:VEVENT
DTSTART;VALUE=DATE:20250101
DTEND;VALUE=DATE:20250102
DTSTAMP:20260424T013949
CREATED:20241220T210957Z
LAST-MODIFIED:20241220T210957Z
UID:10001112-1735689600-1735775999@bellairepubliclibrary.org
SUMMARY:Library Closed for Holiday
DESCRIPTION:The Bellaire Public Library will be closed Tuesday\, December 24\, and Wednesday\, December 25\, for Christmas Eve and Christmas Day. On Tuesday\, December 31\, we will be open from 9 am to 2:30 pm. We will be closed on Wednesday\, January 1\, for New Year’s Day.\n\n\n\nHappy holidays!
URL:https://bellairepubliclibrary.org/event/library-closed-for-holiday-3/
LOCATION:Bellaire Public Library\, 330 32nd Street\, Bellaire\, OH\, 43906\, United States
CATEGORIES:Closings
ATTACH;FMTTYPE=image/png:https://bellairepubliclibrary.org/wp-content/uploads/2024/12/Closings_Holidays_2024.png
END:VEVENT
BEGIN:VEVENT
DTSTART;TZID=America/New_York:20250103T160000
DTEND;TZID=America/New_York:20250103T170000
DTSTAMP:20260424T013949
CREATED:20240129T205657Z
LAST-MODIFIED:20250530T155608Z
UID:10000908-1735920000-1735923600@bellairepubliclibrary.org
SUMMARY:Library Closes at 4 PM on the First Friday of the Month
DESCRIPTION:The Library closes one hour early once a month\, generally on the first Friday of each month\, for a staff meeting/training.\nNOTE: The June meeting will be held on Friday\, May 31\, to allow staff to prepare for the opening week of Summer Reading. \n2025 – 4:00 PM Friday Closings:\n\nJan. 3\nFeb. 7\nMar. 7\nApr. 4\nMay 2\nMay 30 (June meeting happens last week in May to prepare for Summer Reading launch)\nJuly – no meeting (July 4 is the first Friday of the month and the Library will be closed)\nAug. 1\nSept. 5\nOct. 3\nNov. 7\nDec. 5
URL:https://bellairepubliclibrary.org/event/library-closing-early-friday-feb-2/2025-01-03/
LOCATION:Bellaire Public Library\, 330 32nd Street\, Bellaire\, OH\, 43906\, United States
CATEGORIES:Closings
ATTACH;FMTTYPE=image/png:https://bellairepubliclibrary.org/wp-content/uploads/2024/01/BPLNews_FI_Staff-Fridays.png
END:VEVENT
BEGIN:VEVENT
DTSTART;TZID=America/New_York:20250106T090000
DTEND;TZID=America/New_York:20250106T190000
DTSTAMP:20260424T013949
CREATED:20250106T113847Z
LAST-MODIFIED:20250107T130225Z
UID:10001272-1736154000-1736190000@bellairepubliclibrary.org
SUMMARY:Library Closed Jan. 6 Due to Winter Weather
DESCRIPTION:The Belmont County Sherriff’s Office has placed Belmont Co. under a Level 2 emergency\, and snow is predicted to continue accumulating throughout the day. For everyone’s safety\, the Library will be closed today (Monday\, January 6). We apologize for the inconvenience. We hope everyone stays safe and warm throughout this wintery day. \nEven though we are closed\, the Library’s digital resources are always available and accessible from the safety of your home with no hazardous driving to the Library in bad weather necessary. Check out e-books\, magazines\, audio\, and more on your mobile device. Just grab your library card and head to https://ohdbks.overdrive.com/ or use the Libby app on your smartphone or tablet to download a cozy read.
URL:https://bellairepubliclibrary.org/event/library-closed-jan-6-due-to-winter-weather/
LOCATION:Bellaire Public Library\, 330 32nd Street\, Bellaire\, OH\, 43906\, United States
CATEGORIES:Closings
ATTACH;FMTTYPE=image/png:https://bellairepubliclibrary.org/wp-content/uploads/2024/01/BPL_Closed-Snow_big.png
END:VEVENT
BEGIN:VEVENT
DTSTART;TZID=America/New_York:20250107T090000
DTEND;TZID=America/New_York:20250107T120000
DTSTAMP:20260424T013949
CREATED:20250107T125845Z
LAST-MODIFIED:20250108T115518Z
UID:10001273-1736240400-1736251200@bellairepubliclibrary.org
SUMMARY:Library Closed Jan. 7 Due to Road Advisory
DESCRIPTION:UPDATE (11:30 am): Belmont Co. is still under a Level 2 Road Advisory so the Bellaire Public Library will not open today\, Tuesday\, Jan. 7. \nEven when we are closed\, the Library’s digital resources are always available and accessible from the safety of your home with no hazardous driving to the Library in bad weather necessary. Check out e-books\, magazines\, audio\, and more on your mobile device. Just grab your library card and head to https://ohdbks.overdrive.com/ or use the Libby app on your smartphone or tablet to download a cozy read.
URL:https://bellairepubliclibrary.org/event/library-opening-at-noon-pending-road-advisory-lift/
LOCATION:Bellaire Public Library\, 330 32nd Street\, Bellaire\, OH\, 43906\, United States
CATEGORIES:Closings
ATTACH;FMTTYPE=image/png:https://bellairepubliclibrary.org/wp-content/uploads/2025/01/Library-Opening-Pending-CLosed_web.png
END:VEVENT
BEGIN:VEVENT
DTSTART;TZID=America/New_York:20250120T090000
DTEND;TZID=America/New_York:20250120T190000
DTSTAMP:20260424T013949
CREATED:20250116T191835Z
LAST-MODIFIED:20250121T154553Z
UID:10001274-1737363600-1737399600@bellairepubliclibrary.org
SUMMARY:Library Closed on Martin Luther King\, Jr. Day
DESCRIPTION:The Library will be closed on Martin Luther King\, Jr. Day\, Monday\, January 20. \nWriting in The Washington Post in 1983\, Coretta Scott King provided a vision of how the holiday honoring her husband should be observed: \n“The holiday must be substantive as well as symbolic. It must be more than a day of celebration . . . Let this holiday be a day of reflection\, a day of teaching nonviolent philosophy and strategy\, a day of getting involved in nonviolent action for social and economic progress.” \n\nWhile the Library is closed for the holiday\, our digital collections are available 24/7. Download e-books\, stream audiobooks\, and e-magazine through the Ohio Digital Library where over 150 titles are available about Martin Luther King\, Jr. alone!
URL:https://bellairepubliclibrary.org/event/library-closed-on-martin-luther-king-jr-day-2/
LOCATION:Bellaire Public Library\, 330 32nd Street\, Bellaire\, OH\, 43906\, United States
CATEGORIES:Closings
ATTACH;FMTTYPE=image/png:https://bellairepubliclibrary.org/wp-content/uploads/2025/01/Closed_MLK-Day_2025_web.png
END:VEVENT
END:VCALENDAR