BEGIN:VCALENDAR
VERSION:2.0
PRODID:-//Bellaire Public Library - ECPv6.15.20//NONSGML v1.0//EN
CALSCALE:GREGORIAN
METHOD:PUBLISH
X-WR-CALNAME:Bellaire Public Library
X-ORIGINAL-URL:https://bellairepubliclibrary.org
X-WR-CALDESC:Events for Bellaire Public Library
REFRESH-INTERVAL;VALUE=DURATION:PT1H
X-Robots-Tag:noindex
X-PUBLISHED-TTL:PT1H
BEGIN:VTIMEZONE
TZID:America/New_York
BEGIN:DAYLIGHT
TZOFFSETFROM:-0500
TZOFFSETTO:-0400
TZNAME:EDT
DTSTART:20240310T070000
END:DAYLIGHT
BEGIN:STANDARD
TZOFFSETFROM:-0400
TZOFFSETTO:-0500
TZNAME:EST
DTSTART:20241103T060000
END:STANDARD
BEGIN:DAYLIGHT
TZOFFSETFROM:-0500
TZOFFSETTO:-0400
TZNAME:EDT
DTSTART:20250309T070000
END:DAYLIGHT
BEGIN:STANDARD
TZOFFSETFROM:-0400
TZOFFSETTO:-0500
TZNAME:EST
DTSTART:20251102T060000
END:STANDARD
BEGIN:DAYLIGHT
TZOFFSETFROM:-0500
TZOFFSETTO:-0400
TZNAME:EDT
DTSTART:20260308T070000
END:DAYLIGHT
BEGIN:STANDARD
TZOFFSETFROM:-0400
TZOFFSETTO:-0500
TZNAME:EST
DTSTART:20261101T060000
END:STANDARD
END:VTIMEZONE
BEGIN:VEVENT
DTSTART;TZID=America/New_York:20250207T160000
DTEND;TZID=America/New_York:20250207T170000
DTSTAMP:20260424T013952
CREATED:20240129T205657Z
LAST-MODIFIED:20250530T155608Z
UID:10001383-1738944000-1738947600@bellairepubliclibrary.org
SUMMARY:Library Closes at 4 PM on the First Friday of the Month
DESCRIPTION:The Library closes one hour early once a month\, generally on the first Friday of each month\, for a staff meeting/training.\nNOTE: The June meeting will be held on Friday\, May 31\, to allow staff to prepare for the opening week of Summer Reading. \n2025 – 4:00 PM Friday Closings:\n\nJan. 3\nFeb. 7\nMar. 7\nApr. 4\nMay 2\nMay 30 (June meeting happens last week in May to prepare for Summer Reading launch)\nJuly – no meeting (July 4 is the first Friday of the month and the Library will be closed)\nAug. 1\nSept. 5\nOct. 3\nNov. 7\nDec. 5
URL:https://bellairepubliclibrary.org/event/library-closing-early-friday-feb-2/2025-02-07/
LOCATION:Bellaire Public Library\, 330 32nd Street\, Bellaire\, OH\, 43906\, United States
CATEGORIES:Closings
ATTACH;FMTTYPE=image/png:https://bellairepubliclibrary.org/wp-content/uploads/2024/01/BPLNews_FI_Staff-Fridays.png
END:VEVENT
BEGIN:VEVENT
DTSTART;TZID=America/New_York:20250207T160000
DTEND;TZID=America/New_York:20250207T170000
DTSTAMP:20260424T013953
CREATED:20250203T155408Z
LAST-MODIFIED:20250210T143535Z
UID:10000909-1738944000-1738947600@bellairepubliclibrary.org
SUMMARY:Library Closes at 4 PM on the First Friday of the Month
DESCRIPTION:The Library closes one hour early once a month\, generally on the first Friday of each month\, for a staff meeting/training.\nNOTE: The June meeting will be held on Friday\, May 31\, to allow staff to prepare for the opening week of Summer Reading. \n2025 – 4:00 PM Friday Closings:\n\nJan. 3\nFeb. 7\nMar. 7\nApr. 4\nMay 2\nMay 30 (June meeting happens last week in May to prepare for Summer Reading launch)\nJuly – no meeting (July 4 is the first Friday of the month and the Library will be closed)\nAug. 1\nSept. 5\nOct. 3\nNov. 7\nDec. 5
URL:https://bellairepubliclibrary.org/event/library-closing-early-friday-feb-2-2/
LOCATION:Bellaire Public Library\, 330 32nd Street\, Bellaire\, OH\, 43906\, United States
CATEGORIES:Closings
ATTACH;FMTTYPE=image/png:https://bellairepubliclibrary.org/wp-content/uploads/2024/01/BPLNews_FI_Staff-Fridays.png
END:VEVENT
BEGIN:VEVENT
DTSTART;TZID=America/New_York:20250217T090000
DTEND;TZID=America/New_York:20250217T190000
DTSTAMP:20260424T013953
CREATED:20250210T223136Z
LAST-MODIFIED:20250220T140517Z
UID:10001340-1739782800-1739818800@bellairepubliclibrary.org
SUMMARY:Library Closed on Presidents Day
DESCRIPTION:The Library will be closed on Presidents’ Day\, Monday\, February 17. \nFun fact: Did you know the official Federal holiday is actually called Washington’s Birthday? In 1885\, Congress designated February 22\, George Washington’s birthday\, as a holiday for all federal workers making it the first federal holiday to honor an individual’s birth date. Nearly a century later\, in 1971\, the Uniform Monday Holiday Law changed the date to the third Monday in February. The position of the holiday between the birthdays of Washington and Abraham Lincoln gave rise to the popular name of Presidents’ Day. Today’s fun fact is brought to you by the National Archives (https://www.archives.gov/news/topics/washingtons-birthday). \n\nWhile the Library is closed for the holiday\, our digital collections are available 24/7. Download e-books\, stream audiobooks\, and e-magazine through the Ohio Digital Library where over 150 titles are available about U.S. Presidents!
URL:https://bellairepubliclibrary.org/event/library-closed-on-presidents-day-2025/
LOCATION:Bellaire Public Library\, 330 32nd Street\, Bellaire\, OH\, 43906\, United States
CATEGORIES:Closings
ATTACH;FMTTYPE=image/png:https://bellairepubliclibrary.org/wp-content/uploads/2025/02/Closed_Pres-Day_2025_WebFI.png
END:VEVENT
END:VCALENDAR