BEGIN:VCALENDAR
VERSION:2.0
PRODID:-//Bellaire Public Library - ECPv6.15.20//NONSGML v1.0//EN
CALSCALE:GREGORIAN
METHOD:PUBLISH
X-ORIGINAL-URL:https://bellairepubliclibrary.org
X-WR-CALDESC:Events for Bellaire Public Library
REFRESH-INTERVAL;VALUE=DURATION:PT1H
X-Robots-Tag:noindex
X-PUBLISHED-TTL:PT1H
BEGIN:VTIMEZONE
TZID:America/New_York
BEGIN:DAYLIGHT
TZOFFSETFROM:-0500
TZOFFSETTO:-0400
TZNAME:EDT
DTSTART:20240310T070000
END:DAYLIGHT
BEGIN:STANDARD
TZOFFSETFROM:-0400
TZOFFSETTO:-0500
TZNAME:EST
DTSTART:20241103T060000
END:STANDARD
BEGIN:DAYLIGHT
TZOFFSETFROM:-0500
TZOFFSETTO:-0400
TZNAME:EDT
DTSTART:20250309T070000
END:DAYLIGHT
BEGIN:STANDARD
TZOFFSETFROM:-0400
TZOFFSETTO:-0500
TZNAME:EST
DTSTART:20251102T060000
END:STANDARD
BEGIN:DAYLIGHT
TZOFFSETFROM:-0500
TZOFFSETTO:-0400
TZNAME:EDT
DTSTART:20260308T070000
END:DAYLIGHT
BEGIN:STANDARD
TZOFFSETFROM:-0400
TZOFFSETTO:-0500
TZNAME:EST
DTSTART:20261101T060000
END:STANDARD
END:VTIMEZONE
BEGIN:VEVENT
DTSTART;TZID=America/New_York:20250502T160000
DTEND;TZID=America/New_York:20250502T170000
DTSTAMP:20260423T193654
CREATED:20240129T205657Z
LAST-MODIFIED:20250530T155608Z
UID:10000912-1746201600-1746205200@bellairepubliclibrary.org
SUMMARY:Library Closes at 4 PM on the First Friday of the Month
DESCRIPTION:The Library closes one hour early once a month\, generally on the first Friday of each month\, for a staff meeting/training.\nNOTE: The June meeting will be held on Friday\, May 31\, to allow staff to prepare for the opening week of Summer Reading. \n2025 – 4:00 PM Friday Closings:\n\nJan. 3\nFeb. 7\nMar. 7\nApr. 4\nMay 2\nMay 30 (June meeting happens last week in May to prepare for Summer Reading launch)\nJuly – no meeting (July 4 is the first Friday of the month and the Library will be closed)\nAug. 1\nSept. 5\nOct. 3\nNov. 7\nDec. 5
URL:https://bellairepubliclibrary.org/event/library-closing-early-friday-feb-2/2025-05-02/
LOCATION:Bellaire Public Library\, 330 32nd Street\, Bellaire\, OH\, 43906\, United States
CATEGORIES:Closings
ATTACH;FMTTYPE=image/png:https://bellairepubliclibrary.org/wp-content/uploads/2024/01/BPLNews_FI_Staff-Fridays.png
END:VEVENT
BEGIN:VEVENT
DTSTART;VALUE=DATE:20250524
DTEND;VALUE=DATE:20250527
DTSTAMP:20260423T193654
CREATED:20250519T223138Z
LAST-MODIFIED:20250528T215752Z
UID:10001387-1748044800-1748303999@bellairepubliclibrary.org
SUMMARY:Library Closed Memorial Day Weekend
DESCRIPTION:The Library will be closed over the Memorial Day weekend\, Saturday\, May 24\, through Monday\, May 26. As we head into the holiday weekend\, we extend our gratitude to all the men and women who sacrificed their lives while serving in the country’s armed forces and wish our patrons a peaceful and safe holiday. Normal Library hours will resume on Tuesday\, May 27.
URL:https://bellairepubliclibrary.org/event/library-closed-memorial-day-weekend/
LOCATION:Bellaire Public Library\, 330 32nd Street\, Bellaire\, OH\, 43906\, United States
CATEGORIES:Closings
ATTACH;FMTTYPE=image/png:https://bellairepubliclibrary.org/wp-content/uploads/2025/05/Closed_2025-05-24_Mem-Day_web.png
END:VEVENT
BEGIN:VEVENT
DTSTART;TZID=America/New_York:20250530T160000
DTEND;TZID=America/New_York:20250530T170000
DTSTAMP:20260423T193654
CREATED:20250530T155711Z
LAST-MODIFIED:20250530T155712Z
UID:10001463-1748620800-1748624400@bellairepubliclibrary.org
SUMMARY:Library Closes at 4 PM for Staff Meeting
DESCRIPTION:The Library closes one hour early once a month\, generally on the first Friday of each month\, for a staff meeting/training.\nNOTE: The June meeting will be held on Friday\, May 31\, to allow staff to prepare for the opening week of Summer Reading. \n2025 – 4:00 PM Friday Closings:\n\nJan. 3\nFeb. 7\nMar. 7\nApr. 4\nMay 2\nMay 30 (June meeting happens last week in May to prepare for Summer Reading launch)\nJuly – no meeting (July 4 is the first Friday of the month and the Library will be closed)\nAug. 1\nSept. 5\nOct. 3\nNov. 7\nDec. 5
URL:https://bellairepubliclibrary.org/event/library-closing-early-friday-feb-2-3/
LOCATION:Bellaire Public Library\, 330 32nd Street\, Bellaire\, OH\, 43906\, United States
CATEGORIES:Closings
ATTACH;FMTTYPE=image/png:https://bellairepubliclibrary.org/wp-content/uploads/2024/01/BPLNews_FI_Staff-Fridays.png
END:VEVENT
END:VCALENDAR