BEGIN:VCALENDAR
VERSION:2.0
PRODID:-//Bellaire Public Library - ECPv6.15.20//NONSGML v1.0//EN
CALSCALE:GREGORIAN
METHOD:PUBLISH
X-WR-CALNAME:Bellaire Public Library
X-ORIGINAL-URL:https://bellairepubliclibrary.org
X-WR-CALDESC:Events for Bellaire Public Library
REFRESH-INTERVAL;VALUE=DURATION:PT1H
X-Robots-Tag:noindex
X-PUBLISHED-TTL:PT1H
BEGIN:VTIMEZONE
TZID:America/New_York
BEGIN:DAYLIGHT
TZOFFSETFROM:-0500
TZOFFSETTO:-0400
TZNAME:EDT
DTSTART:20250309T070000
END:DAYLIGHT
BEGIN:STANDARD
TZOFFSETFROM:-0400
TZOFFSETTO:-0500
TZNAME:EST
DTSTART:20251102T060000
END:STANDARD
BEGIN:DAYLIGHT
TZOFFSETFROM:-0500
TZOFFSETTO:-0400
TZNAME:EDT
DTSTART:20260308T070000
END:DAYLIGHT
BEGIN:STANDARD
TZOFFSETFROM:-0400
TZOFFSETTO:-0500
TZNAME:EST
DTSTART:20261101T060000
END:STANDARD
BEGIN:DAYLIGHT
TZOFFSETFROM:-0500
TZOFFSETTO:-0400
TZNAME:EDT
DTSTART:20270314T070000
END:DAYLIGHT
BEGIN:STANDARD
TZOFFSETFROM:-0400
TZOFFSETTO:-0500
TZNAME:EST
DTSTART:20271107T060000
END:STANDARD
END:VTIMEZONE
BEGIN:VEVENT
DTSTART;TZID=America/New_York:20260101T090000
DTEND;TZID=America/New_York:20260101T180000
DTSTAMP:20260423T063657
CREATED:20251107T182824Z
LAST-MODIFIED:20251107T185154Z
UID:10002095-1767258000-1767290400@bellairepubliclibrary.org
SUMMARY:Closed on New Year's Day
DESCRIPTION:We will be closing at 2:30 pm on New Year’s Eve (Wednesday\, December 31) and closed all of New Year’s Day (Thursday\, January 1) to ring in the new year and give our team a well-deserved break.\nRegular hours will resume on Friday\, January 2. \nWishing you a happy\, healthy\, and prosperous New Year!
URL:https://bellairepubliclibrary.org/event/closed-on-new-years-day/
LOCATION:Bellaire Public Library\, 330 32nd Street\, Bellaire\, OH\, 43906\, United States
CATEGORIES:Closings
ATTACH;FMTTYPE=image/png:https://bellairepubliclibrary.org/wp-content/uploads/2025/11/Closed_New-Years-1.png
END:VEVENT
BEGIN:VEVENT
DTSTART;TZID=America/New_York:20260119T090000
DTEND;TZID=America/New_York:20260119T190000
DTSTAMP:20260423T063657
CREATED:20260113T163821Z
LAST-MODIFIED:20260414T161751Z
UID:10002158-1768813200-1768849200@bellairepubliclibrary.org
SUMMARY:Library Closed on MLK Day
DESCRIPTION:Holiday Closure Notice:\nThe Bellaire Public Library will be closed on Monday\, January 19 in observance of Martin Luther King Jr. Day\, a federal holiday set aside to honor the legacy of Dr. King\, his commitment to education\, and his unwavering pursuit of justice. We wish everyone a restful and reflective holiday. \nRegular hours will resume on Tuesday\, January 20. \n\nOnline offerings always available:\nEven though the library will be closed\, our online offerings are always available. Download e-books\, audiobooks\, e-magazines\, and more at The Ohio Digital Library online or through your smartphone with the Libby app. All you need is your library card to get started!
URL:https://bellairepubliclibrary.org/event/library-closed-on-mlk-day/
LOCATION:Bellaire Public Library\, 330 32nd Street\, Bellaire\, OH\, 43906\, United States
CATEGORIES:Closings
ATTACH;FMTTYPE=image/png:https://bellairepubliclibrary.org/wp-content/uploads/2026/01/Library-Closed-MLK-Day.png
END:VEVENT
BEGIN:VEVENT
DTSTART;TZID=America/New_York:20260126T080000
DTEND;TZID=America/New_York:20260126T170000
DTSTAMP:20260423T063657
CREATED:20260126T115045Z
LAST-MODIFIED:20260126T115412Z
UID:10002159-1769414400-1769446800@bellairepubliclibrary.org
SUMMARY:Library Closed Due to County-Wide Snow Emergency
DESCRIPTION:As of this morning\, Belmont County is still under a Level 3 snow emergency. For everyone’s safety\, the Library will be closed today (Monday\, January 26). We apologize for the inconvenience. We hope everyone stays safe and warm throughout this wintery day. \nEven though we are closed\, the Library’s digital resources are always available and accessible from the safety of your home\, with no hazardous driving to the Library in bad weather necessary. Check out e-books\, magazines\, audio\, and more on your mobile device. Just grab your library card and head to https://ohdbks.overdrive.com/ or use the Libby app on your smartphone or tablet to download a cozy read.
URL:https://bellairepubliclibrary.org/event/library-closed-due-to-county-wide-snow-emergency/
LOCATION:Bellaire Public Library\, 330 32nd Street\, Bellaire\, OH\, 43906\, United States
CATEGORIES:Closings
ATTACH;FMTTYPE=image/png:https://bellairepubliclibrary.org/wp-content/uploads/2024/01/BPL_Closed-Snow_big.png
END:VEVENT
BEGIN:VEVENT
DTSTART;TZID=America/New_York:20260130T160000
DTEND;TZID=America/New_York:20260130T170000
DTSTAMP:20260423T063657
CREATED:20250730T150843Z
LAST-MODIFIED:20250904T224250Z
UID:10001831-1769788800-1769792400@bellairepubliclibrary.org
SUMMARY:Library Closes at 4 PM on the Last Friday of the Month
DESCRIPTION:The Library closes one hour early once a month\, generally on the last Friday of each month\, for a staff meeting/training. \n2025 – 4:00 PM Friday Closings:\n\nJan. 3\nFeb. 7\nMar. 7\nApr. 4\nMay 30\nJune – no meeting\, library will remain open until 5:00 on June 27\nJuly 25\nAug. 29\nSept. 26\nOct. 31\nNov. 28\nDec. 26
URL:https://bellairepubliclibrary.org/event/library-closing-early-friday-feb-2-4/2026-01-30/
LOCATION:Bellaire Public Library\, 330 32nd Street\, Bellaire\, OH\, 43906\, United States
CATEGORIES:Closings
ATTACH;FMTTYPE=image/png:https://bellairepubliclibrary.org/wp-content/uploads/2025/07/BPL-Closes-4pm-Staff-Mtg.png
END:VEVENT
END:VCALENDAR