BEGIN:VCALENDAR
VERSION:2.0
PRODID:-//Bellaire Public Library - ECPv6.15.20//NONSGML v1.0//EN
CALSCALE:GREGORIAN
METHOD:PUBLISH
X-ORIGINAL-URL:https://bellairepubliclibrary.org
X-WR-CALDESC:Events for Bellaire Public Library
REFRESH-INTERVAL;VALUE=DURATION:PT1H
X-Robots-Tag:noindex
X-PUBLISHED-TTL:PT1H
BEGIN:VTIMEZONE
TZID:America/New_York
BEGIN:DAYLIGHT
TZOFFSETFROM:-0500
TZOFFSETTO:-0400
TZNAME:EDT
DTSTART:20220313T070000
END:DAYLIGHT
BEGIN:STANDARD
TZOFFSETFROM:-0400
TZOFFSETTO:-0500
TZNAME:EST
DTSTART:20221106T060000
END:STANDARD
BEGIN:DAYLIGHT
TZOFFSETFROM:-0500
TZOFFSETTO:-0400
TZNAME:EDT
DTSTART:20230312T070000
END:DAYLIGHT
BEGIN:STANDARD
TZOFFSETFROM:-0400
TZOFFSETTO:-0500
TZNAME:EST
DTSTART:20231105T060000
END:STANDARD
BEGIN:DAYLIGHT
TZOFFSETFROM:-0500
TZOFFSETTO:-0400
TZNAME:EDT
DTSTART:20240310T070000
END:DAYLIGHT
BEGIN:STANDARD
TZOFFSETFROM:-0400
TZOFFSETTO:-0500
TZNAME:EST
DTSTART:20241103T060000
END:STANDARD
BEGIN:DAYLIGHT
TZOFFSETFROM:-0500
TZOFFSETTO:-0400
TZNAME:EDT
DTSTART:20250309T070000
END:DAYLIGHT
BEGIN:STANDARD
TZOFFSETFROM:-0400
TZOFFSETTO:-0500
TZNAME:EST
DTSTART:20251102T060000
END:STANDARD
END:VTIMEZONE
BEGIN:VEVENT
DTSTART;TZID=America/New_York:20240301T160000
DTEND;TZID=America/New_York:20240301T170000
DTSTAMP:20260423T083054
CREATED:20240129T205657Z
LAST-MODIFIED:20250530T155608Z
UID:10000898-1709308800-1709312400@bellairepubliclibrary.org
SUMMARY:Library Closes at 4 PM on the First Friday of the Month
DESCRIPTION:The Library closes one hour early once a month\, generally on the first Friday of each month\, for a staff meeting/training.\nNOTE: The June meeting will be held on Friday\, May 31\, to allow staff to prepare for the opening week of Summer Reading. \n2025 – 4:00 PM Friday Closings:\n\nJan. 3\nFeb. 7\nMar. 7\nApr. 4\nMay 2\nMay 30 (June meeting happens last week in May to prepare for Summer Reading launch)\nJuly – no meeting (July 4 is the first Friday of the month and the Library will be closed)\nAug. 1\nSept. 5\nOct. 3\nNov. 7\nDec. 5
URL:https://bellairepubliclibrary.org/event/library-closing-early-friday-feb-2/2024-03-01/
LOCATION:Bellaire Public Library\, 330 32nd Street\, Bellaire\, OH\, 43906\, United States
CATEGORIES:Closings
ATTACH;FMTTYPE=image/png:https://bellairepubliclibrary.org/wp-content/uploads/2024/01/BPLNews_FI_Staff-Fridays.png
END:VEVENT
BEGIN:VEVENT
DTSTART;VALUE=DATE:20240219
DTEND;VALUE=DATE:20240220
DTSTAMP:20260423T083054
CREATED:20240215T222032Z
LAST-MODIFIED:20240215T222120Z
UID:10000702-1708300800-1708387199@bellairepubliclibrary.org
SUMMARY:Library Closed on Presidents' Day
DESCRIPTION:The Library will be closed Monday\, February 19th\, in observance of Presidents’ Day. Normal hours will resume Tuesday\, February 20th. \nOsbourne Coinage die and coin from Lincoln presidential campaigns\nFUN PRESIDENTIAL FACT: Did you know when Illinois Senator Abraham Lincoln decided to run for president\, Ohio’s own Osbourne Coinage Company provided him with inexpensive campaign coins to give away during his campaigns in both 1860 and 1864? Both sets of dies are still in the Osbourne die vault today. Osborne made political coins for eight other presidential campaigns including Ulysses Grant and Franklin Roosevelt. You can learn more about Osbourne Coinage\, Wednesday\, Feb. 21 at 6 pm\, when Patrick Hipple\, Account Executive at Osborne Coinage will be giving a presentation about the coin company at the Great Stone Viaduct Winter Lecture Series here at the Library.
URL:https://bellairepubliclibrary.org/event/1677/
LOCATION:Bellaire Public Library\, 330 32nd Street\, Bellaire\, OH\, 43906\, United States
CATEGORIES:Closings
ATTACH;FMTTYPE=image/png:https://bellairepubliclibrary.org/wp-content/uploads/2024/02/BPLNews_FI_2024-02-19.png
END:VEVENT
BEGIN:VEVENT
DTSTART;TZID=America/New_York:20240202T160000
DTEND;TZID=America/New_York:20240202T170000
DTSTAMP:20260423T083054
CREATED:20240129T205657Z
LAST-MODIFIED:20250530T155608Z
UID:10000897-1706889600-1706893200@bellairepubliclibrary.org
SUMMARY:Library Closes at 4 PM on the First Friday of the Month
DESCRIPTION:The Library closes one hour early once a month\, generally on the first Friday of each month\, for a staff meeting/training.\nNOTE: The June meeting will be held on Friday\, May 31\, to allow staff to prepare for the opening week of Summer Reading. \n2025 – 4:00 PM Friday Closings:\n\nJan. 3\nFeb. 7\nMar. 7\nApr. 4\nMay 2\nMay 30 (June meeting happens last week in May to prepare for Summer Reading launch)\nJuly – no meeting (July 4 is the first Friday of the month and the Library will be closed)\nAug. 1\nSept. 5\nOct. 3\nNov. 7\nDec. 5
URL:https://bellairepubliclibrary.org/event/library-closing-early-friday-feb-2/2024-02-02/
LOCATION:Bellaire Public Library\, 330 32nd Street\, Bellaire\, OH\, 43906\, United States
CATEGORIES:Closings
ATTACH;FMTTYPE=image/png:https://bellairepubliclibrary.org/wp-content/uploads/2024/01/BPLNews_FI_Staff-Fridays.png
END:VEVENT
BEGIN:VEVENT
DTSTART;VALUE=DATE:20240115
DTEND;VALUE=DATE:20240116
DTSTAMP:20260423T083054
CREATED:20240112T181545Z
LAST-MODIFIED:20240112T181545Z
UID:10000455-1705276800-1705363199@bellairepubliclibrary.org
SUMMARY:Library Closed on Martin Luther King\, Jr. Day
DESCRIPTION:In observance of Martin Luther King\, Jr. Day\, the Bellaire Public Library will be closed Monday\, January 15th. Normal Library hours will resume Tuesday\, January 16th.
URL:https://bellairepubliclibrary.org/event/library-closed-on-martin-luther-king-jr-day/
LOCATION:Bellaire Public Library\, 330 32nd Street\, Bellaire\, OH\, 43906\, United States
CATEGORIES:Closings
ATTACH;FMTTYPE=image/png:https://bellairepubliclibrary.org/wp-content/uploads/2024/01/BPLNews_FI_2024-01-15.png
END:VEVENT
BEGIN:VEVENT
DTSTART;TZID=America/New_York:20240105T160000
DTEND;TZID=America/New_York:20240105T235900
DTSTAMP:20260423T083054
CREATED:20240102T201707Z
LAST-MODIFIED:20240102T201707Z
UID:10000454-1704470400-1704499140@bellairepubliclibrary.org
SUMMARY:Library Closing Early Friday Jan. 5
DESCRIPTION:The Library will be closing one hour early at 4 pm on Friday\, January 5\, for a staff training. \n 
URL:https://bellairepubliclibrary.org/event/library-closing-early-friday-jan-5/
LOCATION:Bellaire Public Library\, 330 32nd Street\, Bellaire\, OH\, 43906\, United States
CATEGORIES:Closings
ATTACH;FMTTYPE=image/png:https://bellairepubliclibrary.org/wp-content/uploads/2024/01/BPLNews_FI_2024-01-05.png
END:VEVENT
BEGIN:VEVENT
DTSTART;TZID=America/New_York:20240105T160000
DTEND;TZID=America/New_York:20240105T170000
DTSTAMP:20260423T083054
CREATED:20240129T205657Z
LAST-MODIFIED:20250530T155608Z
UID:10000703-1704470400-1704474000@bellairepubliclibrary.org
SUMMARY:Library Closes at 4 PM on the First Friday of the Month
DESCRIPTION:The Library closes one hour early once a month\, generally on the first Friday of each month\, for a staff meeting/training.\nNOTE: The June meeting will be held on Friday\, May 31\, to allow staff to prepare for the opening week of Summer Reading. \n2025 – 4:00 PM Friday Closings:\n\nJan. 3\nFeb. 7\nMar. 7\nApr. 4\nMay 2\nMay 30 (June meeting happens last week in May to prepare for Summer Reading launch)\nJuly – no meeting (July 4 is the first Friday of the month and the Library will be closed)\nAug. 1\nSept. 5\nOct. 3\nNov. 7\nDec. 5
URL:https://bellairepubliclibrary.org/event/library-closing-early-friday-feb-2/2024-01-05/
LOCATION:Bellaire Public Library\, 330 32nd Street\, Bellaire\, OH\, 43906\, United States
CATEGORIES:Closings
ATTACH;FMTTYPE=image/png:https://bellairepubliclibrary.org/wp-content/uploads/2024/01/BPLNews_FI_Staff-Fridays.png
END:VEVENT
BEGIN:VEVENT
DTSTART;TZID=America/New_York:20231201T160000
DTEND;TZID=America/New_York:20231201T235900
DTSTAMP:20260423T083054
CREATED:20231130T211229Z
LAST-MODIFIED:20231130T211229Z
UID:10000450-1701446400-1701475140@bellairepubliclibrary.org
SUMMARY:Library Closing Early Friday Dec. 1
DESCRIPTION:The Library will be closing one hour early at 4 pm on Friday\, Dec. 1\, for a staff training. \n 
URL:https://bellairepubliclibrary.org/event/library-closing-early-friday-dec-1/
LOCATION:Bellaire Public Library\, 330 32nd Street\, Bellaire\, OH\, 43906\, United States
CATEGORIES:Closings
ATTACH;FMTTYPE=image/jpeg:https://bellairepubliclibrary.org/wp-content/uploads/2023/11/BPLNews_FI_2023-12-01.jpg
END:VEVENT
BEGIN:VEVENT
DTSTART;TZID=America/New_York:20231003T080000
DTEND;TZID=America/New_York:20231003T170000
DTSTAMP:20260423T083054
CREATED:20231003T191810Z
LAST-MODIFIED:20231005T205617Z
UID:10000447-1696320000-1696352400@bellairepubliclibrary.org
SUMMARY:Library Closed on Columbus Day
DESCRIPTION:The Bellaire Public Library will be closed from Monday\, October 9th\, for Columbus Day. Regular library hours will resume Tuesday\, October 10th. \nRemember that while the Library closes for holidays\, access to the our digital services are always available 24/7 with your library card. Don’t have a BPL card? If you’re a Belmont County resident\, you can get a digital library card at https://ohio.ent.sirsi.net/custom/web/registration/index.html?profile=bel — with your digital card\, you can check out books through the Ohio Digital Library (https://ohdbks.overdrive.com/) and access databases through the Ohio Web Library (https://www.ohioweblibrary.org/).
URL:https://bellairepubliclibrary.org/event/library-closed-on-columbus-day/
LOCATION:Bellaire Public Library\, 330 32nd Street\, Bellaire\, OH\, 43906\, United States
CATEGORIES:Closings
ATTACH;FMTTYPE=image/png:https://bellairepubliclibrary.org/wp-content/uploads/2023/10/BPL-Closings-2023-10-09.png
END:VEVENT
END:VCALENDAR