BEGIN:VCALENDAR
VERSION:2.0
PRODID:-//Bellaire Public Library - ECPv6.15.20//NONSGML v1.0//EN
CALSCALE:GREGORIAN
METHOD:PUBLISH
X-WR-CALNAME:Bellaire Public Library
X-ORIGINAL-URL:https://bellairepubliclibrary.org
X-WR-CALDESC:Events for Bellaire Public Library
REFRESH-INTERVAL;VALUE=DURATION:PT1H
X-Robots-Tag:noindex
X-PUBLISHED-TTL:PT1H
BEGIN:VTIMEZONE
TZID:America/New_York
BEGIN:DAYLIGHT
TZOFFSETFROM:-0500
TZOFFSETTO:-0400
TZNAME:EDT
DTSTART:20240310T070000
END:DAYLIGHT
BEGIN:STANDARD
TZOFFSETFROM:-0400
TZOFFSETTO:-0500
TZNAME:EST
DTSTART:20241103T060000
END:STANDARD
BEGIN:DAYLIGHT
TZOFFSETFROM:-0500
TZOFFSETTO:-0400
TZNAME:EDT
DTSTART:20250309T070000
END:DAYLIGHT
BEGIN:STANDARD
TZOFFSETFROM:-0400
TZOFFSETTO:-0500
TZNAME:EST
DTSTART:20251102T060000
END:STANDARD
BEGIN:DAYLIGHT
TZOFFSETFROM:-0500
TZOFFSETTO:-0400
TZNAME:EDT
DTSTART:20260308T070000
END:DAYLIGHT
BEGIN:STANDARD
TZOFFSETFROM:-0400
TZOFFSETTO:-0500
TZNAME:EST
DTSTART:20261101T060000
END:STANDARD
END:VTIMEZONE
BEGIN:VEVENT
DTSTART;TZID=America/New_York:20250808T090000
DTEND;TZID=America/New_York:20250808T150000
DTSTAMP:20260423T193438
CREATED:20250730T145925Z
LAST-MODIFIED:20250730T150950Z
UID:10001829-1754643600-1754665200@bellairepubliclibrary.org
SUMMARY:SOCLC Meeting
DESCRIPTION:We are happy to be hosting the quarterly Southeast Ohio Children’s Librarian Committee Friday\, Aug. 8. Welcome\, children’s librarians and programmers! \nThis program is for library workers only. Registration is required.
URL:https://bellairepubliclibrary.org/event/soclc-meeting/
LOCATION:Bellaire Public Library\, 330 32nd Street\, Bellaire\, OH\, 43906\, United States
CATEGORIES:Meetings
ATTACH;FMTTYPE=image/png:https://bellairepubliclibrary.org/wp-content/uploads/2025/07/SOCLC-mtg_2025-07-30.png
END:VEVENT
BEGIN:VEVENT
DTSTART;TZID=America/New_York:20250819T180000
DTEND;TZID=America/New_York:20250819T190000
DTSTAMP:20260423T193438
CREATED:20250617T180456Z
LAST-MODIFIED:20250617T182859Z
UID:10001765-1755626400-1755630000@bellairepubliclibrary.org
SUMMARY:BPL Board of Trustees Meeting
DESCRIPTION:MONTHLY BOARD MEETINGS:\nThe Board of Trustees meet on the third Tuesday of each month at 6:00 p.m. in the library’s Table Room. \nPLEASE NOTE: The June 2025 meeting will be held the fourth Tuesday of the month\, June 24. \nWhen a holiday falls on the 3rd Tuesday\, the Board will then meet on either the second or fourth Tuesday of the month at 6:00 p.m. \nAll are welcome to attend. \n\n➤ Learn more about BPL’s Board of Trustees
URL:https://bellairepubliclibrary.org/event/bpl-board-of-trustees-meeting-3/2025-08-19/
LOCATION:Bellaire Public Library\, 330 32nd Street\, Bellaire\, OH\, 43906\, United States
CATEGORIES:Meetings
ATTACH;FMTTYPE=image/jpeg:https://bellairepubliclibrary.org/wp-content/uploads/2023/07/BPL-Events_BoardMtg2.jpg
END:VEVENT
END:VCALENDAR