BEGIN:VCALENDAR
VERSION:2.0
PRODID:-//Bellaire Public Library - ECPv6.15.20//NONSGML v1.0//EN
CALSCALE:GREGORIAN
METHOD:PUBLISH
X-ORIGINAL-URL:https://bellairepubliclibrary.org
X-WR-CALDESC:Events for Bellaire Public Library
REFRESH-INTERVAL;VALUE=DURATION:PT1H
X-Robots-Tag:noindex
X-PUBLISHED-TTL:PT1H
BEGIN:VTIMEZONE
TZID:America/New_York
BEGIN:DAYLIGHT
TZOFFSETFROM:-0500
TZOFFSETTO:-0400
TZNAME:EDT
DTSTART:20220313T070000
END:DAYLIGHT
BEGIN:STANDARD
TZOFFSETFROM:-0400
TZOFFSETTO:-0500
TZNAME:EST
DTSTART:20221106T060000
END:STANDARD
BEGIN:DAYLIGHT
TZOFFSETFROM:-0500
TZOFFSETTO:-0400
TZNAME:EDT
DTSTART:20230312T070000
END:DAYLIGHT
BEGIN:STANDARD
TZOFFSETFROM:-0400
TZOFFSETTO:-0500
TZNAME:EST
DTSTART:20231105T060000
END:STANDARD
BEGIN:DAYLIGHT
TZOFFSETFROM:-0500
TZOFFSETTO:-0400
TZNAME:EDT
DTSTART:20240310T070000
END:DAYLIGHT
BEGIN:STANDARD
TZOFFSETFROM:-0400
TZOFFSETTO:-0500
TZNAME:EST
DTSTART:20241103T060000
END:STANDARD
END:VTIMEZONE
BEGIN:VEVENT
DTSTART;TZID=America/New_York:20230704T183000
DTEND;TZID=America/New_York:20230704T193000
DTSTAMP:20260423T162943
CREATED:20250617T182407Z
LAST-MODIFIED:20250617T182621Z
UID:10001719-1688495400-1688499000@bellairepubliclibrary.org
SUMMARY:BPL Board of Trustees Meeting
DESCRIPTION:MONTHLY BOARD MEETINGS:\nThe Board of Trustees meet on the third Tuesday of each month at 6:30 p.m. in the library’s Table Room. When a holiday falls on the 3rd Tuesday\, the Board will then meet on either the second or fourth Tuesday of the month at 6:30 p.m. \nAll are welcome to attend. \n\n➤ Learn more about BPL’s Board of Trustees
URL:https://bellairepubliclibrary.org/event/bpl-board-of-trustees-meeting-5/2023-07-04/
LOCATION:Bellaire Public Library\, 330 32nd Street\, Bellaire\, OH\, 43906\, United States
CATEGORIES:Meetings
ATTACH;FMTTYPE=image/jpeg:https://bellairepubliclibrary.org/wp-content/uploads/2023/07/BPL-Events_BoardMtg2.jpg
END:VEVENT
BEGIN:VEVENT
DTSTART;TZID=America/New_York:20230627T183000
DTEND;TZID=America/New_York:20230627T193000
DTSTAMP:20260423T162943
CREATED:20250617T182407Z
LAST-MODIFIED:20250617T182621Z
UID:10001718-1687890600-1687894200@bellairepubliclibrary.org
SUMMARY:BPL Board of Trustees Meeting
DESCRIPTION:MONTHLY BOARD MEETINGS:\nThe Board of Trustees meet on the third Tuesday of each month at 6:30 p.m. in the library’s Table Room. When a holiday falls on the 3rd Tuesday\, the Board will then meet on either the second or fourth Tuesday of the month at 6:30 p.m. \nAll are welcome to attend. \n\n➤ Learn more about BPL’s Board of Trustees
URL:https://bellairepubliclibrary.org/event/bpl-board-of-trustees-meeting-5/2023-06-27/
LOCATION:Bellaire Public Library\, 330 32nd Street\, Bellaire\, OH\, 43906\, United States
CATEGORIES:Meetings
ATTACH;FMTTYPE=image/jpeg:https://bellairepubliclibrary.org/wp-content/uploads/2023/07/BPL-Events_BoardMtg2.jpg
END:VEVENT
BEGIN:VEVENT
DTSTART;TZID=America/New_York:20230620T183000
DTEND;TZID=America/New_York:20230620T193000
DTSTAMP:20260423T162943
CREATED:20250617T182407Z
LAST-MODIFIED:20250617T182621Z
UID:10001717-1687285800-1687289400@bellairepubliclibrary.org
SUMMARY:BPL Board of Trustees Meeting
DESCRIPTION:MONTHLY BOARD MEETINGS:\nThe Board of Trustees meet on the third Tuesday of each month at 6:30 p.m. in the library’s Table Room. When a holiday falls on the 3rd Tuesday\, the Board will then meet on either the second or fourth Tuesday of the month at 6:30 p.m. \nAll are welcome to attend. \n\n➤ Learn more about BPL’s Board of Trustees
URL:https://bellairepubliclibrary.org/event/bpl-board-of-trustees-meeting-5/2023-06-20/
LOCATION:Bellaire Public Library\, 330 32nd Street\, Bellaire\, OH\, 43906\, United States
CATEGORIES:Meetings
ATTACH;FMTTYPE=image/jpeg:https://bellairepubliclibrary.org/wp-content/uploads/2023/07/BPL-Events_BoardMtg2.jpg
END:VEVENT
BEGIN:VEVENT
DTSTART;TZID=America/New_York:20230613T183000
DTEND;TZID=America/New_York:20230613T193000
DTSTAMP:20260423T162943
CREATED:20250617T182407Z
LAST-MODIFIED:20250617T182621Z
UID:10001716-1686681000-1686684600@bellairepubliclibrary.org
SUMMARY:BPL Board of Trustees Meeting
DESCRIPTION:MONTHLY BOARD MEETINGS:\nThe Board of Trustees meet on the third Tuesday of each month at 6:30 p.m. in the library’s Table Room. When a holiday falls on the 3rd Tuesday\, the Board will then meet on either the second or fourth Tuesday of the month at 6:30 p.m. \nAll are welcome to attend. \n\n➤ Learn more about BPL’s Board of Trustees
URL:https://bellairepubliclibrary.org/event/bpl-board-of-trustees-meeting-5/2023-06-13/
LOCATION:Bellaire Public Library\, 330 32nd Street\, Bellaire\, OH\, 43906\, United States
CATEGORIES:Meetings
ATTACH;FMTTYPE=image/jpeg:https://bellairepubliclibrary.org/wp-content/uploads/2023/07/BPL-Events_BoardMtg2.jpg
END:VEVENT
BEGIN:VEVENT
DTSTART;TZID=America/New_York:20230606T183000
DTEND;TZID=America/New_York:20230606T193000
DTSTAMP:20260423T162943
CREATED:20250617T182407Z
LAST-MODIFIED:20250617T182621Z
UID:10001715-1686076200-1686079800@bellairepubliclibrary.org
SUMMARY:BPL Board of Trustees Meeting
DESCRIPTION:MONTHLY BOARD MEETINGS:\nThe Board of Trustees meet on the third Tuesday of each month at 6:30 p.m. in the library’s Table Room. When a holiday falls on the 3rd Tuesday\, the Board will then meet on either the second or fourth Tuesday of the month at 6:30 p.m. \nAll are welcome to attend. \n\n➤ Learn more about BPL’s Board of Trustees
URL:https://bellairepubliclibrary.org/event/bpl-board-of-trustees-meeting-5/2023-06-06/
LOCATION:Bellaire Public Library\, 330 32nd Street\, Bellaire\, OH\, 43906\, United States
CATEGORIES:Meetings
ATTACH;FMTTYPE=image/jpeg:https://bellairepubliclibrary.org/wp-content/uploads/2023/07/BPL-Events_BoardMtg2.jpg
END:VEVENT
BEGIN:VEVENT
DTSTART;TZID=America/New_York:20230530T183000
DTEND;TZID=America/New_York:20230530T193000
DTSTAMP:20260423T162943
CREATED:20250617T182407Z
LAST-MODIFIED:20250617T182621Z
UID:10001714-1685471400-1685475000@bellairepubliclibrary.org
SUMMARY:BPL Board of Trustees Meeting
DESCRIPTION:MONTHLY BOARD MEETINGS:\nThe Board of Trustees meet on the third Tuesday of each month at 6:30 p.m. in the library’s Table Room. When a holiday falls on the 3rd Tuesday\, the Board will then meet on either the second or fourth Tuesday of the month at 6:30 p.m. \nAll are welcome to attend. \n\n➤ Learn more about BPL’s Board of Trustees
URL:https://bellairepubliclibrary.org/event/bpl-board-of-trustees-meeting-5/2023-05-30/
LOCATION:Bellaire Public Library\, 330 32nd Street\, Bellaire\, OH\, 43906\, United States
CATEGORIES:Meetings
ATTACH;FMTTYPE=image/jpeg:https://bellairepubliclibrary.org/wp-content/uploads/2023/07/BPL-Events_BoardMtg2.jpg
END:VEVENT
BEGIN:VEVENT
DTSTART;TZID=America/New_York:20230523T183000
DTEND;TZID=America/New_York:20230523T193000
DTSTAMP:20260423T162943
CREATED:20250617T182407Z
LAST-MODIFIED:20250617T182621Z
UID:10001713-1684866600-1684870200@bellairepubliclibrary.org
SUMMARY:BPL Board of Trustees Meeting
DESCRIPTION:MONTHLY BOARD MEETINGS:\nThe Board of Trustees meet on the third Tuesday of each month at 6:30 p.m. in the library’s Table Room. When a holiday falls on the 3rd Tuesday\, the Board will then meet on either the second or fourth Tuesday of the month at 6:30 p.m. \nAll are welcome to attend. \n\n➤ Learn more about BPL’s Board of Trustees
URL:https://bellairepubliclibrary.org/event/bpl-board-of-trustees-meeting-5/2023-05-23/
LOCATION:Bellaire Public Library\, 330 32nd Street\, Bellaire\, OH\, 43906\, United States
CATEGORIES:Meetings
ATTACH;FMTTYPE=image/jpeg:https://bellairepubliclibrary.org/wp-content/uploads/2023/07/BPL-Events_BoardMtg2.jpg
END:VEVENT
BEGIN:VEVENT
DTSTART;TZID=America/New_York:20230516T183000
DTEND;TZID=America/New_York:20230516T193000
DTSTAMP:20260423T162943
CREATED:20250617T182407Z
LAST-MODIFIED:20250617T182621Z
UID:10001712-1684261800-1684265400@bellairepubliclibrary.org
SUMMARY:BPL Board of Trustees Meeting
DESCRIPTION:MONTHLY BOARD MEETINGS:\nThe Board of Trustees meet on the third Tuesday of each month at 6:30 p.m. in the library’s Table Room. When a holiday falls on the 3rd Tuesday\, the Board will then meet on either the second or fourth Tuesday of the month at 6:30 p.m. \nAll are welcome to attend. \n\n➤ Learn more about BPL’s Board of Trustees
URL:https://bellairepubliclibrary.org/event/bpl-board-of-trustees-meeting-5/2023-05-16/
LOCATION:Bellaire Public Library\, 330 32nd Street\, Bellaire\, OH\, 43906\, United States
CATEGORIES:Meetings
ATTACH;FMTTYPE=image/jpeg:https://bellairepubliclibrary.org/wp-content/uploads/2023/07/BPL-Events_BoardMtg2.jpg
END:VEVENT
BEGIN:VEVENT
DTSTART;TZID=America/New_York:20230509T183000
DTEND;TZID=America/New_York:20230509T193000
DTSTAMP:20260423T162943
CREATED:20250617T182407Z
LAST-MODIFIED:20250617T182621Z
UID:10001711-1683657000-1683660600@bellairepubliclibrary.org
SUMMARY:BPL Board of Trustees Meeting
DESCRIPTION:MONTHLY BOARD MEETINGS:\nThe Board of Trustees meet on the third Tuesday of each month at 6:30 p.m. in the library’s Table Room. When a holiday falls on the 3rd Tuesday\, the Board will then meet on either the second or fourth Tuesday of the month at 6:30 p.m. \nAll are welcome to attend. \n\n➤ Learn more about BPL’s Board of Trustees
URL:https://bellairepubliclibrary.org/event/bpl-board-of-trustees-meeting-5/2023-05-09/
LOCATION:Bellaire Public Library\, 330 32nd Street\, Bellaire\, OH\, 43906\, United States
CATEGORIES:Meetings
ATTACH;FMTTYPE=image/jpeg:https://bellairepubliclibrary.org/wp-content/uploads/2023/07/BPL-Events_BoardMtg2.jpg
END:VEVENT
BEGIN:VEVENT
DTSTART;TZID=America/New_York:20230502T183000
DTEND;TZID=America/New_York:20230502T193000
DTSTAMP:20260423T162943
CREATED:20250617T182407Z
LAST-MODIFIED:20250617T182621Z
UID:10001710-1683052200-1683055800@bellairepubliclibrary.org
SUMMARY:BPL Board of Trustees Meeting
DESCRIPTION:MONTHLY BOARD MEETINGS:\nThe Board of Trustees meet on the third Tuesday of each month at 6:30 p.m. in the library’s Table Room. When a holiday falls on the 3rd Tuesday\, the Board will then meet on either the second or fourth Tuesday of the month at 6:30 p.m. \nAll are welcome to attend. \n\n➤ Learn more about BPL’s Board of Trustees
URL:https://bellairepubliclibrary.org/event/bpl-board-of-trustees-meeting-5/2023-05-02/
LOCATION:Bellaire Public Library\, 330 32nd Street\, Bellaire\, OH\, 43906\, United States
CATEGORIES:Meetings
ATTACH;FMTTYPE=image/jpeg:https://bellairepubliclibrary.org/wp-content/uploads/2023/07/BPL-Events_BoardMtg2.jpg
END:VEVENT
BEGIN:VEVENT
DTSTART;TZID=America/New_York:20230425T183000
DTEND;TZID=America/New_York:20230425T193000
DTSTAMP:20260423T162943
CREATED:20250617T182407Z
LAST-MODIFIED:20250617T182621Z
UID:10001709-1682447400-1682451000@bellairepubliclibrary.org
SUMMARY:BPL Board of Trustees Meeting
DESCRIPTION:MONTHLY BOARD MEETINGS:\nThe Board of Trustees meet on the third Tuesday of each month at 6:30 p.m. in the library’s Table Room. When a holiday falls on the 3rd Tuesday\, the Board will then meet on either the second or fourth Tuesday of the month at 6:30 p.m. \nAll are welcome to attend. \n\n➤ Learn more about BPL’s Board of Trustees
URL:https://bellairepubliclibrary.org/event/bpl-board-of-trustees-meeting-5/2023-04-25/
LOCATION:Bellaire Public Library\, 330 32nd Street\, Bellaire\, OH\, 43906\, United States
CATEGORIES:Meetings
ATTACH;FMTTYPE=image/jpeg:https://bellairepubliclibrary.org/wp-content/uploads/2023/07/BPL-Events_BoardMtg2.jpg
END:VEVENT
BEGIN:VEVENT
DTSTART;TZID=America/New_York:20230418T183000
DTEND;TZID=America/New_York:20230418T193000
DTSTAMP:20260423T162943
CREATED:20250617T182407Z
LAST-MODIFIED:20250617T182621Z
UID:10001708-1681842600-1681846200@bellairepubliclibrary.org
SUMMARY:BPL Board of Trustees Meeting
DESCRIPTION:MONTHLY BOARD MEETINGS:\nThe Board of Trustees meet on the third Tuesday of each month at 6:30 p.m. in the library’s Table Room. When a holiday falls on the 3rd Tuesday\, the Board will then meet on either the second or fourth Tuesday of the month at 6:30 p.m. \nAll are welcome to attend. \n\n➤ Learn more about BPL’s Board of Trustees
URL:https://bellairepubliclibrary.org/event/bpl-board-of-trustees-meeting-5/2023-04-18/
LOCATION:Bellaire Public Library\, 330 32nd Street\, Bellaire\, OH\, 43906\, United States
CATEGORIES:Meetings
ATTACH;FMTTYPE=image/jpeg:https://bellairepubliclibrary.org/wp-content/uploads/2023/07/BPL-Events_BoardMtg2.jpg
END:VEVENT
BEGIN:VEVENT
DTSTART;TZID=America/New_York:20230411T183000
DTEND;TZID=America/New_York:20230411T193000
DTSTAMP:20260423T162943
CREATED:20250617T182407Z
LAST-MODIFIED:20250617T182621Z
UID:10001707-1681237800-1681241400@bellairepubliclibrary.org
SUMMARY:BPL Board of Trustees Meeting
DESCRIPTION:MONTHLY BOARD MEETINGS:\nThe Board of Trustees meet on the third Tuesday of each month at 6:30 p.m. in the library’s Table Room. When a holiday falls on the 3rd Tuesday\, the Board will then meet on either the second or fourth Tuesday of the month at 6:30 p.m. \nAll are welcome to attend. \n\n➤ Learn more about BPL’s Board of Trustees
URL:https://bellairepubliclibrary.org/event/bpl-board-of-trustees-meeting-5/2023-04-11/
LOCATION:Bellaire Public Library\, 330 32nd Street\, Bellaire\, OH\, 43906\, United States
CATEGORIES:Meetings
ATTACH;FMTTYPE=image/jpeg:https://bellairepubliclibrary.org/wp-content/uploads/2023/07/BPL-Events_BoardMtg2.jpg
END:VEVENT
BEGIN:VEVENT
DTSTART;TZID=America/New_York:20230404T183000
DTEND;TZID=America/New_York:20230404T193000
DTSTAMP:20260423T162943
CREATED:20250617T182407Z
LAST-MODIFIED:20250617T182621Z
UID:10001706-1680633000-1680636600@bellairepubliclibrary.org
SUMMARY:BPL Board of Trustees Meeting
DESCRIPTION:MONTHLY BOARD MEETINGS:\nThe Board of Trustees meet on the third Tuesday of each month at 6:30 p.m. in the library’s Table Room. When a holiday falls on the 3rd Tuesday\, the Board will then meet on either the second or fourth Tuesday of the month at 6:30 p.m. \nAll are welcome to attend. \n\n➤ Learn more about BPL’s Board of Trustees
URL:https://bellairepubliclibrary.org/event/bpl-board-of-trustees-meeting-5/2023-04-04/
LOCATION:Bellaire Public Library\, 330 32nd Street\, Bellaire\, OH\, 43906\, United States
CATEGORIES:Meetings
ATTACH;FMTTYPE=image/jpeg:https://bellairepubliclibrary.org/wp-content/uploads/2023/07/BPL-Events_BoardMtg2.jpg
END:VEVENT
BEGIN:VEVENT
DTSTART;TZID=America/New_York:20230328T183000
DTEND;TZID=America/New_York:20230328T193000
DTSTAMP:20260423T162943
CREATED:20250617T182407Z
LAST-MODIFIED:20250617T182621Z
UID:10001705-1680028200-1680031800@bellairepubliclibrary.org
SUMMARY:BPL Board of Trustees Meeting
DESCRIPTION:MONTHLY BOARD MEETINGS:\nThe Board of Trustees meet on the third Tuesday of each month at 6:30 p.m. in the library’s Table Room. When a holiday falls on the 3rd Tuesday\, the Board will then meet on either the second or fourth Tuesday of the month at 6:30 p.m. \nAll are welcome to attend. \n\n➤ Learn more about BPL’s Board of Trustees
URL:https://bellairepubliclibrary.org/event/bpl-board-of-trustees-meeting-5/2023-03-28/
LOCATION:Bellaire Public Library\, 330 32nd Street\, Bellaire\, OH\, 43906\, United States
CATEGORIES:Meetings
ATTACH;FMTTYPE=image/jpeg:https://bellairepubliclibrary.org/wp-content/uploads/2023/07/BPL-Events_BoardMtg2.jpg
END:VEVENT
BEGIN:VEVENT
DTSTART;TZID=America/New_York:20230321T183000
DTEND;TZID=America/New_York:20230321T193000
DTSTAMP:20260423T162943
CREATED:20250617T182407Z
LAST-MODIFIED:20250617T182621Z
UID:10001704-1679423400-1679427000@bellairepubliclibrary.org
SUMMARY:BPL Board of Trustees Meeting
DESCRIPTION:MONTHLY BOARD MEETINGS:\nThe Board of Trustees meet on the third Tuesday of each month at 6:30 p.m. in the library’s Table Room. When a holiday falls on the 3rd Tuesday\, the Board will then meet on either the second or fourth Tuesday of the month at 6:30 p.m. \nAll are welcome to attend. \n\n➤ Learn more about BPL’s Board of Trustees
URL:https://bellairepubliclibrary.org/event/bpl-board-of-trustees-meeting-5/2023-03-21/
LOCATION:Bellaire Public Library\, 330 32nd Street\, Bellaire\, OH\, 43906\, United States
CATEGORIES:Meetings
ATTACH;FMTTYPE=image/jpeg:https://bellairepubliclibrary.org/wp-content/uploads/2023/07/BPL-Events_BoardMtg2.jpg
END:VEVENT
BEGIN:VEVENT
DTSTART;TZID=America/New_York:20230314T183000
DTEND;TZID=America/New_York:20230314T193000
DTSTAMP:20260423T162943
CREATED:20250617T182407Z
LAST-MODIFIED:20250617T182621Z
UID:10001703-1678818600-1678822200@bellairepubliclibrary.org
SUMMARY:BPL Board of Trustees Meeting
DESCRIPTION:MONTHLY BOARD MEETINGS:\nThe Board of Trustees meet on the third Tuesday of each month at 6:30 p.m. in the library’s Table Room. When a holiday falls on the 3rd Tuesday\, the Board will then meet on either the second or fourth Tuesday of the month at 6:30 p.m. \nAll are welcome to attend. \n\n➤ Learn more about BPL’s Board of Trustees
URL:https://bellairepubliclibrary.org/event/bpl-board-of-trustees-meeting-5/2023-03-14/
LOCATION:Bellaire Public Library\, 330 32nd Street\, Bellaire\, OH\, 43906\, United States
CATEGORIES:Meetings
ATTACH;FMTTYPE=image/jpeg:https://bellairepubliclibrary.org/wp-content/uploads/2023/07/BPL-Events_BoardMtg2.jpg
END:VEVENT
BEGIN:VEVENT
DTSTART;TZID=America/New_York:20230307T183000
DTEND;TZID=America/New_York:20230307T193000
DTSTAMP:20260423T162943
CREATED:20250617T182407Z
LAST-MODIFIED:20250617T182621Z
UID:10001702-1678213800-1678217400@bellairepubliclibrary.org
SUMMARY:BPL Board of Trustees Meeting
DESCRIPTION:MONTHLY BOARD MEETINGS:\nThe Board of Trustees meet on the third Tuesday of each month at 6:30 p.m. in the library’s Table Room. When a holiday falls on the 3rd Tuesday\, the Board will then meet on either the second or fourth Tuesday of the month at 6:30 p.m. \nAll are welcome to attend. \n\n➤ Learn more about BPL’s Board of Trustees
URL:https://bellairepubliclibrary.org/event/bpl-board-of-trustees-meeting-5/2023-03-07/
LOCATION:Bellaire Public Library\, 330 32nd Street\, Bellaire\, OH\, 43906\, United States
CATEGORIES:Meetings
ATTACH;FMTTYPE=image/jpeg:https://bellairepubliclibrary.org/wp-content/uploads/2023/07/BPL-Events_BoardMtg2.jpg
END:VEVENT
BEGIN:VEVENT
DTSTART;TZID=America/New_York:20230228T183000
DTEND;TZID=America/New_York:20230228T193000
DTSTAMP:20260423T162943
CREATED:20250617T182407Z
LAST-MODIFIED:20250617T182621Z
UID:10001701-1677609000-1677612600@bellairepubliclibrary.org
SUMMARY:BPL Board of Trustees Meeting
DESCRIPTION:MONTHLY BOARD MEETINGS:\nThe Board of Trustees meet on the third Tuesday of each month at 6:30 p.m. in the library’s Table Room. When a holiday falls on the 3rd Tuesday\, the Board will then meet on either the second or fourth Tuesday of the month at 6:30 p.m. \nAll are welcome to attend. \n\n➤ Learn more about BPL’s Board of Trustees
URL:https://bellairepubliclibrary.org/event/bpl-board-of-trustees-meeting-5/2023-02-28/
LOCATION:Bellaire Public Library\, 330 32nd Street\, Bellaire\, OH\, 43906\, United States
CATEGORIES:Meetings
ATTACH;FMTTYPE=image/jpeg:https://bellairepubliclibrary.org/wp-content/uploads/2023/07/BPL-Events_BoardMtg2.jpg
END:VEVENT
BEGIN:VEVENT
DTSTART;TZID=America/New_York:20230221T183000
DTEND;TZID=America/New_York:20230221T193000
DTSTAMP:20260423T162943
CREATED:20250617T182407Z
LAST-MODIFIED:20250617T182621Z
UID:10001700-1677004200-1677007800@bellairepubliclibrary.org
SUMMARY:BPL Board of Trustees Meeting
DESCRIPTION:MONTHLY BOARD MEETINGS:\nThe Board of Trustees meet on the third Tuesday of each month at 6:30 p.m. in the library’s Table Room. When a holiday falls on the 3rd Tuesday\, the Board will then meet on either the second or fourth Tuesday of the month at 6:30 p.m. \nAll are welcome to attend. \n\n➤ Learn more about BPL’s Board of Trustees
URL:https://bellairepubliclibrary.org/event/bpl-board-of-trustees-meeting-5/2023-02-21/
LOCATION:Bellaire Public Library\, 330 32nd Street\, Bellaire\, OH\, 43906\, United States
CATEGORIES:Meetings
ATTACH;FMTTYPE=image/jpeg:https://bellairepubliclibrary.org/wp-content/uploads/2023/07/BPL-Events_BoardMtg2.jpg
END:VEVENT
BEGIN:VEVENT
DTSTART;TZID=America/New_York:20230214T183000
DTEND;TZID=America/New_York:20230214T193000
DTSTAMP:20260423T162943
CREATED:20250617T182407Z
LAST-MODIFIED:20250617T182621Z
UID:10001699-1676399400-1676403000@bellairepubliclibrary.org
SUMMARY:BPL Board of Trustees Meeting
DESCRIPTION:MONTHLY BOARD MEETINGS:\nThe Board of Trustees meet on the third Tuesday of each month at 6:30 p.m. in the library’s Table Room. When a holiday falls on the 3rd Tuesday\, the Board will then meet on either the second or fourth Tuesday of the month at 6:30 p.m. \nAll are welcome to attend. \n\n➤ Learn more about BPL’s Board of Trustees
URL:https://bellairepubliclibrary.org/event/bpl-board-of-trustees-meeting-5/2023-02-14/
LOCATION:Bellaire Public Library\, 330 32nd Street\, Bellaire\, OH\, 43906\, United States
CATEGORIES:Meetings
ATTACH;FMTTYPE=image/jpeg:https://bellairepubliclibrary.org/wp-content/uploads/2023/07/BPL-Events_BoardMtg2.jpg
END:VEVENT
BEGIN:VEVENT
DTSTART;TZID=America/New_York:20230207T183000
DTEND;TZID=America/New_York:20230207T193000
DTSTAMP:20260423T162943
CREATED:20250617T182407Z
LAST-MODIFIED:20250617T182621Z
UID:10001698-1675794600-1675798200@bellairepubliclibrary.org
SUMMARY:BPL Board of Trustees Meeting
DESCRIPTION:MONTHLY BOARD MEETINGS:\nThe Board of Trustees meet on the third Tuesday of each month at 6:30 p.m. in the library’s Table Room. When a holiday falls on the 3rd Tuesday\, the Board will then meet on either the second or fourth Tuesday of the month at 6:30 p.m. \nAll are welcome to attend. \n\n➤ Learn more about BPL’s Board of Trustees
URL:https://bellairepubliclibrary.org/event/bpl-board-of-trustees-meeting-5/2023-02-07/
LOCATION:Bellaire Public Library\, 330 32nd Street\, Bellaire\, OH\, 43906\, United States
CATEGORIES:Meetings
ATTACH;FMTTYPE=image/jpeg:https://bellairepubliclibrary.org/wp-content/uploads/2023/07/BPL-Events_BoardMtg2.jpg
END:VEVENT
BEGIN:VEVENT
DTSTART;TZID=America/New_York:20230131T183000
DTEND;TZID=America/New_York:20230131T193000
DTSTAMP:20260423T162943
CREATED:20250617T182407Z
LAST-MODIFIED:20250617T182621Z
UID:10001697-1675189800-1675193400@bellairepubliclibrary.org
SUMMARY:BPL Board of Trustees Meeting
DESCRIPTION:MONTHLY BOARD MEETINGS:\nThe Board of Trustees meet on the third Tuesday of each month at 6:30 p.m. in the library’s Table Room. When a holiday falls on the 3rd Tuesday\, the Board will then meet on either the second or fourth Tuesday of the month at 6:30 p.m. \nAll are welcome to attend. \n\n➤ Learn more about BPL’s Board of Trustees
URL:https://bellairepubliclibrary.org/event/bpl-board-of-trustees-meeting-5/2023-01-31/
LOCATION:Bellaire Public Library\, 330 32nd Street\, Bellaire\, OH\, 43906\, United States
CATEGORIES:Meetings
ATTACH;FMTTYPE=image/jpeg:https://bellairepubliclibrary.org/wp-content/uploads/2023/07/BPL-Events_BoardMtg2.jpg
END:VEVENT
BEGIN:VEVENT
DTSTART;TZID=America/New_York:20230124T183000
DTEND;TZID=America/New_York:20230124T193000
DTSTAMP:20260423T162943
CREATED:20250617T182407Z
LAST-MODIFIED:20250617T182621Z
UID:10001696-1674585000-1674588600@bellairepubliclibrary.org
SUMMARY:BPL Board of Trustees Meeting
DESCRIPTION:MONTHLY BOARD MEETINGS:\nThe Board of Trustees meet on the third Tuesday of each month at 6:30 p.m. in the library’s Table Room. When a holiday falls on the 3rd Tuesday\, the Board will then meet on either the second or fourth Tuesday of the month at 6:30 p.m. \nAll are welcome to attend. \n\n➤ Learn more about BPL’s Board of Trustees
URL:https://bellairepubliclibrary.org/event/bpl-board-of-trustees-meeting-5/2023-01-24/
LOCATION:Bellaire Public Library\, 330 32nd Street\, Bellaire\, OH\, 43906\, United States
CATEGORIES:Meetings
ATTACH;FMTTYPE=image/jpeg:https://bellairepubliclibrary.org/wp-content/uploads/2023/07/BPL-Events_BoardMtg2.jpg
END:VEVENT
BEGIN:VEVENT
DTSTART;TZID=America/New_York:20230117T183000
DTEND;TZID=America/New_York:20230117T193000
DTSTAMP:20260423T162943
CREATED:20250617T182407Z
LAST-MODIFIED:20250617T182621Z
UID:10001635-1673980200-1673983800@bellairepubliclibrary.org
SUMMARY:BPL Board of Trustees Meeting
DESCRIPTION:MONTHLY BOARD MEETINGS:\nThe Board of Trustees meet on the third Tuesday of each month at 6:30 p.m. in the library’s Table Room. When a holiday falls on the 3rd Tuesday\, the Board will then meet on either the second or fourth Tuesday of the month at 6:30 p.m. \nAll are welcome to attend. \n\n➤ Learn more about BPL’s Board of Trustees
URL:https://bellairepubliclibrary.org/event/bpl-board-of-trustees-meeting-5/2023-01-17/
LOCATION:Bellaire Public Library\, 330 32nd Street\, Bellaire\, OH\, 43906\, United States
CATEGORIES:Meetings
ATTACH;FMTTYPE=image/jpeg:https://bellairepubliclibrary.org/wp-content/uploads/2023/07/BPL-Events_BoardMtg2.jpg
END:VEVENT
END:VCALENDAR