BEGIN:VCALENDAR
VERSION:2.0
PRODID:-//Bellaire Public Library - ECPv6.15.20//NONSGML v1.0//EN
CALSCALE:GREGORIAN
METHOD:PUBLISH
X-WR-CALNAME:Bellaire Public Library
X-ORIGINAL-URL:https://bellairepubliclibrary.org
X-WR-CALDESC:Events for Bellaire Public Library
REFRESH-INTERVAL;VALUE=DURATION:PT1H
X-Robots-Tag:noindex
X-PUBLISHED-TTL:PT1H
BEGIN:VTIMEZONE
TZID:America/New_York
BEGIN:DAYLIGHT
TZOFFSETFROM:-0500
TZOFFSETTO:-0400
TZNAME:EDT
DTSTART:20250309T070000
END:DAYLIGHT
BEGIN:STANDARD
TZOFFSETFROM:-0400
TZOFFSETTO:-0500
TZNAME:EST
DTSTART:20251102T060000
END:STANDARD
BEGIN:DAYLIGHT
TZOFFSETFROM:-0500
TZOFFSETTO:-0400
TZNAME:EDT
DTSTART:20260308T070000
END:DAYLIGHT
BEGIN:STANDARD
TZOFFSETFROM:-0400
TZOFFSETTO:-0500
TZNAME:EST
DTSTART:20261101T060000
END:STANDARD
BEGIN:DAYLIGHT
TZOFFSETFROM:-0500
TZOFFSETTO:-0400
TZNAME:EDT
DTSTART:20270314T070000
END:DAYLIGHT
BEGIN:STANDARD
TZOFFSETFROM:-0400
TZOFFSETTO:-0500
TZNAME:EST
DTSTART:20271107T060000
END:STANDARD
END:VTIMEZONE
BEGIN:VEVENT
DTSTART;TZID=America/New_York:20260210T150000
DTEND;TZID=America/New_York:20260210T160000
DTSTAMP:20260424T051434
CREATED:20260207T190235Z
LAST-MODIFIED:20260211T185529Z
UID:10002133-1770735600-1770739200@bellairepubliclibrary.org
SUMMARY:Afterschool Teen Programs
DESCRIPTION:Our Afterschool Teen Library Program offers a fun\, safe\, and welcoming space where teens in grades 6–12 can explore new interests\, build skills\, and connect with friends. Together with OSU Extension & 4‑H\, we’ve created a lineup of hands‑on\, curiosity‑sparked activities that empower teens to learn\, create\, and discover—all while having a great time.\n\nWhether they’re creating art\, raising chicks\, engineering indoor gardens\, or launching rockets\, teens can expect an exciting mix of learning and fun. We invite all teens to join us after school for engaging programs\, new friendships\, and a place to feel inspired!\n\n\n\n\nEach month features a different themed program: \n\nJanuary 12th at 3:00 pm: ❄️ Snow Art – A creative winter workshop where teens experiment with artistic techniques to make unique snow‑inspired creations.\nFebruary 10th & 24th at 3:00 pm: 🐣 ChickQuest – A deep dive into biology and agriculture as teens explore the full lifecycle of chickens and learn the science behind avian development.\nMarch 9th & 23rd at 3:00 pm: 🌿 Indoor Garden Creators – A blend of creativity\, sustainability\, and plant science as teens build and care for their own indoor gardens.\nApril 7th & 21st at 3:00 pm: 💧 Hydroponics for Teens – An introduction to soil‑less gardening that teaches sustainable agriculture and hands‑on growing techniques.\nMay 11th at 3:00 pm: 🦋 Butterfly Conservation – Teens learn about butterflies\, their ecosystems\, and how to support local conservation efforts.\n☀️ 🚀 Summer Day Camps – Two exciting day-long summer experiences:\n\nSolar Energy Day Camp (June 24)\nRocketry Day Camp (July 21)\nEach camp offers interactive workshops that ignite a passion for science and technology.
URL:https://bellairepubliclibrary.org/event/afterschool-teen-programs-3/
LOCATION:Bellaire Public Library\, 330 32nd Street\, Bellaire\, OH\, 43906\, United States
CATEGORIES:Teen Program
ATTACH;FMTTYPE=image/png:https://bellairepubliclibrary.org/wp-content/uploads/2025/12/Afterschool-Teen-Program-logo.png
END:VEVENT
BEGIN:VEVENT
DTSTART;TZID=America/New_York:20260216T090000
DTEND;TZID=America/New_York:20260216T190000
DTSTAMP:20260424T051434
CREATED:20260202T165605Z
LAST-MODIFIED:20260414T161700Z
UID:10002171-1771232400-1771268400@bellairepubliclibrary.org
SUMMARY:Library Closed on Presidents Day
DESCRIPTION:The Library will be closed on Presidents’ Day\, Monday\, February 16. \nFun fact: Did you know the official Federal holiday is actually called Washington’s Birthday? In 1885\, Congress designated February 22\, George Washington’s birthday\, as a holiday for all federal workers making it the first federal holiday to honor an individual’s birth date. Nearly a century later\, in 1971\, the Uniform Monday Holiday Law changed the date to the third Monday in February. The position of the holiday between the birthdays of Washington and Abraham Lincoln gave rise to the popular name of Presidents’ Day. Today’s fun fact is brought to you by the National Archives (https://www.archives.gov/news/topics/washingtons-birthday). \n\nWhile the Library is closed for the holiday\, our digital collections are available 24/7. Download e-books\, stream audiobooks\, and e-magazine through the Ohio Digital Library where over 150 titles are available about U.S. Presidents!
URL:https://bellairepubliclibrary.org/event/library-closed-on-presidents-day-2/
LOCATION:Bellaire Public Library\, 330 32nd Street\, Bellaire\, OH\, 43906\, United States
CATEGORIES:Closings
ATTACH;FMTTYPE=image/webp:https://bellairepubliclibrary.org/wp-content/uploads/2026/02/Web-FI-Presidents-Day-2026.webp
END:VEVENT
BEGIN:VEVENT
DTSTART;VALUE=DATE:20260703
DTEND;VALUE=DATE:20260704
DTSTAMP:20260424T051434
CREATED:20250701T212454Z
LAST-MODIFIED:20250701T212538Z
UID:10001824-1783036800-1783123199@bellairepubliclibrary.org
SUMMARY:Closed on 4th of July
DESCRIPTION:The Library will be closed on the 4th of July. On July 4\, 1776\, the Founding Father delegates of the Second Continental Congress ratified the Declaration of Independence\, which stated that the Thirteen Colonies were no longer subject (and subordinate) to the monarch of Britain\, and established the United States of America. We hope you enjoy the festivities and the spirit of freedom this year on the 4th!  \nWhile the library will be closed for the holiday\, our digital collections are always available through the Ohio Digital Library. Download and stream ebooks\, audiobooks\, graphic novels\, and e-magazines with your library card\, anytime\, anywhere. Download the Libby app or visit https://ohdbks.overdrive.com/ to log in and download materials today!
URL:https://bellairepubliclibrary.org/event/closed-on-4th-of-july/2026-07-03/
LOCATION:Bellaire Public Library\, 330 32nd Street\, Bellaire\, OH\, 43906\, United States
CATEGORIES:Closings
ATTACH;FMTTYPE=image/png:https://bellairepubliclibrary.org/wp-content/uploads/2025/07/2025-07-04_Closed-web.png
END:VEVENT
END:VCALENDAR