BEGIN:VCALENDAR
VERSION:2.0
PRODID:-//Bellaire Public Library - ECPv6.15.20//NONSGML v1.0//EN
CALSCALE:GREGORIAN
METHOD:PUBLISH
X-ORIGINAL-URL:https://bellairepubliclibrary.org
X-WR-CALDESC:Events for Bellaire Public Library
REFRESH-INTERVAL;VALUE=DURATION:PT1H
X-Robots-Tag:noindex
X-PUBLISHED-TTL:PT1H
BEGIN:VTIMEZONE
TZID:America/New_York
BEGIN:DAYLIGHT
TZOFFSETFROM:-0500
TZOFFSETTO:-0400
TZNAME:EDT
DTSTART:20240310T070000
END:DAYLIGHT
BEGIN:STANDARD
TZOFFSETFROM:-0400
TZOFFSETTO:-0500
TZNAME:EST
DTSTART:20241103T060000
END:STANDARD
BEGIN:DAYLIGHT
TZOFFSETFROM:-0500
TZOFFSETTO:-0400
TZNAME:EDT
DTSTART:20250309T070000
END:DAYLIGHT
BEGIN:STANDARD
TZOFFSETFROM:-0400
TZOFFSETTO:-0500
TZNAME:EST
DTSTART:20251102T060000
END:STANDARD
BEGIN:DAYLIGHT
TZOFFSETFROM:-0500
TZOFFSETTO:-0400
TZNAME:EDT
DTSTART:20260308T070000
END:DAYLIGHT
BEGIN:STANDARD
TZOFFSETFROM:-0400
TZOFFSETTO:-0500
TZNAME:EST
DTSTART:20261101T060000
END:STANDARD
END:VTIMEZONE
BEGIN:VEVENT
DTSTART;TZID=America/New_York:20251201T180000
DTEND;TZID=America/New_York:20251201T190000
DTSTAMP:20260423T031229
CREATED:20250731T182454Z
LAST-MODIFIED:20260202T162158Z
UID:10002022-1764612000-1764615600@bellairepubliclibrary.org
SUMMARY:Cardio Drumming
DESCRIPTION:Cardio drumming is a high-energy workout that combines rhythmic drumming with full-body movements to upbeat music. Using a stability ball\, drumsticks\, and a bucket\, participants drum\, dance\, and sweat their way through a heart-pumping routine that’s as fun as it is effective. It’s a great way to burn calories\, boost coordination\, and relieve stress—all while feeling like a rockstar! No experience needed and great for all fitness levels!  \nCardio Drumming classes will be led by Nicole Smolenak on MONDAY nights at 6 pm. Starting in December\, the cardio drumming classes will be on Monday nights. \nNote: The Library has six cardio drumming kits available for people new to cardio drumming to test out\, but regular participants are encouraged to bring their own gear. \nWhat do you need to get started cardio drumming?\n\nA large inflated exercise ball\nA large bucket or basket to hold the ball (the opening should be just slightly smaller than the circumference of the ball so that the ball is suspended in the basket/bucket).\nDrumsticks\nEnthusiasm!\n\nThat’s it! Cardio drumming takes minimal supplies and a kit can usually be assembled for around $25-30. \nWhat it’s look like?\nHow much fun is this? You know you want to try it!
URL:https://bellairepubliclibrary.org/event/cardio-drumming-teens-adults-3-3/2025-12-01/
LOCATION:Bellaire Public Library\, 330 32nd Street\, Bellaire\, OH\, 43906\, United States
CATEGORIES:Adult Program
ATTACH;FMTTYPE=image/png:https://bellairepubliclibrary.org/wp-content/uploads/2025/07/Cardio-Drumming-Web.png
END:VEVENT
BEGIN:VEVENT
DTSTART;TZID=America/New_York:20251202T164500
DTEND;TZID=America/New_York:20251202T210000
DTSTAMP:20260423T031229
CREATED:20251202T180400Z
LAST-MODIFIED:20251202T180401Z
UID:10000154-1764693900-1764709200@bellairepubliclibrary.org
SUMMARY:Ohio Valley Promenaders - Dec. 2 Class Canceled
DESCRIPTION:The December 2nd Ohio Valley Promenaders class is canceled due to inclement weather. \n\nThe Ohio Valley Promenaders offer line dance and square dance lessons on Tuesdays in the Community Room on the lower level of the Bellaire Public Library. The lessons are open to all ages. While many of the Promenaders are seasoned pros\, the group is always accepting new members and the first lesson is free! Newcomers can jump in quickly\, as square dancing is based on walking to eight counts\, and the caller leads dancers on what to do in a “learn as you go” fashion. \nPromenaders Schedule: \n\nLine Dance: Improvers — Tuesdays from 4:45 to 6:00 pm\nLine Dance: Beginners — Tuesdays from 6:00 to 7:00 pm\nSquare Dancers — Tuesdays from 7:00 to 9:00 pm\n\nThe cost per program is $5 to help cover expenses. \nThe OV Promenaders have been dancing since 1970! \n➤ For questions about square dancing\, call Nancy Campbell at 740-676-2136.\n➤ For questions about line dancing\, call Jenny Roupe at 304-280-5211. \n*NOTE: This is not a library-affiliated program. The Ohio Valley Promenaders group solely arranges the line dancing and square dancing lessons.
URL:https://bellairepubliclibrary.org/event/ohio-valley-promenaders-6-7/
LOCATION:Bellaire Public Library\, 330 32nd Street\, Bellaire\, OH\, 43906\, United States
CATEGORIES:Non-Library Event
ATTACH;FMTTYPE=image/png:https://bellairepubliclibrary.org/wp-content/uploads/2022/08/EventFI_OVPromenaders.png
END:VEVENT
BEGIN:VEVENT
DTSTART;TZID=America/New_York:20251203T180000
DTEND;TZID=America/New_York:20251203T190000
DTSTAMP:20260423T031230
CREATED:20250926T184329Z
LAST-MODIFIED:20251215T154403Z
UID:10002015-1764784800-1764788400@bellairepubliclibrary.org
SUMMARY:BHS Thespians Christmas Play
DESCRIPTION:The Bellaire High School Thespians are back for their annual Christmas play at the Bellaire Public Library! This year\, we are excited to announce that they will be presenting “A Charlie Brown Christmas.”  The performance will start at 6 pm on Wednesday\, Dec. 3. Hot chocolate will be provided. \n\n*NOTE: This program is put on by the BHS Thespians and is not a library-sponsored event.
URL:https://bellairepubliclibrary.org/event/bhs-thespians-christmas-play-2/
LOCATION:Bellaire Public Library\, 330 32nd Street\, Bellaire\, OH\, 43906\, United States
CATEGORIES:Non-Library Event
ATTACH;FMTTYPE=image/png:https://bellairepubliclibrary.org/wp-content/uploads/2025/09/Events_BHST-2025-Christmas.png
END:VEVENT
BEGIN:VEVENT
DTSTART;TZID=America/New_York:20251204T170000
DTEND;TZID=America/New_York:20251204T173000
DTSTAMP:20260423T031230
CREATED:20250731T165051Z
LAST-MODIFIED:20251028T202558Z
UID:10001894-1764867600-1764869400@bellairepubliclibrary.org
SUMMARY:Fall Lil' Bookworms Story Time and Craft
DESCRIPTION:Story Time returns in 2025 for our fall schedule on Sept. 18 & 19! BPL’s Lil’ Bookworm Story Times and Craft are designed for children ages 3 through pre-K\, though all ages are welcome. These programs typically run about half an hour. Join Miss Bri for a story\, a craft\, and lots of fun this winter on Thursday evenings at 5:00 pm and Friday mornings at 10:30 am. \n➤ Download a brochure for our September and October Story Times!\n➤ Download a brochure for our November and December Story Times! \nFALL 2025 SCHEDULE:
URL:https://bellairepubliclibrary.org/event/fall-lil-bookworms-story-time-and-craft/2025-12-04/
LOCATION:Bellaire Public Library\, 330 32nd Street\, Bellaire\, OH\, 43906\, United States
CATEGORIES:Children's Program
ATTACH;FMTTYPE=image/png:https://bellairepubliclibrary.org/wp-content/uploads/2025/07/LBW_Fall.png
END:VEVENT
BEGIN:VEVENT
DTSTART;TZID=America/New_York:20251205T103000
DTEND;TZID=America/New_York:20251205T110000
DTSTAMP:20260423T031230
CREATED:20250731T181912Z
LAST-MODIFIED:20251215T154447Z
UID:10001906-1764930600-1764932400@bellairepubliclibrary.org
SUMMARY:Fall Lil' Bookworms Story Time and Craft
DESCRIPTION:Story Time returns in 2025 for our fall schedule on Sept. 18 & 19! BPL’s Lil’ Bookworm Story Times and Craft are designed for children ages 3 through pre-K\, though all ages are welcome. These programs typically run about half an hour. Join Miss Bri for a story\, a craft\, and lots of fun this winter on Thursday evenings at 5:00 pm and Friday mornings at 10:30 am. \n➤ Download a brochure for our September and October Story Times!\n➤ Download a brochure for our November and December Story Times! \nFALL 2025 SCHEDULE:
URL:https://bellairepubliclibrary.org/event/fall-lil-bookworms-story-time-and-craft-2-2/
LOCATION:Bellaire Public Library\, 330 32nd Street\, Bellaire\, OH\, 43906\, United States
CATEGORIES:Children's Program
ATTACH;FMTTYPE=image/png:https://bellairepubliclibrary.org/wp-content/uploads/2025/07/LBW_Fall.png
END:VEVENT
BEGIN:VEVENT
DTSTART;TZID=America/New_York:20251208T180000
DTEND;TZID=America/New_York:20251208T190000
DTSTAMP:20260423T031230
CREATED:20250731T182454Z
LAST-MODIFIED:20260202T162158Z
UID:10002023-1765216800-1765220400@bellairepubliclibrary.org
SUMMARY:Cardio Drumming
DESCRIPTION:Cardio drumming is a high-energy workout that combines rhythmic drumming with full-body movements to upbeat music. Using a stability ball\, drumsticks\, and a bucket\, participants drum\, dance\, and sweat their way through a heart-pumping routine that’s as fun as it is effective. It’s a great way to burn calories\, boost coordination\, and relieve stress—all while feeling like a rockstar! No experience needed and great for all fitness levels!  \nCardio Drumming classes will be led by Nicole Smolenak on MONDAY nights at 6 pm. Starting in December\, the cardio drumming classes will be on Monday nights. \nNote: The Library has six cardio drumming kits available for people new to cardio drumming to test out\, but regular participants are encouraged to bring their own gear. \nWhat do you need to get started cardio drumming?\n\nA large inflated exercise ball\nA large bucket or basket to hold the ball (the opening should be just slightly smaller than the circumference of the ball so that the ball is suspended in the basket/bucket).\nDrumsticks\nEnthusiasm!\n\nThat’s it! Cardio drumming takes minimal supplies and a kit can usually be assembled for around $25-30. \nWhat it’s look like?\nHow much fun is this? You know you want to try it!
URL:https://bellairepubliclibrary.org/event/cardio-drumming-teens-adults-3-3/2025-12-08/
LOCATION:Bellaire Public Library\, 330 32nd Street\, Bellaire\, OH\, 43906\, United States
CATEGORIES:Adult Program
ATTACH;FMTTYPE=image/png:https://bellairepubliclibrary.org/wp-content/uploads/2025/07/Cardio-Drumming-Web.png
END:VEVENT
BEGIN:VEVENT
DTSTART;TZID=America/New_York:20251209T164500
DTEND;TZID=America/New_York:20251209T210000
DTSTAMP:20260423T031230
CREATED:20251106T171520Z
LAST-MODIFIED:20251106T171525Z
UID:10000155-1765298700-1765314000@bellairepubliclibrary.org
SUMMARY:Ohio Valley Promenaders
DESCRIPTION:The Ohio Valley Promenaders offer line dance and square dance lessons on Tuesdays in the Community Room on the lower level of the Bellaire Public Library. The lessons are open to all ages. While many of the Promenaders are seasoned pros\, the group is always accepting new members and the first lesson is free! Newcomers can jump in quickly\, as square dancing is based on walking to eight counts\, and the caller leads dancers on what to do in a “learn as you go” fashion. \nPromenaders Schedule: \n\nLine Dance: Improvers — Tuesdays from 4:45 to 6:00 pm\nLine Dance: Beginners — Tuesdays from 6:00 to 7:00 pm\nSquare Dancers — Tuesdays from 7:00 to 9:00 pm\n\nThe cost per program is $5 to help cover expenses. \nThe OV Promenaders have been dancing since 1970! \n➤ For questions about square dancing\, call Nancy Campbell at 740-676-2136.\n➤ For questions about line dancing\, call Jenny Roupe at 304-280-5211. \n*NOTE: This is not a library-affiliated program. The Ohio Valley Promenaders group solely arranges the line dancing and square dancing lessons.
URL:https://bellairepubliclibrary.org/event/ohio-valley-promenaders-6-6/2025-12-09/
LOCATION:Bellaire Public Library\, 330 32nd Street\, Bellaire\, OH\, 43906\, United States
CATEGORIES:Non-Library Event
ATTACH;FMTTYPE=image/png:https://bellairepubliclibrary.org/wp-content/uploads/2022/08/EventFI_OVPromenaders.png
END:VEVENT
BEGIN:VEVENT
DTSTART;TZID=America/New_York:20251210T170000
DTEND;TZID=America/New_York:20251210T190000
DTSTAMP:20260423T031230
CREATED:20250929T134801Z
LAST-MODIFIED:20250929T134804Z
UID:10002016-1765386000-1765393200@bellairepubliclibrary.org
SUMMARY:Santa Visit—Cookies\, Cocoa\, and Christmas Craft
DESCRIPTION:Santa returns to the Bellaire Public Library! Write a letter to Santa telling him what you want for Christmas\, then hand-deliver it to him in person. Stay for cookies\, hot chocolate\, and a Christmas-themed craft. Kids of all ages welcome. \nDid you know our Children’s area has a whole section of holiday books? Check check out our juvenile books for Kwanza\, Hanukkah\, Christmas\, and New Year’s on display!
URL:https://bellairepubliclibrary.org/event/santa-visit-cookies-cocoa-and-christmas-craft/
LOCATION:Bellaire Public Library\, 330 32nd Street\, Bellaire\, OH\, 43906\, United States
CATEGORIES:Children's Program
ATTACH;FMTTYPE=image/png:https://bellairepubliclibrary.org/wp-content/uploads/2024/12/Santa-visit-web.png
END:VEVENT
BEGIN:VEVENT
DTSTART;TZID=America/New_York:20251215T180000
DTEND;TZID=America/New_York:20251215T190000
DTSTAMP:20260423T031230
CREATED:20250731T182454Z
LAST-MODIFIED:20260202T162158Z
UID:10002024-1765821600-1765825200@bellairepubliclibrary.org
SUMMARY:Cardio Drumming
DESCRIPTION:Cardio drumming is a high-energy workout that combines rhythmic drumming with full-body movements to upbeat music. Using a stability ball\, drumsticks\, and a bucket\, participants drum\, dance\, and sweat their way through a heart-pumping routine that’s as fun as it is effective. It’s a great way to burn calories\, boost coordination\, and relieve stress—all while feeling like a rockstar! No experience needed and great for all fitness levels!  \nCardio Drumming classes will be led by Nicole Smolenak on MONDAY nights at 6 pm. Starting in December\, the cardio drumming classes will be on Monday nights. \nNote: The Library has six cardio drumming kits available for people new to cardio drumming to test out\, but regular participants are encouraged to bring their own gear. \nWhat do you need to get started cardio drumming?\n\nA large inflated exercise ball\nA large bucket or basket to hold the ball (the opening should be just slightly smaller than the circumference of the ball so that the ball is suspended in the basket/bucket).\nDrumsticks\nEnthusiasm!\n\nThat’s it! Cardio drumming takes minimal supplies and a kit can usually be assembled for around $25-30. \nWhat it’s look like?\nHow much fun is this? You know you want to try it!
URL:https://bellairepubliclibrary.org/event/cardio-drumming-teens-adults-3-3/2025-12-15/
LOCATION:Bellaire Public Library\, 330 32nd Street\, Bellaire\, OH\, 43906\, United States
CATEGORIES:Adult Program
ATTACH;FMTTYPE=image/png:https://bellairepubliclibrary.org/wp-content/uploads/2025/07/Cardio-Drumming-Web.png
END:VEVENT
BEGIN:VEVENT
DTSTART;TZID=America/New_York:20251216T164500
DTEND;TZID=America/New_York:20251216T210000
DTSTAMP:20260423T031230
CREATED:20250804T141346Z
LAST-MODIFIED:20250804T141438Z
UID:10000156-1765903500-1765918800@bellairepubliclibrary.org
SUMMARY:Ohio Valley Promenaders
DESCRIPTION:The Ohio Valley Promenaders offer line dance and square dance lessons on Tuesdays in the Community Room on the lower level of the Bellaire Public Library. The lessons are open to all ages. While many of the Promenaders are seasoned pros\, the group is always accepting new members and the first lesson is free! Newcomers can jump in quickly\, as square dancing is based on walking to eight counts\, and the caller leads dancers on what to do in a “learn as you go” fashion. \nPromenaders Schedule: \n\nLine Dance: Improvers — Tuesdays from 4:45 to 6:00 pm\nLine Dance: Beginners — Tuesdays from 6:00 to 7:00 pm\nSquare Dancers — Tuesdays from 7:00 to 9:00 pm\n\nThe cost per program is $5 to help cover expenses. \nThe OV Promenaders have been dancing since 1970! \n➤ For questions about square dancing\, call Nancy Campbell at 740-676-2136.\n➤ For questions about line dancing\, call Jenny Roupe at 304-280-5211. \n*NOTE: This is not a library-affiliated program. The Ohio Valley Promenaders group solely arranges the line dancing and square dancing lessons.
URL:https://bellairepubliclibrary.org/event/ohio-valley-promenaders-6-5/
LOCATION:Bellaire Public Library\, 330 32nd Street\, Bellaire\, OH\, 43906\, United States
CATEGORIES:Featured,Non-Library Event
ATTACH;FMTTYPE=image/png:https://bellairepubliclibrary.org/wp-content/uploads/2022/08/EventFI_OVPromenaders.png
END:VEVENT
BEGIN:VEVENT
DTSTART;TZID=America/New_York:20251216T180000
DTEND;TZID=America/New_York:20251216T190000
DTSTAMP:20260423T031230
CREATED:20250617T180456Z
LAST-MODIFIED:20250617T182859Z
UID:10001769-1765908000-1765911600@bellairepubliclibrary.org
SUMMARY:BPL Board of Trustees Meeting
DESCRIPTION:MONTHLY BOARD MEETINGS:\nThe Board of Trustees meet on the third Tuesday of each month at 6:00 p.m. in the library’s Table Room. \nPLEASE NOTE: The June 2025 meeting will be held the fourth Tuesday of the month\, June 24. \nWhen a holiday falls on the 3rd Tuesday\, the Board will then meet on either the second or fourth Tuesday of the month at 6:00 p.m. \nAll are welcome to attend. \n\n➤ Learn more about BPL’s Board of Trustees
URL:https://bellairepubliclibrary.org/event/bpl-board-of-trustees-meeting-3/2025-12-16/
LOCATION:Bellaire Public Library\, 330 32nd Street\, Bellaire\, OH\, 43906\, United States
CATEGORIES:Meetings
ATTACH;FMTTYPE=image/jpeg:https://bellairepubliclibrary.org/wp-content/uploads/2023/07/BPL-Events_BoardMtg2.jpg
END:VEVENT
BEGIN:VEVENT
DTSTART;TZID=America/New_York:20251217T140000
DTEND;TZID=America/New_York:20251217T150000
DTSTAMP:20260423T031230
CREATED:20251117T184021Z
LAST-MODIFIED:20251215T154957Z
UID:10002007-1765980000-1765983600@bellairepubliclibrary.org
SUMMARY:Homeschool Learning Club
DESCRIPTION:The library is excited to announce the launch of its new Homeschool Learning Club (HLC)\, designed specifically for homeschooled children ages 5-10. Building on the success of our popular Lil’ Bookworms Story Time & Craft program\, this innovative learning club will engage young learners through a variety of literacy and STEAM-related activities each month. Participants will enjoy hands-on experiences that blend reading\, science\, technology\, engineering\, arts\, and mathematics\, fostering a comprehensive approach to learning in a supportive environment. \nHLC takes place on the third Wednesday of every month at 2:00 PM. \n \n2025 Schedule:\n\nSeptember 17: GAMES\nBook: “Join in and Play”\nJoin us as we read a story about meeting friends and cooperation. Following\, we will practice our skills by playing BIG games.\nOctober 15: SPACE\nBook: “The Spacesuit”\nOff we go! After reading The Spacesuit\, we will become engineers and build rocket ships to explore outer space.\nNovember 19: AMERICA\nBook: “America is…”\nWhat does freedom mean to you? Come along as we journey through America and explore different parts of our great nation. We will then make a torch to light the way.\nDecember 17: SNOW\nBook: “Snowflake Bentley”\nDo you live in a place where it snows every year? Or maybe you live somewhere so warm that it never snows! Wherever you live\, you can have fun learning about snow!\n\n  \n 
URL:https://bellairepubliclibrary.org/event/homeschool-learning-club-2/
LOCATION:Bellaire Public Library\, 330 32nd Street\, Bellaire\, OH\, 43906\, United States
CATEGORIES:Children's Program,Featured
ATTACH;FMTTYPE=image/webp:https://bellairepubliclibrary.org/wp-content/uploads/2025/09/HSLC_web-FI.webp
END:VEVENT
BEGIN:VEVENT
DTSTART;TZID=America/New_York:20251222T180000
DTEND;TZID=America/New_York:20251222T190000
DTSTAMP:20260423T031230
CREATED:20250731T182454Z
LAST-MODIFIED:20260202T162158Z
UID:10002025-1766426400-1766430000@bellairepubliclibrary.org
SUMMARY:Cardio Drumming
DESCRIPTION:Cardio drumming is a high-energy workout that combines rhythmic drumming with full-body movements to upbeat music. Using a stability ball\, drumsticks\, and a bucket\, participants drum\, dance\, and sweat their way through a heart-pumping routine that’s as fun as it is effective. It’s a great way to burn calories\, boost coordination\, and relieve stress—all while feeling like a rockstar! No experience needed and great for all fitness levels!  \nCardio Drumming classes will be led by Nicole Smolenak on MONDAY nights at 6 pm. Starting in December\, the cardio drumming classes will be on Monday nights. \nNote: The Library has six cardio drumming kits available for people new to cardio drumming to test out\, but regular participants are encouraged to bring their own gear. \nWhat do you need to get started cardio drumming?\n\nA large inflated exercise ball\nA large bucket or basket to hold the ball (the opening should be just slightly smaller than the circumference of the ball so that the ball is suspended in the basket/bucket).\nDrumsticks\nEnthusiasm!\n\nThat’s it! Cardio drumming takes minimal supplies and a kit can usually be assembled for around $25-30. \nWhat it’s look like?\nHow much fun is this? You know you want to try it!
URL:https://bellairepubliclibrary.org/event/cardio-drumming-teens-adults-3-3/2025-12-22/
LOCATION:Bellaire Public Library\, 330 32nd Street\, Bellaire\, OH\, 43906\, United States
CATEGORIES:Adult Program
ATTACH;FMTTYPE=image/png:https://bellairepubliclibrary.org/wp-content/uploads/2025/07/Cardio-Drumming-Web.png
END:VEVENT
BEGIN:VEVENT
DTSTART;TZID=America/New_York:20251224T090000
DTEND;TZID=America/New_York:20251224T190000
DTSTAMP:20260423T031230
CREATED:20251107T182108Z
LAST-MODIFIED:20251107T182835Z
UID:10002093-1766566800-1766602800@bellairepubliclibrary.org
SUMMARY:Closed Christmas Eve & Christmas Day
DESCRIPTION:The Library will be closed both Christmas Eve and Christmas Day to allow our team time to celebrate the season with loved ones.\nRegular hours will resume on Friday\, December 26. \nWishing you a joyful and peaceful holiday!
URL:https://bellairepubliclibrary.org/event/closed-christmas-eve-christmas-day/2025-12-24/
LOCATION:Bellaire Public Library\, 330 32nd Street\, Bellaire\, OH\, 43906\, United States
CATEGORIES:Closings
ATTACH;FMTTYPE=image/png:https://bellairepubliclibrary.org/wp-content/uploads/2025/11/Closed_Christmas-1.png
END:VEVENT
BEGIN:VEVENT
DTSTART;TZID=America/New_York:20251225T090000
DTEND;TZID=America/New_York:20251225T180000
DTSTAMP:20260423T031230
CREATED:20251107T182108Z
LAST-MODIFIED:20251107T182835Z
UID:10002094-1766653200-1766685600@bellairepubliclibrary.org
SUMMARY:Closed Christmas Eve & Christmas Day
DESCRIPTION:The Library will be closed both Christmas Eve and Christmas Day to allow our team time to celebrate the season with loved ones.\nRegular hours will resume on Friday\, December 26. \nWishing you a joyful and peaceful holiday!
URL:https://bellairepubliclibrary.org/event/closed-christmas-eve-christmas-day/2025-12-25/
LOCATION:Bellaire Public Library\, 330 32nd Street\, Bellaire\, OH\, 43906\, United States
CATEGORIES:Closings
ATTACH;FMTTYPE=image/png:https://bellairepubliclibrary.org/wp-content/uploads/2025/11/Closed_Christmas-1.png
END:VEVENT
BEGIN:VEVENT
DTSTART;TZID=America/New_York:20251229T180000
DTEND;TZID=America/New_York:20251229T190000
DTSTAMP:20260423T031230
CREATED:20250731T182454Z
LAST-MODIFIED:20260202T162158Z
UID:10002026-1767031200-1767034800@bellairepubliclibrary.org
SUMMARY:Cardio Drumming
DESCRIPTION:Cardio drumming is a high-energy workout that combines rhythmic drumming with full-body movements to upbeat music. Using a stability ball\, drumsticks\, and a bucket\, participants drum\, dance\, and sweat their way through a heart-pumping routine that’s as fun as it is effective. It’s a great way to burn calories\, boost coordination\, and relieve stress—all while feeling like a rockstar! No experience needed and great for all fitness levels!  \nCardio Drumming classes will be led by Nicole Smolenak on MONDAY nights at 6 pm. Starting in December\, the cardio drumming classes will be on Monday nights. \nNote: The Library has six cardio drumming kits available for people new to cardio drumming to test out\, but regular participants are encouraged to bring their own gear. \nWhat do you need to get started cardio drumming?\n\nA large inflated exercise ball\nA large bucket or basket to hold the ball (the opening should be just slightly smaller than the circumference of the ball so that the ball is suspended in the basket/bucket).\nDrumsticks\nEnthusiasm!\n\nThat’s it! Cardio drumming takes minimal supplies and a kit can usually be assembled for around $25-30. \nWhat it’s look like?\nHow much fun is this? You know you want to try it!
URL:https://bellairepubliclibrary.org/event/cardio-drumming-teens-adults-3-3/2025-12-29/
LOCATION:Bellaire Public Library\, 330 32nd Street\, Bellaire\, OH\, 43906\, United States
CATEGORIES:Adult Program
ATTACH;FMTTYPE=image/png:https://bellairepubliclibrary.org/wp-content/uploads/2025/07/Cardio-Drumming-Web.png
END:VEVENT
BEGIN:VEVENT
DTSTART;TZID=America/New_York:20251231T143000
DTEND;TZID=America/New_York:20251231T190000
DTSTAMP:20260423T031230
CREATED:20251107T190321Z
LAST-MODIFIED:20251107T190325Z
UID:10002096-1767191400-1767207600@bellairepubliclibrary.org
SUMMARY:Library Closes Early on New Year's Eve
DESCRIPTION:We will be closing at 2:30 pm on New Year’s Eve (Wednesday\, December 31) and closed all of New Year’s Day (Thursday\, January 1) to ring in the new year and give our team a well-deserved break.\nRegular hours will resume on Friday\, January 2. \nWishing you a happy\, healthy\, and prosperous New Year!
URL:https://bellairepubliclibrary.org/event/library-closes-early-on-new-years-eve-2/
LOCATION:Bellaire Public Library\, 330 32nd Street\, Bellaire\, OH\, 43906\, United States
CATEGORIES:Closings
ATTACH;FMTTYPE=image/png:https://bellairepubliclibrary.org/wp-content/uploads/2025/11/Close-Early_New-Years.png
END:VEVENT
END:VCALENDAR