BEGIN:VCALENDAR
VERSION:2.0
PRODID:-//Bellaire Public Library - ECPv6.15.20//NONSGML v1.0//EN
CALSCALE:GREGORIAN
METHOD:PUBLISH
X-WR-CALNAME:Bellaire Public Library
X-ORIGINAL-URL:https://bellairepubliclibrary.org
X-WR-CALDESC:Events for Bellaire Public Library
REFRESH-INTERVAL;VALUE=DURATION:PT1H
X-Robots-Tag:noindex
X-PUBLISHED-TTL:PT1H
BEGIN:VTIMEZONE
TZID:America/New_York
BEGIN:DAYLIGHT
TZOFFSETFROM:-0500
TZOFFSETTO:-0400
TZNAME:EDT
DTSTART:20250309T070000
END:DAYLIGHT
BEGIN:STANDARD
TZOFFSETFROM:-0400
TZOFFSETTO:-0500
TZNAME:EST
DTSTART:20251102T060000
END:STANDARD
BEGIN:DAYLIGHT
TZOFFSETFROM:-0500
TZOFFSETTO:-0400
TZNAME:EDT
DTSTART:20260308T070000
END:DAYLIGHT
BEGIN:STANDARD
TZOFFSETFROM:-0400
TZOFFSETTO:-0500
TZNAME:EST
DTSTART:20261101T060000
END:STANDARD
BEGIN:DAYLIGHT
TZOFFSETFROM:-0500
TZOFFSETTO:-0400
TZNAME:EDT
DTSTART:20270314T070000
END:DAYLIGHT
BEGIN:STANDARD
TZOFFSETFROM:-0400
TZOFFSETTO:-0500
TZNAME:EST
DTSTART:20271107T060000
END:STANDARD
BEGIN:DAYLIGHT
TZOFFSETFROM:-0500
TZOFFSETTO:-0400
TZNAME:EDT
DTSTART:20280312T070000
END:DAYLIGHT
BEGIN:STANDARD
TZOFFSETFROM:-0400
TZOFFSETTO:-0500
TZNAME:EST
DTSTART:20281105T060000
END:STANDARD
BEGIN:DAYLIGHT
TZOFFSETFROM:-0500
TZOFFSETTO:-0400
TZNAME:EDT
DTSTART:20290311T070000
END:DAYLIGHT
BEGIN:STANDARD
TZOFFSETFROM:-0400
TZOFFSETTO:-0500
TZNAME:EST
DTSTART:20291104T060000
END:STANDARD
BEGIN:DAYLIGHT
TZOFFSETFROM:-0500
TZOFFSETTO:-0400
TZNAME:EDT
DTSTART:20300310T070000
END:DAYLIGHT
BEGIN:STANDARD
TZOFFSETFROM:-0400
TZOFFSETTO:-0500
TZNAME:EST
DTSTART:20301103T060000
END:STANDARD
END:VTIMEZONE
BEGIN:VEVENT
DTSTART;VALUE=DATE:20260703
DTEND;VALUE=DATE:20260704
DTSTAMP:20260423T000838
CREATED:20250701T212454Z
LAST-MODIFIED:20250701T212538Z
UID:10001824-1783036800-1783123199@bellairepubliclibrary.org
SUMMARY:Closed on 4th of July
DESCRIPTION:The Library will be closed on the 4th of July. On July 4\, 1776\, the Founding Father delegates of the Second Continental Congress ratified the Declaration of Independence\, which stated that the Thirteen Colonies were no longer subject (and subordinate) to the monarch of Britain\, and established the United States of America. We hope you enjoy the festivities and the spirit of freedom this year on the 4th!  \nWhile the library will be closed for the holiday\, our digital collections are always available through the Ohio Digital Library. Download and stream ebooks\, audiobooks\, graphic novels\, and e-magazines with your library card\, anytime\, anywhere. Download the Libby app or visit https://ohdbks.overdrive.com/ to log in and download materials today!
URL:https://bellairepubliclibrary.org/event/closed-on-4th-of-july/2026-07-03/
LOCATION:Bellaire Public Library\, 330 32nd Street\, Bellaire\, OH\, 43906\, United States
CATEGORIES:Closings
ATTACH;FMTTYPE=image/png:https://bellairepubliclibrary.org/wp-content/uploads/2025/07/2025-07-04_Closed-web.png
END:VEVENT
BEGIN:VEVENT
DTSTART;VALUE=DATE:20270702
DTEND;VALUE=DATE:20270703
DTSTAMP:20260423T000838
CREATED:20250701T212454Z
LAST-MODIFIED:20250701T212538Z
UID:10001825-1814486400-1814572799@bellairepubliclibrary.org
SUMMARY:Closed on 4th of July
DESCRIPTION:The Library will be closed on the 4th of July. On July 4\, 1776\, the Founding Father delegates of the Second Continental Congress ratified the Declaration of Independence\, which stated that the Thirteen Colonies were no longer subject (and subordinate) to the monarch of Britain\, and established the United States of America. We hope you enjoy the festivities and the spirit of freedom this year on the 4th!  \nWhile the library will be closed for the holiday\, our digital collections are always available through the Ohio Digital Library. Download and stream ebooks\, audiobooks\, graphic novels\, and e-magazines with your library card\, anytime\, anywhere. Download the Libby app or visit https://ohdbks.overdrive.com/ to log in and download materials today!
URL:https://bellairepubliclibrary.org/event/closed-on-4th-of-july/2027-07-02/
LOCATION:Bellaire Public Library\, 330 32nd Street\, Bellaire\, OH\, 43906\, United States
CATEGORIES:Closings
ATTACH;FMTTYPE=image/png:https://bellairepubliclibrary.org/wp-content/uploads/2025/07/2025-07-04_Closed-web.png
END:VEVENT
BEGIN:VEVENT
DTSTART;VALUE=DATE:20280707
DTEND;VALUE=DATE:20280708
DTSTAMP:20260423T000838
CREATED:20250701T212454Z
LAST-MODIFIED:20250701T212538Z
UID:10001826-1846540800-1846627199@bellairepubliclibrary.org
SUMMARY:Closed on 4th of July
DESCRIPTION:The Library will be closed on the 4th of July. On July 4\, 1776\, the Founding Father delegates of the Second Continental Congress ratified the Declaration of Independence\, which stated that the Thirteen Colonies were no longer subject (and subordinate) to the monarch of Britain\, and established the United States of America. We hope you enjoy the festivities and the spirit of freedom this year on the 4th!  \nWhile the library will be closed for the holiday\, our digital collections are always available through the Ohio Digital Library. Download and stream ebooks\, audiobooks\, graphic novels\, and e-magazines with your library card\, anytime\, anywhere. Download the Libby app or visit https://ohdbks.overdrive.com/ to log in and download materials today!
URL:https://bellairepubliclibrary.org/event/closed-on-4th-of-july/2028-07-07/
LOCATION:Bellaire Public Library\, 330 32nd Street\, Bellaire\, OH\, 43906\, United States
CATEGORIES:Closings
ATTACH;FMTTYPE=image/png:https://bellairepubliclibrary.org/wp-content/uploads/2025/07/2025-07-04_Closed-web.png
END:VEVENT
BEGIN:VEVENT
DTSTART;VALUE=DATE:20290706
DTEND;VALUE=DATE:20290707
DTSTAMP:20260423T000838
CREATED:20250701T212454Z
LAST-MODIFIED:20250701T212538Z
UID:10001827-1877990400-1878076799@bellairepubliclibrary.org
SUMMARY:Closed on 4th of July
DESCRIPTION:The Library will be closed on the 4th of July. On July 4\, 1776\, the Founding Father delegates of the Second Continental Congress ratified the Declaration of Independence\, which stated that the Thirteen Colonies were no longer subject (and subordinate) to the monarch of Britain\, and established the United States of America. We hope you enjoy the festivities and the spirit of freedom this year on the 4th!  \nWhile the library will be closed for the holiday\, our digital collections are always available through the Ohio Digital Library. Download and stream ebooks\, audiobooks\, graphic novels\, and e-magazines with your library card\, anytime\, anywhere. Download the Libby app or visit https://ohdbks.overdrive.com/ to log in and download materials today!
URL:https://bellairepubliclibrary.org/event/closed-on-4th-of-july/2029-07-06/
LOCATION:Bellaire Public Library\, 330 32nd Street\, Bellaire\, OH\, 43906\, United States
CATEGORIES:Closings
ATTACH;FMTTYPE=image/png:https://bellairepubliclibrary.org/wp-content/uploads/2025/07/2025-07-04_Closed-web.png
END:VEVENT
END:VCALENDAR