BEGIN:VCALENDAR
VERSION:2.0
PRODID:-//Bellaire Public Library - ECPv6.15.20//NONSGML v1.0//EN
CALSCALE:GREGORIAN
METHOD:PUBLISH
X-WR-CALNAME:Bellaire Public Library
X-ORIGINAL-URL:https://bellairepubliclibrary.org
X-WR-CALDESC:Events for Bellaire Public Library
REFRESH-INTERVAL;VALUE=DURATION:PT1H
X-Robots-Tag:noindex
X-PUBLISHED-TTL:PT1H
BEGIN:VTIMEZONE
TZID:America/New_York
BEGIN:DAYLIGHT
TZOFFSETFROM:-0500
TZOFFSETTO:-0400
TZNAME:EDT
DTSTART:20220313T070000
END:DAYLIGHT
BEGIN:STANDARD
TZOFFSETFROM:-0400
TZOFFSETTO:-0500
TZNAME:EST
DTSTART:20221106T060000
END:STANDARD
BEGIN:DAYLIGHT
TZOFFSETFROM:-0500
TZOFFSETTO:-0400
TZNAME:EDT
DTSTART:20230312T070000
END:DAYLIGHT
BEGIN:STANDARD
TZOFFSETFROM:-0400
TZOFFSETTO:-0500
TZNAME:EST
DTSTART:20231105T060000
END:STANDARD
BEGIN:DAYLIGHT
TZOFFSETFROM:-0500
TZOFFSETTO:-0400
TZNAME:EDT
DTSTART:20240310T070000
END:DAYLIGHT
BEGIN:STANDARD
TZOFFSETFROM:-0400
TZOFFSETTO:-0500
TZNAME:EST
DTSTART:20241103T060000
END:STANDARD
END:VTIMEZONE
BEGIN:VEVENT
DTSTART;VALUE=DATE:20231021
DTEND;VALUE=DATE:20231022
DTSTAMP:20260423T193513
CREATED:20230724T181021Z
LAST-MODIFIED:20230829T202507Z
UID:10000390-1697846400-1697932799@bellairepubliclibrary.org
SUMMARY:Private Event
DESCRIPTION:The Library’s Community Room is booked on this date for a private event. \nRENT A ROOM AT THE LIBRARY:\nA large community activity room is\, for a fee\, available to rent when not in use by the library\, along with a smaller “table” room. Both can be reserved by calling the library (740-676-9421) or by stopping by at the circulation desk during regular library hours. Please be sure to review fee schedules for the Community Activity Room and the Table Room before booking a reservation. \nCheck our online activity calendar on this website for availability of rooms:\n➤ View calendar
URL:https://bellairepubliclibrary.org/event/1235/2023-10-21/
LOCATION:Bellaire Public Library\, 330 32nd Street\, Bellaire\, OH\, 43906\, United States
CATEGORIES:Non-Library Event
ATTACH;FMTTYPE=image/png:https://bellairepubliclibrary.org/wp-content/uploads/2023/07/Private-Event.png
END:VEVENT
END:VCALENDAR