BEGIN:VCALENDAR
VERSION:2.0
PRODID:-//Bellaire Public Library - ECPv6.15.20//NONSGML v1.0//EN
CALSCALE:GREGORIAN
METHOD:PUBLISH
X-WR-CALNAME:Bellaire Public Library
X-ORIGINAL-URL:https://bellairepubliclibrary.org
X-WR-CALDESC:Events for Bellaire Public Library
REFRESH-INTERVAL;VALUE=DURATION:PT1H
X-Robots-Tag:noindex
X-PUBLISHED-TTL:PT1H
BEGIN:VTIMEZONE
TZID:America/New_York
BEGIN:DAYLIGHT
TZOFFSETFROM:-0500
TZOFFSETTO:-0400
TZNAME:EDT
DTSTART:20240310T070000
END:DAYLIGHT
BEGIN:STANDARD
TZOFFSETFROM:-0400
TZOFFSETTO:-0500
TZNAME:EST
DTSTART:20241103T060000
END:STANDARD
BEGIN:DAYLIGHT
TZOFFSETFROM:-0500
TZOFFSETTO:-0400
TZNAME:EDT
DTSTART:20250309T070000
END:DAYLIGHT
BEGIN:STANDARD
TZOFFSETFROM:-0400
TZOFFSETTO:-0500
TZNAME:EST
DTSTART:20251102T060000
END:STANDARD
BEGIN:DAYLIGHT
TZOFFSETFROM:-0500
TZOFFSETTO:-0400
TZNAME:EDT
DTSTART:20260308T070000
END:DAYLIGHT
BEGIN:STANDARD
TZOFFSETFROM:-0400
TZOFFSETTO:-0500
TZNAME:EST
DTSTART:20261101T060000
END:STANDARD
END:VTIMEZONE
BEGIN:VEVENT
DTSTART;TZID=America/New_York:20251111T090000
DTEND;TZID=America/New_York:20251111T190000
DTSTAMP:20260423T031111
CREATED:20251028T202302Z
LAST-MODIFIED:20251028T202308Z
UID:4635-1762851600-1762887600@bellairepubliclibrary.org
SUMMARY:Closed on Veterans Day
DESCRIPTION:In honor of Veterans Day\, the library will be closed on Tuesday\, November 11th. We take this time to recognize and thank all who have served in the armed forces. \nAs part of our tribute\, we invite you to join us the day before for a special Veterans Day concert performed by the Shadyside Community Band. Celebrate with music and community as we recognize those who have served. \nRegular hours will resume on Wednesday\, November 12th.
URL:https://bellairepubliclibrary.org/event/closed-on-veterans-day/
LOCATION:Bellaire Public Library\, 330 32nd Street\, Bellaire\, OH\, 43906\, United States
CATEGORIES:Closings
ATTACH;FMTTYPE=image/png:https://bellairepubliclibrary.org/wp-content/uploads/2025/10/Closed_Veterans_Dat_2025_web.png
END:VEVENT
END:VCALENDAR