BEGIN:VCALENDAR
VERSION:2.0
PRODID:-//Bellaire Public Library - ECPv6.15.20//NONSGML v1.0//EN
CALSCALE:GREGORIAN
METHOD:PUBLISH
X-WR-CALNAME:Bellaire Public Library
X-ORIGINAL-URL:https://bellairepubliclibrary.org
X-WR-CALDESC:Events for Bellaire Public Library
REFRESH-INTERVAL;VALUE=DURATION:PT1H
X-Robots-Tag:noindex
X-PUBLISHED-TTL:PT1H
BEGIN:VTIMEZONE
TZID:America/New_York
BEGIN:DAYLIGHT
TZOFFSETFROM:-0500
TZOFFSETTO:-0400
TZNAME:EDT
DTSTART:20240310T070000
END:DAYLIGHT
BEGIN:STANDARD
TZOFFSETFROM:-0400
TZOFFSETTO:-0500
TZNAME:EST
DTSTART:20241103T060000
END:STANDARD
BEGIN:DAYLIGHT
TZOFFSETFROM:-0500
TZOFFSETTO:-0400
TZNAME:EDT
DTSTART:20250309T070000
END:DAYLIGHT
BEGIN:STANDARD
TZOFFSETFROM:-0400
TZOFFSETTO:-0500
TZNAME:EST
DTSTART:20251102T060000
END:STANDARD
BEGIN:DAYLIGHT
TZOFFSETFROM:-0500
TZOFFSETTO:-0400
TZNAME:EDT
DTSTART:20260308T070000
END:DAYLIGHT
BEGIN:STANDARD
TZOFFSETFROM:-0400
TZOFFSETTO:-0500
TZNAME:EST
DTSTART:20261101T060000
END:STANDARD
END:VTIMEZONE
BEGIN:VEVENT
DTSTART;TZID=America/New_York:20250901T090000
DTEND;TZID=America/New_York:20250901T190000
DTSTAMP:20260423T050149
CREATED:20250818T174105Z
LAST-MODIFIED:20250904T184332Z
UID:10002003-1756717200-1756753200@bellairepubliclibrary.org
SUMMARY:Closed Over Labor Day Weekend
DESCRIPTION:We will be clocking out early this Labor Day weekend. The Library will close one hour early at 4 p.m. on Friday\, August 29\, for a staff meeting and will be closed on Saturday\, August 30\, and Monday\, September 1\, in observance of the Labor Day weekend. \nThis weekend\, we pause in recognition of the generations of workers whose dedication\, resilience\, and sacrifice built the foundation of our nation’s prosperity. Labor Day is more than a long weekend—it’s a tribute to the dignity of work and the people who make progress possible. We wish you a meaningful and restful Labor Day weekend\, and we look forward to welcoming you back soon.
URL:https://bellairepubliclibrary.org/event/closed-over-labor-day-weekend/2025-09-01/
LOCATION:Bellaire Public Library\, 330 32nd Street\, Bellaire\, OH\, 43906\, United States
CATEGORIES:Closings
ATTACH;FMTTYPE=image/png:https://bellairepubliclibrary.org/wp-content/uploads/2025/08/Closed-Labor-Day-web.png
END:VEVENT
END:VCALENDAR