BEGIN:VCALENDAR
VERSION:2.0
PRODID:-//Bellaire Public Library - ECPv6.15.20//NONSGML v1.0//EN
CALSCALE:GREGORIAN
METHOD:PUBLISH
X-WR-CALNAME:Bellaire Public Library
X-ORIGINAL-URL:https://bellairepubliclibrary.org
X-WR-CALDESC:Events for Bellaire Public Library
REFRESH-INTERVAL;VALUE=DURATION:PT1H
X-Robots-Tag:noindex
X-PUBLISHED-TTL:PT1H
BEGIN:VTIMEZONE
TZID:America/New_York
BEGIN:DAYLIGHT
TZOFFSETFROM:-0500
TZOFFSETTO:-0400
TZNAME:EDT
DTSTART:20230312T070000
END:DAYLIGHT
BEGIN:STANDARD
TZOFFSETFROM:-0400
TZOFFSETTO:-0500
TZNAME:EST
DTSTART:20231105T060000
END:STANDARD
BEGIN:DAYLIGHT
TZOFFSETFROM:-0500
TZOFFSETTO:-0400
TZNAME:EDT
DTSTART:20240310T070000
END:DAYLIGHT
BEGIN:STANDARD
TZOFFSETFROM:-0400
TZOFFSETTO:-0500
TZNAME:EST
DTSTART:20241103T060000
END:STANDARD
BEGIN:DAYLIGHT
TZOFFSETFROM:-0500
TZOFFSETTO:-0400
TZNAME:EDT
DTSTART:20250309T070000
END:DAYLIGHT
BEGIN:STANDARD
TZOFFSETFROM:-0400
TZOFFSETTO:-0500
TZNAME:EST
DTSTART:20251102T060000
END:STANDARD
END:VTIMEZONE
BEGIN:VEVENT
DTSTART;TZID=America/New_York:20240207T180000
DTEND;TZID=America/New_York:20240207T190000
DTSTAMP:20260423T013441
CREATED:20240122T152957Z
LAST-MODIFIED:20240215T160830Z
UID:10000686-1707328800-1707332400@bellairepubliclibrary.org
SUMMARY:Great Stone Viaduct Winter Lecture Series
DESCRIPTION:WEDNESDAY NIGHTS AT 6 PM – FEB. & MAR. \nAll of the programs in this year’s series will be livestreamed on Facebook and YouTube. Following the live broadcast\, recordings of the programs will be available to watch at anytime on the Library’s website\, Facebook page\, and YouTube Channel. \n \nSince 2012\, the library has partnered with the Great Stone Viaduct Historical Education Society on a Winter Lecture Series. These programs\, featuring presentations of local historical and community topics\, are held on Wednesday nights at 6 pm in the Community Room on the lower level of the Library throughout the months of February and March. All Winter Lecture Series programs are free for the public to attend.
URL:https://bellairepubliclibrary.org/event/great-stone-viaduct-winter-lecture-series/2024-02-07/
LOCATION:Bellaire Public Library\, 330 32nd Street\, Bellaire\, OH\, 43906\, United States
CATEGORIES:Adult Program
ATTACH;FMTTYPE=image/jpeg:https://bellairepubliclibrary.org/wp-content/uploads/2024/01/BPLEvent_FI-2024.jpg
END:VEVENT
END:VCALENDAR