BEGIN:VCALENDAR
VERSION:2.0
PRODID:-//Bellaire Public Library - ECPv6.15.20//NONSGML v1.0//EN
CALSCALE:GREGORIAN
METHOD:PUBLISH
X-WR-CALNAME:Bellaire Public Library
X-ORIGINAL-URL:https://bellairepubliclibrary.org
X-WR-CALDESC:Events for Bellaire Public Library
REFRESH-INTERVAL;VALUE=DURATION:PT1H
X-Robots-Tag:noindex
X-PUBLISHED-TTL:PT1H
BEGIN:VTIMEZONE
TZID:America/New_York
BEGIN:DAYLIGHT
TZOFFSETFROM:-0500
TZOFFSETTO:-0400
TZNAME:EDT
DTSTART:20230312T070000
END:DAYLIGHT
BEGIN:STANDARD
TZOFFSETFROM:-0400
TZOFFSETTO:-0500
TZNAME:EST
DTSTART:20231105T060000
END:STANDARD
BEGIN:DAYLIGHT
TZOFFSETFROM:-0500
TZOFFSETTO:-0400
TZNAME:EDT
DTSTART:20240310T070000
END:DAYLIGHT
BEGIN:STANDARD
TZOFFSETFROM:-0400
TZOFFSETTO:-0500
TZNAME:EST
DTSTART:20241103T060000
END:STANDARD
BEGIN:DAYLIGHT
TZOFFSETFROM:-0500
TZOFFSETTO:-0400
TZNAME:EDT
DTSTART:20250309T070000
END:DAYLIGHT
BEGIN:STANDARD
TZOFFSETFROM:-0400
TZOFFSETTO:-0500
TZNAME:EST
DTSTART:20251102T060000
END:STANDARD
END:VTIMEZONE
BEGIN:VEVENT
DTSTART;TZID=America/New_York:20240619T090000
DTEND;TZID=America/New_York:20240619T190000
DTSTAMP:20260423T031032
CREATED:20240617T162323Z
LAST-MODIFIED:20250610T182400Z
UID:1919-1718787600-1718823600@bellairepubliclibrary.org
SUMMARY:Library Closed on Juneteenth
DESCRIPTION:The Bellaire Public Library will be closed all day Wednesday\, June 19\, in observation of Juneteenth. The Library will reopen for regularly scheduled hours\, on Thursday\, June 20. \n \nJuneteenth\, the oldest known celebration of the end of slavery in the United States\, is observed every year on June 19\, the day the news of the Emancipation Proclamation reached enslaved people in Galveston\, Texas\, in 1865. On June 19\, 1865\, Maj. Gen. Gordon Granger and Union soldiers arrived in Galveston\, Texas\, bringing news that the American Civil War had ended and enslaved people were now free\, 2½ years after President Abraham Lincoln’s Emancipation Proclamation became official on Jan. 1\, 1863. The 13th Amendment\, ratified in 1865\, freed enslaved people throughout the country. \nJuneteenth became a federal holiday in 2021. \nWhile the Library will be closed for the holiday\, access to the Library’s digital services is always available remotely. Check out e-books\, streaming audio or video\, digital magazines\, and more through Ohio Digital Library or through your tablet or smartphone’s Libby app. \n 
URL:https://bellairepubliclibrary.org/event/library-closed-on-juneteenth/
LOCATION:Bellaire Public Library\, 330 32nd Street\, Bellaire\, OH\, 43906\, United States
CATEGORIES:Closings
ATTACH;FMTTYPE=image/png:https://bellairepubliclibrary.org/wp-content/uploads/2024/06/Closed-Juneteenth-2024_Web.png
END:VEVENT
END:VCALENDAR