BEGIN:VCALENDAR
VERSION:2.0
PRODID:-//Bellaire Public Library - ECPv6.15.20//NONSGML v1.0//EN
CALSCALE:GREGORIAN
METHOD:PUBLISH
X-WR-CALNAME:Bellaire Public Library
X-ORIGINAL-URL:https://bellairepubliclibrary.org
X-WR-CALDESC:Events for Bellaire Public Library
REFRESH-INTERVAL;VALUE=DURATION:PT1H
X-Robots-Tag:noindex
X-PUBLISHED-TTL:PT1H
BEGIN:VTIMEZONE
TZID:America/New_York
BEGIN:DAYLIGHT
TZOFFSETFROM:-0500
TZOFFSETTO:-0400
TZNAME:EDT
DTSTART:20240310T070000
END:DAYLIGHT
BEGIN:STANDARD
TZOFFSETFROM:-0400
TZOFFSETTO:-0500
TZNAME:EST
DTSTART:20241103T060000
END:STANDARD
BEGIN:DAYLIGHT
TZOFFSETFROM:-0500
TZOFFSETTO:-0400
TZNAME:EDT
DTSTART:20250309T070000
END:DAYLIGHT
BEGIN:STANDARD
TZOFFSETFROM:-0400
TZOFFSETTO:-0500
TZNAME:EST
DTSTART:20251102T060000
END:STANDARD
BEGIN:DAYLIGHT
TZOFFSETFROM:-0500
TZOFFSETTO:-0400
TZNAME:EDT
DTSTART:20260308T070000
END:DAYLIGHT
BEGIN:STANDARD
TZOFFSETFROM:-0400
TZOFFSETTO:-0500
TZNAME:EST
DTSTART:20261101T060000
END:STANDARD
END:VTIMEZONE
BEGIN:VEVENT
DTSTART;TZID=America/New_York:20250120T090000
DTEND;TZID=America/New_York:20250120T190000
DTSTAMP:20260423T012939
CREATED:20250116T191835Z
LAST-MODIFIED:20250121T154553Z
UID:2490-1737363600-1737399600@bellairepubliclibrary.org
SUMMARY:Library Closed on Martin Luther King\, Jr. Day
DESCRIPTION:The Library will be closed on Martin Luther King\, Jr. Day\, Monday\, January 20. \nWriting in The Washington Post in 1983\, Coretta Scott King provided a vision of how the holiday honoring her husband should be observed: \n“The holiday must be substantive as well as symbolic. It must be more than a day of celebration . . . Let this holiday be a day of reflection\, a day of teaching nonviolent philosophy and strategy\, a day of getting involved in nonviolent action for social and economic progress.” \n\nWhile the Library is closed for the holiday\, our digital collections are available 24/7. Download e-books\, stream audiobooks\, and e-magazine through the Ohio Digital Library where over 150 titles are available about Martin Luther King\, Jr. alone!
URL:https://bellairepubliclibrary.org/event/library-closed-on-martin-luther-king-jr-day-2/
LOCATION:Bellaire Public Library\, 330 32nd Street\, Bellaire\, OH\, 43906\, United States
CATEGORIES:Closings
ATTACH;FMTTYPE=image/png:https://bellairepubliclibrary.org/wp-content/uploads/2025/01/Closed_MLK-Day_2025_web.png
END:VEVENT
END:VCALENDAR