BEGIN:VCALENDAR
VERSION:2.0
PRODID:-//Bellaire Public Library - ECPv6.15.20//NONSGML v1.0//EN
CALSCALE:GREGORIAN
METHOD:PUBLISH
X-WR-CALNAME:Bellaire Public Library
X-ORIGINAL-URL:https://bellairepubliclibrary.org
X-WR-CALDESC:Events for Bellaire Public Library
REFRESH-INTERVAL;VALUE=DURATION:PT1H
X-Robots-Tag:noindex
X-PUBLISHED-TTL:PT1H
BEGIN:VTIMEZONE
TZID:America/New_York
BEGIN:DAYLIGHT
TZOFFSETFROM:-0500
TZOFFSETTO:-0400
TZNAME:EDT
DTSTART:20220313T070000
END:DAYLIGHT
BEGIN:STANDARD
TZOFFSETFROM:-0400
TZOFFSETTO:-0500
TZNAME:EST
DTSTART:20221106T060000
END:STANDARD
BEGIN:DAYLIGHT
TZOFFSETFROM:-0500
TZOFFSETTO:-0400
TZNAME:EDT
DTSTART:20230312T070000
END:DAYLIGHT
BEGIN:STANDARD
TZOFFSETFROM:-0400
TZOFFSETTO:-0500
TZNAME:EST
DTSTART:20231105T060000
END:STANDARD
BEGIN:DAYLIGHT
TZOFFSETFROM:-0500
TZOFFSETTO:-0400
TZNAME:EDT
DTSTART:20240310T070000
END:DAYLIGHT
BEGIN:STANDARD
TZOFFSETFROM:-0400
TZOFFSETTO:-0500
TZNAME:EST
DTSTART:20241103T060000
END:STANDARD
END:VTIMEZONE
BEGIN:VEVENT
DTSTART;VALUE=DATE:20230220
DTEND;VALUE=DATE:20230221
DTSTAMP:20260424T135723
CREATED:20230216T193315Z
LAST-MODIFIED:20230216T193315Z
UID:419-1676851200-1676937599@bellairepubliclibrary.org
SUMMARY:Library Closed on Presidents' Day
DESCRIPTION:The Library will be closed Monday\, February 20th\, 2023\, in observance of Presidents’ Day.\nNormal Library hours will resume Tuesday\, February 21\, 2023. \nWhile the Library will be closed for the holiday\, access to the Library’s digital services are also available remotely. Check out e-books\, streaming audio or video\, digital magazines\, and more through Ohio Digital Library. Or visit the Ohio Web Library to start working on you genealogy with access to databases like HeritageQuest and Fold3\, download a Chilton Repair manual to work on your car\, or update your career skills with course taught through LinkedIn Learning.
URL:https://bellairepubliclibrary.org/event/library-closed-on-presidents-day/
LOCATION:Bellaire Public Library\, 330 32nd Street\, Bellaire\, OH\, 43906\, United States
END:VEVENT
END:VCALENDAR