BEGIN:VCALENDAR
VERSION:2.0
PRODID:-//Bellaire Public Library - ECPv6.15.20//NONSGML v1.0//EN
CALSCALE:GREGORIAN
METHOD:PUBLISH
X-WR-CALNAME:Bellaire Public Library
X-ORIGINAL-URL:https://bellairepubliclibrary.org
X-WR-CALDESC:Events for Bellaire Public Library
REFRESH-INTERVAL;VALUE=DURATION:PT1H
X-Robots-Tag:noindex
X-PUBLISHED-TTL:PT1H
BEGIN:VTIMEZONE
TZID:America/New_York
BEGIN:DAYLIGHT
TZOFFSETFROM:-0500
TZOFFSETTO:-0400
TZNAME:EDT
DTSTART:20230312T070000
END:DAYLIGHT
BEGIN:STANDARD
TZOFFSETFROM:-0400
TZOFFSETTO:-0500
TZNAME:EST
DTSTART:20231105T060000
END:STANDARD
BEGIN:DAYLIGHT
TZOFFSETFROM:-0500
TZOFFSETTO:-0400
TZNAME:EDT
DTSTART:20240310T070000
END:DAYLIGHT
BEGIN:STANDARD
TZOFFSETFROM:-0400
TZOFFSETTO:-0500
TZNAME:EST
DTSTART:20241103T060000
END:STANDARD
BEGIN:DAYLIGHT
TZOFFSETFROM:-0500
TZOFFSETTO:-0400
TZNAME:EDT
DTSTART:20250309T070000
END:DAYLIGHT
BEGIN:STANDARD
TZOFFSETFROM:-0400
TZOFFSETTO:-0500
TZNAME:EST
DTSTART:20251102T060000
END:STANDARD
END:VTIMEZONE
BEGIN:VEVENT
DTSTART;TZID=America/New_York:20241231T143000
DTEND;TZID=America/New_York:20241231T190000
DTSTAMP:20260423T012835
CREATED:20241220T210828Z
LAST-MODIFIED:20241220T210828Z
UID:2308-1735655400-1735671600@bellairepubliclibrary.org
SUMMARY:Library Closes Early on New Year's Eve
DESCRIPTION:The Bellaire Public Library will be closed Tuesday\, December 24\, and Wednesday\, December 25\, for Christmas Eve and Christmas Day. On Tuesday\, December 31\, we will be open from 9 am to 2:30 pm. We will be closed on Wednesday\, January 1\, for New Year’s Day.\n\n\n\nHappy holidays!
URL:https://bellairepubliclibrary.org/event/library-closes-early-on-new-years-eve/
LOCATION:Bellaire Public Library\, 330 32nd Street\, Bellaire\, OH\, 43906\, United States
CATEGORIES:Closings
ATTACH;FMTTYPE=image/png:https://bellairepubliclibrary.org/wp-content/uploads/2024/12/Closings_Holidays_2024.png
END:VEVENT
END:VCALENDAR