BEGIN:VCALENDAR
VERSION:2.0
PRODID:-//Bellaire Public Library - ECPv6.15.20//NONSGML v1.0//EN
CALSCALE:GREGORIAN
METHOD:PUBLISH
X-WR-CALNAME:Bellaire Public Library
X-ORIGINAL-URL:https://bellairepubliclibrary.org
X-WR-CALDESC:Events for Bellaire Public Library
REFRESH-INTERVAL;VALUE=DURATION:PT1H
X-Robots-Tag:noindex
X-PUBLISHED-TTL:PT1H
BEGIN:VTIMEZONE
TZID:America/New_York
BEGIN:DAYLIGHT
TZOFFSETFROM:-0500
TZOFFSETTO:-0400
TZNAME:EDT
DTSTART:20250309T070000
END:DAYLIGHT
BEGIN:STANDARD
TZOFFSETFROM:-0400
TZOFFSETTO:-0500
TZNAME:EST
DTSTART:20251102T060000
END:STANDARD
BEGIN:DAYLIGHT
TZOFFSETFROM:-0500
TZOFFSETTO:-0400
TZNAME:EDT
DTSTART:20260308T070000
END:DAYLIGHT
BEGIN:STANDARD
TZOFFSETFROM:-0400
TZOFFSETTO:-0500
TZNAME:EST
DTSTART:20261101T060000
END:STANDARD
BEGIN:DAYLIGHT
TZOFFSETFROM:-0500
TZOFFSETTO:-0400
TZNAME:EDT
DTSTART:20270314T070000
END:DAYLIGHT
BEGIN:STANDARD
TZOFFSETFROM:-0400
TZOFFSETTO:-0500
TZNAME:EST
DTSTART:20271107T060000
END:STANDARD
END:VTIMEZONE
BEGIN:VEVENT
DTSTART;TZID=America/New_York:20260731T160000
DTEND;TZID=America/New_York:20260731T170000
DTSTAMP:20260423T001317
CREATED:20250730T150843Z
LAST-MODIFIED:20250904T224250Z
UID:10001833-1785513600-1785517200@bellairepubliclibrary.org
SUMMARY:Library Closes at 4 PM on the Last Friday of the Month
DESCRIPTION:The Library closes one hour early once a month\, generally on the last Friday of each month\, for a staff meeting/training. \n2025 – 4:00 PM Friday Closings:\n\nJan. 3\nFeb. 7\nMar. 7\nApr. 4\nMay 30\nJune – no meeting\, library will remain open until 5:00 on June 27\nJuly 25\nAug. 29\nSept. 26\nOct. 31\nNov. 28\nDec. 26
URL:https://bellairepubliclibrary.org/event/library-closing-early-friday-feb-2-4/2026-07-31/
LOCATION:Bellaire Public Library\, 330 32nd Street\, Bellaire\, OH\, 43906\, United States
CATEGORIES:Closings
ATTACH;FMTTYPE=image/png:https://bellairepubliclibrary.org/wp-content/uploads/2025/07/BPL-Closes-4pm-Staff-Mtg.png
END:VEVENT
END:VCALENDAR