BEGIN:VCALENDAR
VERSION:2.0
PRODID:-//Bellaire Public Library - ECPv6.15.20//NONSGML v1.0//EN
CALSCALE:GREGORIAN
METHOD:PUBLISH
X-WR-CALNAME:Bellaire Public Library
X-ORIGINAL-URL:https://bellairepubliclibrary.org
X-WR-CALDESC:Events for Bellaire Public Library
REFRESH-INTERVAL;VALUE=DURATION:PT1H
X-Robots-Tag:noindex
X-PUBLISHED-TTL:PT1H
BEGIN:VTIMEZONE
TZID:America/New_York
BEGIN:DAYLIGHT
TZOFFSETFROM:-0500
TZOFFSETTO:-0400
TZNAME:EDT
DTSTART:20220313T070000
END:DAYLIGHT
BEGIN:STANDARD
TZOFFSETFROM:-0400
TZOFFSETTO:-0500
TZNAME:EST
DTSTART:20221106T060000
END:STANDARD
BEGIN:DAYLIGHT
TZOFFSETFROM:-0500
TZOFFSETTO:-0400
TZNAME:EDT
DTSTART:20230312T070000
END:DAYLIGHT
BEGIN:STANDARD
TZOFFSETFROM:-0400
TZOFFSETTO:-0500
TZNAME:EST
DTSTART:20231105T060000
END:STANDARD
BEGIN:DAYLIGHT
TZOFFSETFROM:-0500
TZOFFSETTO:-0400
TZNAME:EDT
DTSTART:20240310T070000
END:DAYLIGHT
BEGIN:STANDARD
TZOFFSETFROM:-0400
TZOFFSETTO:-0500
TZNAME:EST
DTSTART:20241103T060000
END:STANDARD
END:VTIMEZONE
BEGIN:VEVENT
DTSTART;TZID=America/New_York:20230912T173000
DTEND;TZID=America/New_York:20230912T180000
DTSTAMP:20260423T013130
CREATED:20230829T171632Z
LAST-MODIFIED:20230829T174126Z
UID:10000414-1694539800-1694541600@bellairepubliclibrary.org
SUMMARY:Lil' Bookworms Story Time and Craft
DESCRIPTION:RETURNS THE WEEK OF SEPT 12! Lil’ Bookworm Story Time and Craft will be held this fall on Tuesdays at 5:30 pm and Fridays at 10:30 am. \nBPL’s Lil’ Bookworm Story Times are designed for children ages 3-6 years old\, though all ages are welcome. The programs typically run about a half an hour. Join Miss Bri this coming fall for some reading\, crafts\, and fun! \nFall/Winter 2023 schedule coming soon!
URL:https://bellairepubliclibrary.org/event/lil-bookworms-story-time-and-craft/2023-09-12/
LOCATION:Bellaire Public Library\, 330 32nd Street\, Bellaire\, OH\, 43906\, United States
CATEGORIES:Children's Program
ATTACH;FMTTYPE=image/jpeg:https://bellairepubliclibrary.org/wp-content/uploads/2023/02/LilBkworms-Event.jpg
END:VEVENT
END:VCALENDAR