BEGIN:VCALENDAR
VERSION:2.0
PRODID:-//Bellaire Public Library - ECPv6.15.20//NONSGML v1.0//EN
CALSCALE:GREGORIAN
METHOD:PUBLISH
X-WR-CALNAME:Bellaire Public Library
X-ORIGINAL-URL:https://bellairepubliclibrary.org
X-WR-CALDESC:Events for Bellaire Public Library
REFRESH-INTERVAL;VALUE=DURATION:PT1H
X-Robots-Tag:noindex
X-PUBLISHED-TTL:PT1H
BEGIN:VTIMEZONE
TZID:America/New_York
BEGIN:DAYLIGHT
TZOFFSETFROM:-0500
TZOFFSETTO:-0400
TZNAME:EDT
DTSTART:20250309T070000
END:DAYLIGHT
BEGIN:STANDARD
TZOFFSETFROM:-0400
TZOFFSETTO:-0500
TZNAME:EST
DTSTART:20251102T060000
END:STANDARD
BEGIN:DAYLIGHT
TZOFFSETFROM:-0500
TZOFFSETTO:-0400
TZNAME:EDT
DTSTART:20260308T070000
END:DAYLIGHT
BEGIN:STANDARD
TZOFFSETFROM:-0400
TZOFFSETTO:-0500
TZNAME:EST
DTSTART:20261101T060000
END:STANDARD
BEGIN:DAYLIGHT
TZOFFSETFROM:-0500
TZOFFSETTO:-0400
TZNAME:EDT
DTSTART:20270314T070000
END:DAYLIGHT
BEGIN:STANDARD
TZOFFSETFROM:-0400
TZOFFSETTO:-0500
TZNAME:EST
DTSTART:20271107T060000
END:STANDARD
END:VTIMEZONE
BEGIN:VEVENT
DTSTART;TZID=America/New_York:20260424T103000
DTEND;TZID=America/New_York:20260424T110000
DTSTAMP:20260422T185111
CREATED:20251215T154910Z
LAST-MODIFIED:20251215T154911Z
UID:10002126-1777026600-1777028400@bellairepubliclibrary.org
SUMMARY:Lil' Bookworms Story Time & Craft
DESCRIPTION:BPL’s Lil’ Bookworm Story Times and Craft are designed for children ages 3 through Pre-K\, though all ages are welcome. These programs typically run about half an hour. Join Miss Bri for a story\, a craft\, and lots of fun on Thursday evenings at 5:00 pm and Friday mornings at 10:30 am. \nWinter/Spring 2026 Schedule: \n➤ Download a printable brochure schedule \n\nThurs.\, Jan. 15 at 5:00 PM and Fri.\, Jan. 16 at 10:30 AM\nLet it snow! Through cleverly positioned die-cut windows\, little readers can watch Flip the penguin build a snowman—then pull a tab to make it snow so he can start another. Following\, we will build our own marshmallow snowmen.\nThurs.\, Jan. 22 at 5:00 PM and Fri.\, Jan. 23 at 10:30 AM\nWhen you have a pair of warm mittens and a great imagination\, a snowy day is an invitation to explore and have fun. So Zoey the daring chicken and Sam the loyal pig are headed to the North Pole! We will then make our own watercolor resist mittens.\nThurs.\, Jan. 29 at 5:00 PM and Fri.\, Jan. 30 at 10:30 AM\nA little groundhog named Tess tries every trick to avoid going to sleep for the winter. . . and almost misses Groundhog Day! Afterwards\, at our craft time will make a little groundhog to hibernate.\nThurs.\, Feb. 5 at 5:00 PM and Fri.\, Feb. 6 at 10:30 AM\nAfter a variety of animals get stuck one by one in bubble gum melting in the road\, they must survive encounters with a big blue truck and a burly black bear. Join in the fun by making a craft fingerprint bubble gum machine.\nThurs.\, Feb. 12 at 5:00 PM and Fri.\, Feb. 13 at 10:30 AM\nFrom frilly hearts and silly hearts to growing hearts and glowing hearts\, there’s plenty of love to go around. Will you join the peas in giving away some valentines? Any kind will do… Every hap-pea heart says\, “I Love You!” Go home with a heart gnome.\nThurs.\, Feb. 19 at 5:00 PM and Fri.\, Feb. 20 at 10:30 AM\nEigen’s mom has come to talk to Mrs. Connor’s class about a special holiday called Lunar New Year. She tells them all the fun ways that the holiday is celebrated around the world. After reading the book\, we will make Chinese paper lanterns.\nThurs.\, Feb. 26 at 5:00 PM and Fri.\, Feb. 27 at 10:30 AM\nThey say a leopard can’t change its spots—but Spot sure can! There will be a special treat at today’s story time: polka-dot cookies (allergy note: sugar cookies with yellow\, blue\, red\, and green frosting).\nThurs.\, Mar. 5 at 5:00 PM and Fri.\, Mar. 6 at 10:30 AM\nThe Duckling asks for a cookie—and gets one! It isn’t fair! The Pigeon NEVER gets what he asks for. Do YOU think the Pigeon should get a cookie\, too? C is for cookie will be the craft because everyone should get a cookie.\nThurs.\, Mar. 12 at 5:00 PM and Fri.\, Mar. 13 at 10:30 AM\nWe’ll be wearing green this week. Will you? Celebrate with us by reading Happy St. Patrick’s Day from the Crayons and making your own handprint rainbow.\nThurs.\, Mar. 19 at 5:00 PM and Fri.\, Mar. 20 at 10:30 AM\nIllustrations of puddles\, peeping birds\, blooming boughs\, sunshine\, and kites are brought joyously to life in a lyrical and colorful celebration of spring. A rain-themed art project will round out today’s story time.\n Thurs.\, Mar. 26 at 5:00 PM and Fri.\, Mar. 27 at 10:30 AM\nVelvet tries to persuade Bamboo not to be afraid of dragonflies. Will it be a successful effort? After we read the story\, we will make tissue paper dragonfly friends to take home.\nThurs.\, Apr. 2 at 5:00 PM and Fri.\, Apr. 3 at 10:30 AM\nWhen Pete wakes up Easter morning\, ready to check out his basket of goodies\, he discovers the Easter Bunny needs a little extra help. Our favorite groovy blue cat puts on his bunny ears and finds a way to collect\, paint\, and hide the eggs all in time for Easter. Puffy paint marshmallow bunnies will then be created.\nThurs.\, Apr. 9 at 5:00 PM and Fri.\, Apr. 10 at 10:30 AM\nWe will read the hit book about a willful young frog with a serious identity crisis and his heard-it-all-before father. Frog wants to be anything but a frog\, but learns that being himself isn’t bad. After we read\, we’ll create frog headbands to complement the story.\nThurs.\, Apr. 16 at 5:00 PM and Fri.\, Apr. 17 at 10:30 AM\nA charming ode to a toddler’s love of trains\, whether sending toy animals on a journey around a model track or driving a cardboard-box locomotive\, this little puppy really likes trains. All aboard! Go home with your own paper train.\nThurs.\, Apr. 23 at 5:00 PM and Fri.\, Apr. 24 at 10:30 AM\nCelebrate National Library Week with Daniel Tiger and Prince Wednesday. They are so excited for story time at the library! But first they have to learn how to be calm and quiet. Can they calm down before story time starts? We’ll make paper bookworms to celebrate.\n\n 
URL:https://bellairepubliclibrary.org/event/lil-bookworms-story-time-craft-2/2026-04-24/
LOCATION:Bellaire Public Library\, 330 32nd Street\, Bellaire\, OH\, 43906\, United States
CATEGORIES:Children's Program
ATTACH;FMTTYPE=image/jpeg:https://bellairepubliclibrary.org/wp-content/uploads/2023/02/LilBkworms-Event.jpg
END:VEVENT
END:VCALENDAR