BEGIN:VCALENDAR
VERSION:2.0
PRODID:-//Bellaire Public Library - ECPv6.15.20//NONSGML v1.0//EN
CALSCALE:GREGORIAN
METHOD:PUBLISH
X-WR-CALNAME:Bellaire Public Library
X-ORIGINAL-URL:https://bellairepubliclibrary.org
X-WR-CALDESC:Events for Bellaire Public Library
REFRESH-INTERVAL;VALUE=DURATION:PT1H
X-Robots-Tag:noindex
X-PUBLISHED-TTL:PT1H
BEGIN:VTIMEZONE
TZID:America/New_York
BEGIN:DAYLIGHT
TZOFFSETFROM:-0500
TZOFFSETTO:-0400
TZNAME:EDT
DTSTART:20290311T070000
END:DAYLIGHT
BEGIN:STANDARD
TZOFFSETFROM:-0400
TZOFFSETTO:-0500
TZNAME:EST
DTSTART:20291104T060000
END:STANDARD
BEGIN:DAYLIGHT
TZOFFSETFROM:-0500
TZOFFSETTO:-0400
TZNAME:EDT
DTSTART:20300310T070000
END:DAYLIGHT
BEGIN:STANDARD
TZOFFSETFROM:-0400
TZOFFSETTO:-0500
TZNAME:EST
DTSTART:20301103T060000
END:STANDARD
BEGIN:DAYLIGHT
TZOFFSETFROM:-0500
TZOFFSETTO:-0400
TZNAME:EDT
DTSTART:20310309T070000
END:DAYLIGHT
BEGIN:STANDARD
TZOFFSETFROM:-0400
TZOFFSETTO:-0500
TZNAME:EST
DTSTART:20311102T060000
END:STANDARD
END:VTIMEZONE
BEGIN:VEVENT
DTSTART;TZID=America/New_York:20300820T164500
DTEND;TZID=America/New_York:20300820T210000
DTSTAMP:20260423T063925
CREATED:20251106T171520Z
LAST-MODIFIED:20251106T171525Z
UID:10002081-1913474700-1913490000@bellairepubliclibrary.org
SUMMARY:Ohio Valley Promenaders
DESCRIPTION:The Ohio Valley Promenaders offer line dance and square dance lessons on Tuesdays in the Community Room on the lower level of the Bellaire Public Library. The lessons are open to all ages. While many of the Promenaders are seasoned pros\, the group is always accepting new members and the first lesson is free! Newcomers can jump in quickly\, as square dancing is based on walking to eight counts\, and the caller leads dancers on what to do in a “learn as you go” fashion. \nPromenaders Schedule: \n\nLine Dance: Improvers — Tuesdays from 4:45 to 6:00 pm\nLine Dance: Beginners — Tuesdays from 6:00 to 7:00 pm\nSquare Dancers — Tuesdays from 7:00 to 9:00 pm\n\nThe cost per program is $5 to help cover expenses. \nThe OV Promenaders have been dancing since 1970! \n➤ For questions about square dancing\, call Nancy Campbell at 740-676-2136.\n➤ For questions about line dancing\, call Jenny Roupe at 304-280-5211. \n*NOTE: This is not a library-affiliated program. The Ohio Valley Promenaders group solely arranges the line dancing and square dancing lessons.
URL:https://bellairepubliclibrary.org/event/ohio-valley-promenaders-6-6/2030-08-20/
LOCATION:Bellaire Public Library\, 330 32nd Street\, Bellaire\, OH\, 43906\, United States
CATEGORIES:Non-Library Event
ATTACH;FMTTYPE=image/png:https://bellairepubliclibrary.org/wp-content/uploads/2022/08/EventFI_OVPromenaders.png
END:VEVENT
END:VCALENDAR