BEGIN:VCALENDAR
VERSION:2.0
PRODID:-//Bellaire Public Library - ECPv6.15.20//NONSGML v1.0//EN
CALSCALE:GREGORIAN
METHOD:PUBLISH
X-WR-CALNAME:Bellaire Public Library
X-ORIGINAL-URL:https://bellairepubliclibrary.org
X-WR-CALDESC:Events for Bellaire Public Library
REFRESH-INTERVAL;VALUE=DURATION:PT1H
X-Robots-Tag:noindex
X-PUBLISHED-TTL:PT1H
BEGIN:VTIMEZONE
TZID:America/New_York
BEGIN:DAYLIGHT
TZOFFSETFROM:-0500
TZOFFSETTO:-0400
TZNAME:EDT
DTSTART:20240310T070000
END:DAYLIGHT
BEGIN:STANDARD
TZOFFSETFROM:-0400
TZOFFSETTO:-0500
TZNAME:EST
DTSTART:20241103T060000
END:STANDARD
BEGIN:DAYLIGHT
TZOFFSETFROM:-0500
TZOFFSETTO:-0400
TZNAME:EDT
DTSTART:20250309T070000
END:DAYLIGHT
BEGIN:STANDARD
TZOFFSETFROM:-0400
TZOFFSETTO:-0500
TZNAME:EST
DTSTART:20251102T060000
END:STANDARD
BEGIN:DAYLIGHT
TZOFFSETFROM:-0500
TZOFFSETTO:-0400
TZNAME:EDT
DTSTART:20260308T070000
END:DAYLIGHT
BEGIN:STANDARD
TZOFFSETFROM:-0400
TZOFFSETTO:-0500
TZNAME:EST
DTSTART:20261101T060000
END:STANDARD
END:VTIMEZONE
BEGIN:VEVENT
DTSTART;TZID=America/New_York:20250306T170000
DTEND;TZID=America/New_York:20250306T173000
DTSTAMP:20260422T221957
CREATED:20250214T150428Z
LAST-MODIFIED:20250214T190643Z
UID:10001341-1741280400-1741282200@bellairepubliclibrary.org
SUMMARY:Spring Story Time and Craft
DESCRIPTION:Join us for our spring Story Times! BPL’s Lil’ Bookworm Story Times and Craft are designed for children ages 3 through Pre-K\, though all ages are welcome. These programs typically run for about half an hour. Join Miss Bri for a story\, a craft\, and lots of fun this winter on Thursday evenings at 5:00 pm and Friday mornings at 10:30 am. \n➤ Download a brochure for our March and April Story Times! \nMarch and April Schedule\n \n\nThurs.\, Mar. 6 at 5:00 PM and Fri.\, Mar. 7 at 10:30 AM \nPIGS: Farmer Greenstalk and his family are having troubles on the farm. Can the pigs come to the rescue? We’ll find out at this week’s Story Time\, then we’ll make a “muddy” pig craft!\nThurs.\, Mar. 13 at 5:00 PM and Fri.\, Mar. 14 at 10:30 AM\nSt. Patrick’s Day: Shamrocks are a big part of St. Patrick’s Day\, but what do they really look like? We’ll find out reading “Luck of the Irish\,” then we’ll make an “If I Found The Leprechaun’s Gold…” craft. Wear green!\nThurs.\, Mar. 20 at 5:00 PM and Fri.\, Mar. 21 at 10:30 AM\nSPRING: Bunny is excited to share the smelly springtime smells of spring with Bear. What do you think they’ll smell? We’ll find out reading “Spring Stinks\,” then make a spring tulip craft.\nThurs.\, Mar. 27 at 5:00 PM and Fri.\, Mar. 28 at 10:30 AM\nDUCKS: Duck infuriates Cat\, meowing instead of quacking like he should. How long can Duck keep up the ruse? We’ll find out reading “You are NOT a Duck\,” then make a “Duck in a pond” craft.\nThurs.\, Apr. 3 at 5:00 PM and Fri.\, Apr. 4 at 10:30 AM \nFAMILY: What happens at a family reunion? Miss Bri’s mom will let us know when she reads us “One Big Family\,” then we’ll make our own “Family Tree.”\nThurs.\, Apr. 10 at 5:00 PM and Fri.\, Apr. 11 at 10:30 AM\nNATIONAL LIBRARY WEEK: We LOVE National Library Week! To celebrate our holiday\, we’ll read “A Love Letter to My Library.” Then we’ll make our own reading glasses!\nThurs.\, Apr. 17 at 5:00 PM and Fri.\, Apr. 18 at 10:30 AM \nEASTER: If the Easter Bunny isn’t delivering the eggs\, who is? We’ll find out reading “Peter Easter Frog\,” then we’ll make a sponge-painted Easter Bunny.\nThurs.\, Apr. 24 at 5:00 PM and Fri.\, Apr. 25 at 10:30 AM\nBUGS: Butterflies\, bumblebees\, and beetles\, oh my! We’ll get the buzz on these bugs and more this week when we read “Some Bugs\,” then we’ll make a paper plate snail craft.
URL:https://bellairepubliclibrary.org/event/spring-story-time-and-craft/2025-03-06/
LOCATION:Bellaire Public Library\, 330 32nd Street\, Bellaire\, OH\, 43906\, United States
CATEGORIES:Children's Program
ATTACH;FMTTYPE=image/png:https://bellairepubliclibrary.org/wp-content/uploads/2025/02/BPL-Events_LBW-spring-simple.png
END:VEVENT
END:VCALENDAR