BEGIN:VCALENDAR
VERSION:2.0
PRODID:-//Bellaire Public Library - ECPv6.15.20//NONSGML v1.0//EN
CALSCALE:GREGORIAN
METHOD:PUBLISH
X-WR-CALNAME:Bellaire Public Library
X-ORIGINAL-URL:https://bellairepubliclibrary.org
X-WR-CALDESC:Events for Bellaire Public Library
REFRESH-INTERVAL;VALUE=DURATION:PT1H
X-Robots-Tag:noindex
X-PUBLISHED-TTL:PT1H
BEGIN:VTIMEZONE
TZID:America/New_York
BEGIN:DAYLIGHT
TZOFFSETFROM:-0500
TZOFFSETTO:-0400
TZNAME:EDT
DTSTART:20240310T070000
END:DAYLIGHT
BEGIN:STANDARD
TZOFFSETFROM:-0400
TZOFFSETTO:-0500
TZNAME:EST
DTSTART:20241103T060000
END:STANDARD
BEGIN:DAYLIGHT
TZOFFSETFROM:-0500
TZOFFSETTO:-0400
TZNAME:EDT
DTSTART:20250309T070000
END:DAYLIGHT
BEGIN:STANDARD
TZOFFSETFROM:-0400
TZOFFSETTO:-0500
TZNAME:EST
DTSTART:20251102T060000
END:STANDARD
BEGIN:DAYLIGHT
TZOFFSETFROM:-0500
TZOFFSETTO:-0400
TZNAME:EDT
DTSTART:20260308T070000
END:DAYLIGHT
BEGIN:STANDARD
TZOFFSETFROM:-0400
TZOFFSETTO:-0500
TZNAME:EST
DTSTART:20261101T060000
END:STANDARD
END:VTIMEZONE
BEGIN:VEVENT
DTSTART;TZID=America/New_York:20250611T130000
DTEND;TZID=America/New_York:20250611T140000
DTSTAMP:20260423T031230
CREATED:20250529T201151Z
LAST-MODIFIED:20250730T151053Z
UID:3984-1749646800-1749650400@bellairepubliclibrary.org
SUMMARY:Summer Reading Club: Grades 1-6
DESCRIPTION:Join us for Summer Reading Club\, Wednesdays at 1 pm throughout June and July\, as we Color Our World! Our Summer Reading Club programs are for kids in grades 1-6. \nSummer Reading Club Schedule:\nJune 4: Kick-Off Party!\nSign up for this year’s Summer Reading Program and visit our fun activity stations to earn a yummy donut from The Holy Rollers Food Truck! \nJune 11: Rainbow Shadows\nMake your own rainbow using science with our friends from the S.M.A.R.T. Center. \nJune 18: Color Your Backyard\nLearn about the beautiful colors of our world with local photographer\, Daniel Caron. \nJune 25: Music & Movement\nGet ready to tell stories through music and movement with local music teacher\, Ashley Krieger. \nJuly 2: Wild Mask Making & Kirke’s Ice Cream\nCreate your own wild beast papier mache mask with local art teacher\, Sara Cunningham. Then\, cool off with some delicious ice cream from the Kirke’s Ice Cream Truck. \nJuly 9: Mask Decorating\nInspired by the popular children’s book “Where the Wild Things Are\,” you will have the chance to paint your own “wild beast” papier mache mask (craft continued from July 2nd\, but kids missing the July 9 program will still have the chance to decorate a mask). \nJuly 16: Our Colorful World\nJoin Samantha Hearn from Belmont County Soil and Water Conservation to discover our world’s natural resources. \nJuly 23: Green Cleaning\nLearn how to keep our Earth clean with Natalie Lysle from the JB Green Team. \nJuly 30: Program to be announced \n \n 
URL:https://bellairepubliclibrary.org/event/summer-reading-club-ages-6-12-2/
CATEGORIES:Children's Program
ATTACH;FMTTYPE=image/png:https://bellairepubliclibrary.org/wp-content/uploads/2025/05/2025-SRP-SRC_web-FI.png
END:VEVENT
END:VCALENDAR