BEGIN:VCALENDAR
VERSION:2.0
PRODID:-//Bellaire Public Library - ECPv6.15.20//NONSGML v1.0//EN
CALSCALE:GREGORIAN
METHOD:PUBLISH
X-WR-CALNAME:Bellaire Public Library
X-ORIGINAL-URL:https://bellairepubliclibrary.org
X-WR-CALDESC:Events for Bellaire Public Library
REFRESH-INTERVAL;VALUE=DURATION:PT1H
X-Robots-Tag:noindex
X-PUBLISHED-TTL:PT1H
BEGIN:VTIMEZONE
TZID:America/New_York
BEGIN:DAYLIGHT
TZOFFSETFROM:-0500
TZOFFSETTO:-0400
TZNAME:EDT
DTSTART:20230312T070000
END:DAYLIGHT
BEGIN:STANDARD
TZOFFSETFROM:-0400
TZOFFSETTO:-0500
TZNAME:EST
DTSTART:20231105T060000
END:STANDARD
BEGIN:DAYLIGHT
TZOFFSETFROM:-0500
TZOFFSETTO:-0400
TZNAME:EDT
DTSTART:20240310T070000
END:DAYLIGHT
BEGIN:STANDARD
TZOFFSETFROM:-0400
TZOFFSETTO:-0500
TZNAME:EST
DTSTART:20241103T060000
END:STANDARD
BEGIN:DAYLIGHT
TZOFFSETFROM:-0500
TZOFFSETTO:-0400
TZNAME:EDT
DTSTART:20250309T070000
END:DAYLIGHT
BEGIN:STANDARD
TZOFFSETFROM:-0400
TZOFFSETTO:-0500
TZNAME:EST
DTSTART:20251102T060000
END:STANDARD
END:VTIMEZONE
BEGIN:VEVENT
DTSTART;TZID=America/New_York:20240605T130000
DTEND;TZID=America/New_York:20240605T140000
DTSTAMP:20260423T012624
CREATED:20240502T202250Z
LAST-MODIFIED:20240606T191844Z
UID:10000764-1717592400-1717596000@bellairepubliclibrary.org
SUMMARY:Summer Reading Program
DESCRIPTION:Summer Reading Programs for kids grades 1-6 will be held on Wednesdays at 1 p.m. from June 5th to July 24th.  \nProgram Schedule:\nJune 5th – Vic the Ranger (magician) \nJune 12th – Oglebay’s Zoo to You \nJune 19th – CLOSED (no programming) \nJune 26th – Bird House Painting Day \nJuly 3rd – S’mores Ice Cream Sundaes and bring your own campfire stories to tell \nJuly 10th – Daniel Caron: Backyard Adventures \nJuly 17th – Create your own Cryptid with colored air dry clay \nJuly 24th – Scouts Visit and demonstration
URL:https://bellairepubliclibrary.org/event/summer-reading-program-2/2024-06-05/
LOCATION:Bellaire Public Library\, 330 32nd Street\, Bellaire\, OH\, 43906\, United States
CATEGORIES:Children's Program
ATTACH;FMTTYPE=image/png:https://bellairepubliclibrary.org/wp-content/uploads/2024/05/Event-FI_Summer-reading-program_2024.png
END:VEVENT
END:VCALENDAR