BEGIN:VCALENDAR
VERSION:2.0
PRODID:-//Bellaire Public Library - ECPv6.15.20//NONSGML v1.0//EN
CALSCALE:GREGORIAN
METHOD:PUBLISH
X-ORIGINAL-URL:https://bellairepubliclibrary.org
X-WR-CALDESC:Events for Bellaire Public Library
REFRESH-INTERVAL;VALUE=DURATION:PT1H
X-Robots-Tag:noindex
X-PUBLISHED-TTL:PT1H
BEGIN:VTIMEZONE
TZID:America/New_York
BEGIN:DAYLIGHT
TZOFFSETFROM:-0500
TZOFFSETTO:-0400
TZNAME:EDT
DTSTART:20220313T070000
END:DAYLIGHT
BEGIN:STANDARD
TZOFFSETFROM:-0400
TZOFFSETTO:-0500
TZNAME:EST
DTSTART:20221106T060000
END:STANDARD
BEGIN:DAYLIGHT
TZOFFSETFROM:-0500
TZOFFSETTO:-0400
TZNAME:EDT
DTSTART:20230312T070000
END:DAYLIGHT
BEGIN:STANDARD
TZOFFSETFROM:-0400
TZOFFSETTO:-0500
TZNAME:EST
DTSTART:20231105T060000
END:STANDARD
BEGIN:DAYLIGHT
TZOFFSETFROM:-0500
TZOFFSETTO:-0400
TZNAME:EDT
DTSTART:20240310T070000
END:DAYLIGHT
BEGIN:STANDARD
TZOFFSETFROM:-0400
TZOFFSETTO:-0500
TZNAME:EST
DTSTART:20241103T060000
END:STANDARD
END:VTIMEZONE
BEGIN:VEVENT
DTSTART;TZID=America/New_York:20231211T173000
DTEND;TZID=America/New_York:20231211T183000
DTSTAMP:20260424T083452
CREATED:20231204T203857Z
LAST-MODIFIED:20231204T204253Z
UID:10000451-1702315800-1702319400@bellairepubliclibrary.org
SUMMARY:5 Legal Documents Every Adult Needs
DESCRIPTION:Join Jarvis Law Office for this free informational event: 5 Legal Documents Every Adult Needs.* \nAging can bring many challenges and risks\, some of the biggest being probate fees\, taxes\, illness\, nursing home costs\, and financial scams. Learn how to protect yourself\, your family\, and your assets. \nGetting Your Affairs in Order: Documents to Prepare for the Future \nNo one ever plans to be sick or disabled. Yet\, planning for the future can make all the difference in an emergency and at the end-of-life. Being prepared and having important documents in a single place can give you peace of mind\, help ensure your wishes are honored\, and ease the burden on your loved ones. \n• Durable Power of Attorney\n• Healthcare Power of Attorney\n• Living Will\n• HIPAA\n• Will \n \n*NOTE: This is not a Library-sponsored event. This program is sponsored by Jarvis Law Office. \n 
URL:https://bellairepubliclibrary.org/event/1568/
LOCATION:Bellaire Public Library\, 330 32nd Street\, Bellaire\, OH\, 43906\, United States
CATEGORIES:Non-Library Event
ATTACH;FMTTYPE=image/jpeg:https://bellairepubliclibrary.org/wp-content/uploads/2023/12/JLO-5docs.jpg
END:VEVENT
END:VCALENDAR