BEGIN:VCALENDAR
VERSION:2.0
PRODID:-//Bellaire Public Library - ECPv6.15.20//NONSGML v1.0//EN
CALSCALE:GREGORIAN
METHOD:PUBLISH
X-WR-CALNAME:Bellaire Public Library
X-ORIGINAL-URL:https://bellairepubliclibrary.org
X-WR-CALDESC:Events for Bellaire Public Library
REFRESH-INTERVAL;VALUE=DURATION:PT1H
X-Robots-Tag:noindex
X-PUBLISHED-TTL:PT1H
BEGIN:VTIMEZONE
TZID:America/New_York
BEGIN:DAYLIGHT
TZOFFSETFROM:-0500
TZOFFSETTO:-0400
TZNAME:EDT
DTSTART:20220313T070000
END:DAYLIGHT
BEGIN:STANDARD
TZOFFSETFROM:-0400
TZOFFSETTO:-0500
TZNAME:EST
DTSTART:20221106T060000
END:STANDARD
BEGIN:DAYLIGHT
TZOFFSETFROM:-0500
TZOFFSETTO:-0400
TZNAME:EDT
DTSTART:20230312T070000
END:DAYLIGHT
BEGIN:STANDARD
TZOFFSETFROM:-0400
TZOFFSETTO:-0500
TZNAME:EST
DTSTART:20231105T060000
END:STANDARD
BEGIN:DAYLIGHT
TZOFFSETFROM:-0500
TZOFFSETTO:-0400
TZNAME:EDT
DTSTART:20240310T070000
END:DAYLIGHT
BEGIN:STANDARD
TZOFFSETFROM:-0400
TZOFFSETTO:-0500
TZNAME:EST
DTSTART:20241103T060000
END:STANDARD
BEGIN:DAYLIGHT
TZOFFSETFROM:-0500
TZOFFSETTO:-0400
TZNAME:EDT
DTSTART:20250309T070000
END:DAYLIGHT
BEGIN:STANDARD
TZOFFSETFROM:-0400
TZOFFSETTO:-0500
TZNAME:EST
DTSTART:20251102T060000
END:STANDARD
END:VTIMEZONE
BEGIN:VEVENT
DTSTART;TZID=America/New_York:20240618T163000
DTEND;TZID=America/New_York:20240618T184500
DTSTAMP:20260423T045710
CREATED:20240617T175803Z
LAST-MODIFIED:20240617T175803Z
UID:10001034-1718728200-1718736300@bellairepubliclibrary.org
SUMMARY:Free Line Dancing Lessons
DESCRIPTION:C’mon down and learn how to line dance at this summer’s heel-kicking “Adventure at your Library”! Jenny Roupe will be providing free line dancing lessons for our Summer Reading program. Middle schoolers\, high schoolers\, and adults welcome. \nLessons are given in the Library’s Community Room from 4:30 pm to 6:45 pm on the following dates: \n\nJune 18\nJuly 16\nJuly 30\n\n 
URL:https://bellairepubliclibrary.org/event/free-line-dancing-lessons-2/
LOCATION:Bellaire Public Library\, 330 32nd Street\, Bellaire\, OH\, 43906\, United States
CATEGORIES:All Ages
ATTACH;FMTTYPE=image/png:https://bellairepubliclibrary.org/wp-content/uploads/2023/07/BPL-Events_LineDance.png
END:VEVENT
BEGIN:VEVENT
DTSTART;TZID=America/New_York:20230822T163000
DTEND;TZID=America/New_York:20230822T184500
DTSTAMP:20260423T045710
CREATED:20230724T165931Z
LAST-MODIFIED:20230724T170032Z
UID:10000362-1692721800-1692729900@bellairepubliclibrary.org
SUMMARY:Free Line Dancing Lessons
DESCRIPTION:C’mon down and learn how to dance\, “All Together Now\,” in a line! Jenny Roupe will be providing free line dancing lessons for our Summer Reading program. \nLessons are given n the Library’s Community Room from 4:30 pm to 6:45 pm on the following dates: \n\nJune 13\nJune 20\nJuly 18\nAugust 8\nAugust 22\n\n 
URL:https://bellairepubliclibrary.org/event/free-line-dancing-lessons/2023-08-22/
LOCATION:Bellaire Public Library\, 330 32nd Street\, Bellaire\, OH\, 43906\, United States
CATEGORIES:All Ages
ATTACH;FMTTYPE=image/png:https://bellairepubliclibrary.org/wp-content/uploads/2023/07/BPL-Events_LineDance.png
END:VEVENT
BEGIN:VEVENT
DTSTART;TZID=America/New_York:20230808T163000
DTEND;TZID=America/New_York:20230808T184500
DTSTAMP:20260423T045710
CREATED:20230724T165931Z
LAST-MODIFIED:20230724T170032Z
UID:10000361-1691512200-1691520300@bellairepubliclibrary.org
SUMMARY:Free Line Dancing Lessons
DESCRIPTION:C’mon down and learn how to dance\, “All Together Now\,” in a line! Jenny Roupe will be providing free line dancing lessons for our Summer Reading program. \nLessons are given n the Library’s Community Room from 4:30 pm to 6:45 pm on the following dates: \n\nJune 13\nJune 20\nJuly 18\nAugust 8\nAugust 22\n\n 
URL:https://bellairepubliclibrary.org/event/free-line-dancing-lessons/2023-08-08/
LOCATION:Bellaire Public Library\, 330 32nd Street\, Bellaire\, OH\, 43906\, United States
CATEGORIES:All Ages
ATTACH;FMTTYPE=image/png:https://bellairepubliclibrary.org/wp-content/uploads/2023/07/BPL-Events_LineDance.png
END:VEVENT
BEGIN:VEVENT
DTSTART;TZID=America/New_York:20230718T163000
DTEND;TZID=America/New_York:20230718T184500
DTSTAMP:20260423T045710
CREATED:20230724T165931Z
LAST-MODIFIED:20230724T170032Z
UID:10000360-1689697800-1689705900@bellairepubliclibrary.org
SUMMARY:Free Line Dancing Lessons
DESCRIPTION:C’mon down and learn how to dance\, “All Together Now\,” in a line! Jenny Roupe will be providing free line dancing lessons for our Summer Reading program. \nLessons are given n the Library’s Community Room from 4:30 pm to 6:45 pm on the following dates: \n\nJune 13\nJune 20\nJuly 18\nAugust 8\nAugust 22\n\n 
URL:https://bellairepubliclibrary.org/event/free-line-dancing-lessons/2023-07-18/
LOCATION:Bellaire Public Library\, 330 32nd Street\, Bellaire\, OH\, 43906\, United States
CATEGORIES:All Ages
ATTACH;FMTTYPE=image/png:https://bellairepubliclibrary.org/wp-content/uploads/2023/07/BPL-Events_LineDance.png
END:VEVENT
BEGIN:VEVENT
DTSTART;TZID=America/New_York:20230620T163000
DTEND;TZID=America/New_York:20230620T184500
DTSTAMP:20260423T045710
CREATED:20230724T165931Z
LAST-MODIFIED:20230724T170032Z
UID:10000359-1687278600-1687286700@bellairepubliclibrary.org
SUMMARY:Free Line Dancing Lessons
DESCRIPTION:C’mon down and learn how to dance\, “All Together Now\,” in a line! Jenny Roupe will be providing free line dancing lessons for our Summer Reading program. \nLessons are given n the Library’s Community Room from 4:30 pm to 6:45 pm on the following dates: \n\nJune 13\nJune 20\nJuly 18\nAugust 8\nAugust 22\n\n 
URL:https://bellairepubliclibrary.org/event/free-line-dancing-lessons/2023-06-20/
LOCATION:Bellaire Public Library\, 330 32nd Street\, Bellaire\, OH\, 43906\, United States
CATEGORIES:All Ages
ATTACH;FMTTYPE=image/png:https://bellairepubliclibrary.org/wp-content/uploads/2023/07/BPL-Events_LineDance.png
END:VEVENT
BEGIN:VEVENT
DTSTART;TZID=America/New_York:20230613T163000
DTEND;TZID=America/New_York:20230613T184500
DTSTAMP:20260423T045710
CREATED:20230724T165931Z
LAST-MODIFIED:20230724T170032Z
UID:10000358-1686673800-1686681900@bellairepubliclibrary.org
SUMMARY:Free Line Dancing Lessons
DESCRIPTION:C’mon down and learn how to dance\, “All Together Now\,” in a line! Jenny Roupe will be providing free line dancing lessons for our Summer Reading program. \nLessons are given n the Library’s Community Room from 4:30 pm to 6:45 pm on the following dates: \n\nJune 13\nJune 20\nJuly 18\nAugust 8\nAugust 22\n\n 
URL:https://bellairepubliclibrary.org/event/free-line-dancing-lessons/2023-06-13/
LOCATION:Bellaire Public Library\, 330 32nd Street\, Bellaire\, OH\, 43906\, United States
CATEGORIES:All Ages
ATTACH;FMTTYPE=image/png:https://bellairepubliclibrary.org/wp-content/uploads/2023/07/BPL-Events_LineDance.png
END:VEVENT
END:VCALENDAR